BEGIN:VCALENDAR
VERSION:2.0
PRODID:-//Digital vernetzen - Lokal handeln - ECPv6.15.20//NONSGML v1.0//EN
CALSCALE:GREGORIAN
METHOD:PUBLISH
X-WR-CALNAME:Digital vernetzen - Lokal handeln
X-ORIGINAL-URL:https://lokal-vernetzen.de
X-WR-CALDESC:Veranstaltungen für Digital vernetzen - Lokal handeln
REFRESH-INTERVAL;VALUE=DURATION:PT1H
X-Robots-Tag:noindex
X-PUBLISHED-TTL:PT1H
BEGIN:VTIMEZONE
TZID:Europe/Berlin
BEGIN:DAYLIGHT
TZOFFSETFROM:+0100
TZOFFSETTO:+0200
TZNAME:CEST
DTSTART:20230326T010000
END:DAYLIGHT
BEGIN:STANDARD
TZOFFSETFROM:+0200
TZOFFSETTO:+0100
TZNAME:CET
DTSTART:20231029T010000
END:STANDARD
BEGIN:DAYLIGHT
TZOFFSETFROM:+0100
TZOFFSETTO:+0200
TZNAME:CEST
DTSTART:20240331T010000
END:DAYLIGHT
BEGIN:STANDARD
TZOFFSETFROM:+0200
TZOFFSETTO:+0100
TZNAME:CET
DTSTART:20241027T010000
END:STANDARD
BEGIN:DAYLIGHT
TZOFFSETFROM:+0100
TZOFFSETTO:+0200
TZNAME:CEST
DTSTART:20250330T010000
END:DAYLIGHT
BEGIN:STANDARD
TZOFFSETFROM:+0200
TZOFFSETTO:+0100
TZNAME:CET
DTSTART:20251026T010000
END:STANDARD
END:VTIMEZONE
BEGIN:VEVENT
DTSTART;TZID=Europe/Berlin:20241128T190000
DTEND;TZID=Europe/Berlin:20241128T203000
DTSTAMP:20260422T132434
CREATED:20241021T131156Z
LAST-MODIFIED:20241021T131156Z
UID:10009139-1732820400-1732825800@lokal-vernetzen.de
SUMMARY:Natur-Stammtisch in Altenberg: Projekte zu Streuobstwiesen
DESCRIPTION:Natur-Stammtisch in Altenberg: Projekte zu Streuobstwiesen \nDie Naturschutzstation Osterzgebirge stellt bei diesem monatlichen Treffen öffentlich ihre aktuellen Projekte in einem kleinen Vortrag vor. Interessierte Einheimische\, Gäste und Neugierige sind herzlich eingeladen zu dieser Veranstaltung\, bei der auch Fragen und Anregungen willkommen sind! Dieses Mal steht auf dem Programm: Fokus Streuobstwiese – Projekt „3 Äpfel für Goldmarie“\, Baumpflanzungen und andere. Gerade im Herbst ist Pflanzzeit bei Obstbaum und Co. – welche Vorhaben unsere Experten gerade im Landkreis umsetzen\, erfahren Sie an diesem Abend.
URL:https://lokal-vernetzen.de/single-event/natur-stammtisch-in-altenberg-projekte-zu-streuobstwiesen/
LOCATION:Am Bahnhof 1\, 01773 Altenberg\, 1. Etage\, Am Bahnhof 1\, Altenberg\, 01773
CATEGORIES:Austausch / Vernetzung / Diskussion
ATTACH;FMTTYPE=image/jpeg:https://lokal-vernetzen.de/wp-content/uploads/2024/10/66f2e0a926646.jpg
ORGANIZER;CN="Naturschutzstation Osterzgebirge e.V.":MAILTO:info@naturschutzstation-osterzgebirge.de
END:VEVENT
END:VCALENDAR