BEGIN:VCALENDAR
VERSION:2.0
PRODID:-//Digital vernetzen - Lokal handeln - ECPv6.15.20//NONSGML v1.0//EN
CALSCALE:GREGORIAN
METHOD:PUBLISH
X-ORIGINAL-URL:https://lokal-vernetzen.de
X-WR-CALDESC:Veranstaltungen für Digital vernetzen - Lokal handeln
REFRESH-INTERVAL;VALUE=DURATION:PT1H
X-Robots-Tag:noindex
X-PUBLISHED-TTL:PT1H
BEGIN:VTIMEZONE
TZID:Europe/Berlin
BEGIN:DAYLIGHT
TZOFFSETFROM:+0100
TZOFFSETTO:+0200
TZNAME:CEST
DTSTART:20240331T010000
END:DAYLIGHT
BEGIN:STANDARD
TZOFFSETFROM:+0200
TZOFFSETTO:+0100
TZNAME:CET
DTSTART:20241027T010000
END:STANDARD
BEGIN:DAYLIGHT
TZOFFSETFROM:+0100
TZOFFSETTO:+0200
TZNAME:CEST
DTSTART:20250330T010000
END:DAYLIGHT
BEGIN:STANDARD
TZOFFSETFROM:+0200
TZOFFSETTO:+0100
TZNAME:CET
DTSTART:20251026T010000
END:STANDARD
BEGIN:DAYLIGHT
TZOFFSETFROM:+0100
TZOFFSETTO:+0200
TZNAME:CEST
DTSTART:20260329T010000
END:DAYLIGHT
BEGIN:STANDARD
TZOFFSETFROM:+0200
TZOFFSETTO:+0100
TZNAME:CET
DTSTART:20261025T010000
END:STANDARD
END:VTIMEZONE
BEGIN:VEVENT
DTSTART;TZID=Europe/Berlin:20250909T160000
DTEND;TZID=Europe/Berlin:20250909T180000
DTSTAMP:20260425T060832
CREATED:20240314T103111Z
LAST-MODIFIED:20240314T131123Z
UID:10007207-1757433600-1757440800@lokal-vernetzen.de
SUMMARY:Kinderzirkus Domino (ab Vorschulalter)
DESCRIPTION:Kinderzirkus Domino \nRasant zu geht es im Kinderzirkus Domino. Hier können Kinder im Vorschulalter ihren Spaß an Bewegung einmal anders ausleben: Mit angeleiteten Übungen\, die sie hinführen zu einem bunten Zirkusprogramm. Ganz spielerisch und mit viel Magie. \nReinschnuppern ausdrücklich erwünscht! \nGebühr: 10€ pro Monat. \n  \n(Bild: Hier.)
URL:https://lokal-vernetzen.de/single-event/kinderzirkus-domino-ab-vorschulalter/2025-09-09/
LOCATION:Kuppelhalle Tharandt\, Pienner Str. 13\, 01737 Tharandt
CATEGORIES:Kinder und Jugendliche,Osterzgebirge,Sport
ATTACH;FMTTYPE=image/jpeg:https://lokal-vernetzen.de/wp-content/uploads/2024/03/Domino.jpg
ORGANIZER;CN="Tharandter Domino e.V.":MAILTO:kultur@kuppelhalle.com
END:VEVENT
BEGIN:VEVENT
DTSTART;TZID=Europe/Berlin:20250927T100000
DTEND;TZID=Europe/Berlin:20250927T113000
DTSTAMP:20260425T060832
CREATED:20250826T123859Z
LAST-MODIFIED:20250827T095217Z
UID:10009977-1758967200-1758972600@lokal-vernetzen.de
SUMMARY:Interkulturelle Woche: Gute-Laune-Spaziergang mit Sindy Schoß
DESCRIPTION:„Lach mit – bleib fit!“ Unter diesem Motto findet etwa einmal im Monat ein „Gute-Laune-Spaziergang“ statt. Die Idee ist einfach: Gemeinsam lachen\, Spaß haben und dabei die wohltuende Natur unserer schönen Waldgebiete genießen. In einer ungezwungenen Atmosphäre werden unter erfahrener Anleitung mit spielerischen Übungen Atem- und Entspannungstechniken vermittelt. Keine Vorkenntnisse erforderlich – einfach anmelden und mitlachen! Kinder bis 10 Jahre können in Begleitung Erwachsener kostenfrei teilnehmen.\n\nAnmeldung hier.\nTeilnahmegebühr: 10 € pro Person\, Kinder bis 10 Jahre kostenfrei\nKontakt: VHS in Pirna\, Tel. 03501 710 990\, info@vhs-ssoe.de \n  \nBild: Interkulturelle Woche
URL:https://lokal-vernetzen.de/single-event/interkulturelle-woche-gute-laune-spaziergang-mit-sindy-schoss/
LOCATION:VHS Pirna\, Geschwister-Scholl-Str. 2\, 01796 Pirna
CATEGORIES:Aktionstage,an der frischen Luft,Austausch / Vernetzung / Diskussion,Kultur
ATTACH;FMTTYPE=image/jpeg:https://lokal-vernetzen.de/wp-content/uploads/2025/08/IKW-Pirna-2025-Kachel-1-werber.jpg
ORGANIZER;CN="vhs S%C3%A4chsische Schweiz-Osterzgebirge e. V.":MAILTO:info@vhs-ssoe.de
END:VEVENT
BEGIN:VEVENT
DTSTART;TZID=Europe/Berlin:20250927T100000
DTEND;TZID=Europe/Berlin:20250927T133000
DTSTAMP:20260425T060832
CREATED:20250630T075546Z
LAST-MODIFIED:20250630T075546Z
UID:10009941-1758967200-1758979800@lokal-vernetzen.de
SUMMARY:Johannes-Förster-Sportfest 2025
DESCRIPTION:Johannes-Förster-Sportfest 2025 \nDas Johannes-Förster-Sportfest ist eine vom Kreissportbund organisierte Sportveranstaltung\, bei dem Menschen mit und ohne Behinderung aufeinandertreffen. In Gedenken an den Bundesverdienstkreuzträger Johannes Förster heißt das einstige Sportfest „Behinderte und Freunde“ seit 2023 Johannes-Förster-Sportfest. \nDie Teilnehmenden messen sich in verschiedenen sportlichen Einzel-Disziplinen und Staffelwettkämpfen miteinander. Der Spaß steht stets im Vordergrund. Mehrere Einrichtungen für Menschen mit Behinderungen und Förderschulen aus dem Landkreis Sächsische Schweiz-Osterzgebirge nehmen an dem jährlich stattfindenden Sportfest teil. Dort stellen sie ihre Begeisterung am Sporttreiben unter Beweis.
URL:https://lokal-vernetzen.de/single-event/johannes-foerster-sportfest-2025/
LOCATION:Kohlbergstadion Pirna\, Rottwerndorfer Str. 60\, 01796 Pirna\, Rottwerndorfer Str. 60\, Pirna\, 01796
CATEGORIES:Aktionstage,an der frischen Luft,Austausch / Vernetzung / Diskussion,Osterzgebirge,Sächsische Schweiz,Sport
ATTACH;FMTTYPE=image/png:https://lokal-vernetzen.de/wp-content/uploads/2025/06/685e7bbbd0edc.png
END:VEVENT
END:VCALENDAR