BEGIN:VCALENDAR
VERSION:2.0
PRODID:-//Digital vernetzen - Lokal handeln - ECPv6.15.20//NONSGML v1.0//EN
CALSCALE:GREGORIAN
METHOD:PUBLISH
X-ORIGINAL-URL:https://lokal-vernetzen.de
X-WR-CALDESC:Veranstaltungen für Digital vernetzen - Lokal handeln
REFRESH-INTERVAL;VALUE=DURATION:PT1H
X-Robots-Tag:noindex
X-PUBLISHED-TTL:PT1H
BEGIN:VTIMEZONE
TZID:Europe/Berlin
BEGIN:DAYLIGHT
TZOFFSETFROM:+0100
TZOFFSETTO:+0200
TZNAME:CEST
DTSTART:20230326T010000
END:DAYLIGHT
BEGIN:STANDARD
TZOFFSETFROM:+0200
TZOFFSETTO:+0100
TZNAME:CET
DTSTART:20231029T010000
END:STANDARD
BEGIN:DAYLIGHT
TZOFFSETFROM:+0100
TZOFFSETTO:+0200
TZNAME:CEST
DTSTART:20240331T010000
END:DAYLIGHT
BEGIN:STANDARD
TZOFFSETFROM:+0200
TZOFFSETTO:+0100
TZNAME:CET
DTSTART:20241027T010000
END:STANDARD
BEGIN:DAYLIGHT
TZOFFSETFROM:+0100
TZOFFSETTO:+0200
TZNAME:CEST
DTSTART:20250330T010000
END:DAYLIGHT
BEGIN:STANDARD
TZOFFSETFROM:+0200
TZOFFSETTO:+0100
TZNAME:CET
DTSTART:20251026T010000
END:STANDARD
END:VTIMEZONE
BEGIN:VEVENT
DTSTART;TZID=Europe/Berlin:20240901T110000
DTEND;TZID=Europe/Berlin:20240901T160000
DTSTAMP:20260425T190938
CREATED:20240822T102003Z
LAST-MODIFIED:20240822T102003Z
UID:10008725-1725188400-1725206400@lokal-vernetzen.de
SUMMARY:Nachbarschafts-Fest 2024
DESCRIPTION:Nachbarschafts-Fest 2024 \nBeim Nachbarschaftsfest in Cínovec sind an diesem Sommernachmittag Wegbegleiter der Naturschutzstation und alle Interessierten mit ihren Familien herzlich willkommen! Egal ob Jung oder Alt\, aus der Ferne oder dem Haus gegenüber… Alle sind eingeladen zu dieser lebendigen\, deutsch-tschechischen Begegnung an der Kirche in Cínovec. Bringt euren Lieblingskuchen mit und verkostet ihn mit dem Nachbarn – für Kaffee ist gesorgt.
URL:https://lokal-vernetzen.de/single-event/nachbarschafts-fest-2024/
LOCATION:Cinovec\, Himmelfahrtskirche
CATEGORIES:an der frischen Luft,Austausch / Vernetzung / Diskussion,Feier
ATTACH;FMTTYPE=image/jpeg:https://lokal-vernetzen.de/wp-content/uploads/2024/08/66c59f0ed57e3.jpg
ORGANIZER;CN="Naturschutzstation Osterzgebirge e.V.":MAILTO:info@naturschutzstation-osterzgebirge.de
END:VEVENT
END:VCALENDAR