BEGIN:VCALENDAR
VERSION:2.0
PRODID:-//Digital vernetzen - Lokal handeln - ECPv6.15.20//NONSGML v1.0//EN
CALSCALE:GREGORIAN
METHOD:PUBLISH
X-WR-CALNAME:Digital vernetzen - Lokal handeln
X-ORIGINAL-URL:https://lokal-vernetzen.de
X-WR-CALDESC:Veranstaltungen für Digital vernetzen - Lokal handeln
REFRESH-INTERVAL;VALUE=DURATION:PT1H
X-Robots-Tag:noindex
X-PUBLISHED-TTL:PT1H
BEGIN:VTIMEZONE
TZID:Europe/Berlin
BEGIN:DAYLIGHT
TZOFFSETFROM:+0100
TZOFFSETTO:+0200
TZNAME:CEST
DTSTART:20250330T010000
END:DAYLIGHT
BEGIN:STANDARD
TZOFFSETFROM:+0200
TZOFFSETTO:+0100
TZNAME:CET
DTSTART:20251026T010000
END:STANDARD
BEGIN:DAYLIGHT
TZOFFSETFROM:+0100
TZOFFSETTO:+0200
TZNAME:CEST
DTSTART:20260329T010000
END:DAYLIGHT
BEGIN:STANDARD
TZOFFSETFROM:+0200
TZOFFSETTO:+0100
TZNAME:CET
DTSTART:20261025T010000
END:STANDARD
BEGIN:DAYLIGHT
TZOFFSETFROM:+0100
TZOFFSETTO:+0200
TZNAME:CEST
DTSTART:20270328T010000
END:DAYLIGHT
BEGIN:STANDARD
TZOFFSETFROM:+0200
TZOFFSETTO:+0100
TZNAME:CET
DTSTART:20271031T010000
END:STANDARD
END:VTIMEZONE
BEGIN:VEVENT
DTSTART;TZID=Europe/Berlin:20260304T160000
DTEND;TZID=Europe/Berlin:20260304T180000
DTSTAMP:20260424T031736
CREATED:20260227T091015Z
LAST-MODIFIED:20260227T091015Z
UID:10010445-1772640000-1772647200@lokal-vernetzen.de
SUMMARY:Fahrradwerkstatt auf dem Sonnenstein - Hilfe bei der Fahrradreparatur
DESCRIPTION:Jeden 2. Mittwoch könnt ihr von 16 – 18:00 gemeinsam mit Ehrenamtlichen eure Fahrräder reparieren. Wir freuen uns über gespendete Fahrräder\, Helme\, Schlösser\, Ersatzteile und Werkzeuge. \nBild: AG Asylsuchende SOE e.V.
URL:https://lokal-vernetzen.de/single-event/fahrradwerkstatt-auf-dem-sonnenstein-hilfe-bei-der-fahrradreparatur/2026-03-04/
LOCATION:“Sonnenfeld”\, Straße der Jugend 2\, Pirna-Sonnenstein
CATEGORIES:Austausch / Vernetzung / Diskussion
ATTACH;FMTTYPE=image/jpeg:https://lokal-vernetzen.de/wp-content/uploads/2024/07/699d72cb13bb9.jpg
ORGANIZER;CN="AG Asylsuchende SOE e.V.":MAILTO:info@ag-asylsuchende.de
END:VEVENT
BEGIN:VEVENT
DTSTART;TZID=Europe/Berlin:20260314T110000
DTEND;TZID=Europe/Berlin:20260314T160000
DTSTAMP:20260424T031736
CREATED:20260109T110034Z
LAST-MODIFIED:20260109T110034Z
UID:10010432-1773486000-1773504000@lokal-vernetzen.de
SUMMARY:TeamUp! - engagiert mit der Sportjugend
DESCRIPTION:Bei unserer Veranstaltung „TeamUp! – engagiert mit der Sportjugend“ bekommst du einen spannenden Einblick in die Arbeit der Sportjugend. Du erfährst außerdem\, wie vielseitig Ehrenamt im Sport ist und warum dein Engagement wirklich etwas bewegen kann. \nNeben spannenden Infos erwarten dich coole sportliche Mitmachaktionen\, bei denen du selbst aktiv werden kannst. Komm also gern in bequemer/sportlicher Bekleidung. Außerdem gibt es viele Möglichkeiten\, andere Jugendliche kennenzulernen\, sich auszutauschen und neue Kontakte zu knüpfen. \nUnd natürlich ist auch für das leibliche Wohl gesorgt – Essen und Getränke gibt’s inklusive! \nWir freuen uns auf dich!
URL:https://lokal-vernetzen.de/single-event/teamup-engagiert-mit-der-sportjugend/
LOCATION:Pirnaer Ruderverein 1872 e.V.\, An der Elbe 11\, Pirna\, 01796
CATEGORIES:Aktionstage,Austausch / Vernetzung / Diskussion,Kinder und Jugendliche,Sport
ATTACH;FMTTYPE=image/jpeg:https://lokal-vernetzen.de/wp-content/uploads/2026/01/695fd5ad99e78-scaled.jpg
END:VEVENT
BEGIN:VEVENT
DTSTART;TZID=Europe/Berlin:20260318T160000
DTEND;TZID=Europe/Berlin:20260318T180000
DTSTAMP:20260424T031736
CREATED:20260227T091015Z
LAST-MODIFIED:20260227T091015Z
UID:10010446-1773849600-1773856800@lokal-vernetzen.de
SUMMARY:Fahrradwerkstatt auf dem Sonnenstein - Hilfe bei der Fahrradreparatur
DESCRIPTION:Jeden 2. Mittwoch könnt ihr von 16 – 18:00 gemeinsam mit Ehrenamtlichen eure Fahrräder reparieren. Wir freuen uns über gespendete Fahrräder\, Helme\, Schlösser\, Ersatzteile und Werkzeuge. \nBild: AG Asylsuchende SOE e.V.
URL:https://lokal-vernetzen.de/single-event/fahrradwerkstatt-auf-dem-sonnenstein-hilfe-bei-der-fahrradreparatur/2026-03-18/
LOCATION:“Sonnenfeld”\, Straße der Jugend 2\, Pirna-Sonnenstein
CATEGORIES:Austausch / Vernetzung / Diskussion
ATTACH;FMTTYPE=image/jpeg:https://lokal-vernetzen.de/wp-content/uploads/2024/07/699d72cb13bb9.jpg
ORGANIZER;CN="AG Asylsuchende SOE e.V.":MAILTO:info@ag-asylsuchende.de
END:VEVENT
BEGIN:VEVENT
DTSTART;TZID=Europe/Berlin:20260324T183000
DTEND;TZID=Europe/Berlin:20260324T203000
DTSTAMP:20260424T031736
CREATED:20260115T083144Z
LAST-MODIFIED:20260115T085143Z
UID:10010433-1774377000-1774384200@lokal-vernetzen.de
SUMMARY:Der Mensch im Mittelpunkt - Damit Vereinsarbeit leichter gelingt
DESCRIPTION:Deine Arbeit mit Ehrenamtlichen ist wertvoll – und oft ganz schön herausfordernd.\nWer ehrenamtlich Tätige koordiniert\, motiviert und begleitet\, braucht nicht nur Organisationstalent\, sondern auch Fingerspitzengefühl\, Klarheit und innere Stärke.\nDieser zweistündige Workshop mit Gabriela Höer vermittelt dir wertvolle Tipps\, die deine Arbeit erleichtern.\nWas du aus dem Workshop mitnimmst:\nPraktische Tipps zur Organisation und Motivation von Ehrenamtlichen.\nWie bleibe ich gelassen im Alltag – auch wenn es mal stressig wird.\nAustausch mit anderen Verantwortlichen\, die ähnliche Herausforderungen kennen.\nWerkzeug\, damit ich meine Aufgabe mit mehr Freude und weniger Belastung meistere. \nMax. 16 Teilnehmende \nAnmeldung bis 16.03.2026 hier. \nDie Teilnahme ist kostenfrei – Spendenempfehlung: 15 € \nWeitere Infos findest du auf unserer Homepage. \nBild: Gogelmosch e. V.
URL:https://lokal-vernetzen.de/single-event/der-mensch-im-mittelpunkt-damit-vereinsarbeit-leichter-gelingt/
LOCATION:Gogelmoschhaus\, Schafbergblick 1\, 01833 Stolpen
CATEGORIES:Austausch / Vernetzung / Diskussion,Kurse
ATTACH;FMTTYPE=image/jpeg:https://lokal-vernetzen.de/wp-content/uploads/2026/01/696781dd19508.jpg
ORGANIZER;CN="Gogelmosch e. V.":MAILTO:verein@gogelmoschhaus.de
END:VEVENT
BEGIN:VEVENT
DTSTART;TZID=Europe/Berlin:20260331T183000
DTEND;TZID=Europe/Berlin:20260331T203000
DTSTAMP:20260424T031736
CREATED:20260115T084831Z
LAST-MODIFIED:20260115T084831Z
UID:10010434-1774981800-1774989000@lokal-vernetzen.de
SUMMARY:Richtig essen - im Job & Ehrenamt
DESCRIPTION:Deine ehrenamtliche Arbeit ist wertvoll – und oft ganz schön herausfordernd. Wie schaffe ich es\, im Alltagsgeschehen dennoch gut für mich zu sorgen und mir Zeit für eine gute Ernährung zu nehmen? Das erfährst du in diesem zweistündigen Workshop mit Gabriela Höer.\nWas du aus dem Workshop mitnimmst:\nEinfache Tricks\, wie gute Ernährung auch an vollen Tagen möglich wird.\nErfahre\, wann dein Körper wirklich Energie braucht\nTipps\, wie du deinen Körper schnell und sinnvoll versorgst.\nAlltagstaugliche Lösungen\, die dich entlasten und gut tun. \nMax. 16 Teilnehmende\nAnmeldung bitte bis 23.03.26\nDie Teilnahme ist kostenfrei – Spendenempfehlung: 15 € \nAlle weiteren Infos findest du auf unserer Homepage. \nBild: Gogelmosch e. V.
URL:https://lokal-vernetzen.de/single-event/richtig-essen-im-job-ehrenamt/
LOCATION:Gogelmoschhaus\, Schafbergblick 1\, 01833 Stolpen
CATEGORIES:Austausch / Vernetzung / Diskussion,Kurse
ATTACH;FMTTYPE=image/jpeg:https://lokal-vernetzen.de/wp-content/uploads/2026/01/69678baec7851.jpg
ORGANIZER;CN="Gogelmosch e. V.":MAILTO:verein@gogelmoschhaus.de
END:VEVENT
END:VCALENDAR