BEGIN:VCALENDAR
VERSION:2.0
PRODID:-//Digital vernetzen - Lokal handeln - ECPv6.15.20//NONSGML v1.0//EN
CALSCALE:GREGORIAN
METHOD:PUBLISH
X-WR-CALNAME:Digital vernetzen - Lokal handeln
X-ORIGINAL-URL:https://lokal-vernetzen.de
X-WR-CALDESC:Veranstaltungen für Digital vernetzen - Lokal handeln
REFRESH-INTERVAL;VALUE=DURATION:PT1H
X-Robots-Tag:noindex
X-PUBLISHED-TTL:PT1H
BEGIN:VTIMEZONE
TZID:Europe/Berlin
BEGIN:DAYLIGHT
TZOFFSETFROM:+0100
TZOFFSETTO:+0200
TZNAME:CEST
DTSTART:20250330T010000
END:DAYLIGHT
BEGIN:STANDARD
TZOFFSETFROM:+0200
TZOFFSETTO:+0100
TZNAME:CET
DTSTART:20251026T010000
END:STANDARD
BEGIN:DAYLIGHT
TZOFFSETFROM:+0100
TZOFFSETTO:+0200
TZNAME:CEST
DTSTART:20260329T010000
END:DAYLIGHT
BEGIN:STANDARD
TZOFFSETFROM:+0200
TZOFFSETTO:+0100
TZNAME:CET
DTSTART:20261025T010000
END:STANDARD
BEGIN:DAYLIGHT
TZOFFSETFROM:+0100
TZOFFSETTO:+0200
TZNAME:CEST
DTSTART:20270328T010000
END:DAYLIGHT
BEGIN:STANDARD
TZOFFSETFROM:+0200
TZOFFSETTO:+0100
TZNAME:CET
DTSTART:20271031T010000
END:STANDARD
END:VTIMEZONE
BEGIN:VEVENT
DTSTART;TZID=Europe/Berlin:20260211T083000
DTEND;TZID=Europe/Berlin:20260211T170000
DTSTAMP:20260423T184955
CREATED:20260115T101029Z
LAST-MODIFIED:20260115T101029Z
UID:10010435-1770798600-1770829200@lokal-vernetzen.de
SUMMARY:Detektive im Einsatz - Winterferientage im GogelmoschHaus
DESCRIPTION:Ein spannendes Detektiv-Projekt in der 1. WinterFerienWoche vom 11. bis 13. Februar.\nMittwoch\, 11.02.: 08:30 – 15:00 Uhr\nDonnerstag\, 12.02.: 08:30 – 17:00 Uhr\nFreitag\, 13.02.: 08:30 – 15:00 Uhr \nKnobeleien\, Rätselkrimis\, geheime Botschaften und Agenten-Spiele stehen in den drei Tagen auf dem Programm. Highlight ist ein Ausflug nach Dresden ins Erich-Kästner-Museum\, wo die Kinder ein spannendes Detektivspiel erwartet.\nZum Abschluss der erfolgreich gelösten Fälle bekommt jeder sein eigenes Detektiv-Diplom! \nFür Stärkung bei allen kniffligen Herausforderungen sorgt eine ordentliche Verpflegung für die Nachwuchs-Detektive. \nTeilnahmegebühr inklusive Verpflegung:\nVereinsmitglieder 60 €\nAlle anderen 75 € \nFür Kinder von 8 bis 12 Jahren\nAnmeldung hier. \nAlle weiteren Infos auf der Veranstaltungswebsite. \n  \nBild: Gogelmosch e. V.
URL:https://lokal-vernetzen.de/single-event/detektive-im-einsatz-winterferientage-im-gogelmoschhaus/
LOCATION:Gogelmoschhaus\, Schafbergblick 1\, 01833 Stolpen
CATEGORIES:Aktionstage,Kinder und Jugendliche
ATTACH;FMTTYPE=image/jpeg:https://lokal-vernetzen.de/wp-content/uploads/2026/01/69678dbc15176.jpg
ORGANIZER;CN="Gogelmosch e. V.":MAILTO:verein@gogelmoschhaus.de
END:VEVENT
BEGIN:VEVENT
DTSTART;TZID=Europe/Berlin:20260218T100000
DTEND;TZID=Europe/Berlin:20260218T170000
DTSTAMP:20260423T184955
CREATED:20260115T111037Z
LAST-MODIFIED:20260115T111037Z
UID:10010437-1771408800-1771434000@lokal-vernetzen.de
SUMMARY:MUSIK FÜR ALLE - Frühlingsmusical
DESCRIPTION:Musikalischer Ferien-Workshop für ein frühlingsfrohes Mini-Musical. Es erwarten euch drei Tage voller Spaß bei Musik\, Tanz und Schauspiel.\nKindgerecht steigen wir Schritt für Schritt in das Musical ein\, üben eine Choreographie\, proben mit den Instrumenten die einzelnen Passagen und studieren die kurzen Liedtexte ein.\nGemeinsam verbringt ihr drei klangvolle Tage\, in denen ihr eure Rolle für die Musical-Aufführung im März vor Publikum findet. \nKonzept\, Leitung\, Betreuung: Sabine Ufer\, Musiklehrerin mit langjähriger Grundschulpraxis \nWann: 18. bis 20. Februar 2026\, 10:00 – 15:00 Uhr.\nAlter: ab 6 Jahren \nTeilnahme kostenfrei – Spendenempfehlung 30\,00 €\nAnmeldung hier. \nWeiter Infos auf der Internetseite. \nBild: Gogelmosch e. V.
URL:https://lokal-vernetzen.de/single-event/musik-fuer-alle-fruehlingsmusical/
LOCATION:Gogelmoschhaus\, Schafbergblick 1\, 01833 Stolpen
CATEGORIES:Aktionstage,Kinder und Jugendliche,Kultur
ATTACH;FMTTYPE=image/jpeg:https://lokal-vernetzen.de/wp-content/uploads/2026/01/6967927a3c66b.jpg
ORGANIZER;CN="Gogelmosch e. V.":MAILTO:verein@gogelmoschhaus.de
END:VEVENT
END:VCALENDAR