BEGIN:VCALENDAR
VERSION:2.0
PRODID:-//Digital vernetzen - Lokal handeln - ECPv6.15.20//NONSGML v1.0//EN
CALSCALE:GREGORIAN
METHOD:PUBLISH
X-ORIGINAL-URL:https://lokal-vernetzen.de
X-WR-CALDESC:Veranstaltungen für Digital vernetzen - Lokal handeln
REFRESH-INTERVAL;VALUE=DURATION:PT1H
X-Robots-Tag:noindex
X-PUBLISHED-TTL:PT1H
BEGIN:VTIMEZONE
TZID:Europe/Berlin
BEGIN:DAYLIGHT
TZOFFSETFROM:+0100
TZOFFSETTO:+0200
TZNAME:CEST
DTSTART:20220327T010000
END:DAYLIGHT
BEGIN:STANDARD
TZOFFSETFROM:+0200
TZOFFSETTO:+0100
TZNAME:CET
DTSTART:20221030T010000
END:STANDARD
BEGIN:DAYLIGHT
TZOFFSETFROM:+0100
TZOFFSETTO:+0200
TZNAME:CEST
DTSTART:20230326T010000
END:DAYLIGHT
BEGIN:STANDARD
TZOFFSETFROM:+0200
TZOFFSETTO:+0100
TZNAME:CET
DTSTART:20231029T010000
END:STANDARD
BEGIN:DAYLIGHT
TZOFFSETFROM:+0100
TZOFFSETTO:+0200
TZNAME:CEST
DTSTART:20240331T010000
END:DAYLIGHT
BEGIN:STANDARD
TZOFFSETFROM:+0200
TZOFFSETTO:+0100
TZNAME:CET
DTSTART:20241027T010000
END:STANDARD
END:VTIMEZONE
BEGIN:VEVENT
DTSTART;TZID=Europe/Berlin:20230516T183000
DTEND;TZID=Europe/Berlin:20230516T203000
DTSTAMP:20260424T002427
CREATED:20230419T103017Z
LAST-MODIFIED:20230419T111642Z
UID:10006559-1684261800-1684269000@lokal-vernetzen.de
SUMMARY:Crowdfunding - von der Idee zur Kampagne
DESCRIPTION:Referent Matthias Daberstiel \nViele Geldgeber:innen geben kleine Summen. Diese haben den Charakter einer Spende und sollen helfen\, vorteilhafte Projekte zu realisieren. Die Idee des sogenannten „Crowdfunding“\nnutzen nicht nur Vereine und Stiftungen. Auch Social Entrepreneure und Privatleute setzen darauf. Vorgestellt wird\, wie diese Methode funktioniert\, wen sie anspricht und wie man eine erfolgreiche Kampagne organisiert. Gesprochen werden soll über Fehler und Erfolge. \nAlle unsere Online-Seminare können wir Ihnen auch als Vor-Ort-Veranstaltungen anbieten. Sprechen Sie uns dazu jederzeit gern an. \nAnmeldung\nIhre Fragen oder verbindliche Anmeldung zu den Terminen richten Sie bitte per E-Mail an: \nweiterbildung-ehrenamt@aktion-zivilcourage.de \nDie Online-Seminare finden über Zoom statt. Die Zugangsdaten zu den Seminaren werden nach der Anmeldung an Sie per E-Mail geschickt. Die Teilnahme ist kostenlos.\nHaben Sie Interesse an anderen Themen\, sprechen Sie uns jederzeit gern an. Weitere Informationen zum Projekt erfahren Sie hier: https://weiterbildung-ehrenamt-sachsen.de/
URL:https://lokal-vernetzen.de/single-event/crowdfunding-von-der-idee-zur-kampagne/
CATEGORIES:Vortrag
ATTACH;FMTTYPE=image/jpeg:https://lokal-vernetzen.de/wp-content/uploads/2023/04/crowdfunding-finanzierung-helfen-gemeinnuetziges-konzept-scaled.jpg
ORGANIZER;CN="Aktion Zivilcourage e.V.":MAILTO:post@aktion-zivilcourage.de
END:VEVENT
END:VCALENDAR