BEGIN:VCALENDAR
VERSION:2.0
PRODID:-//Digital vernetzen - Lokal handeln - ECPv6.15.20//NONSGML v1.0//EN
CALSCALE:GREGORIAN
METHOD:PUBLISH
X-WR-CALNAME:Digital vernetzen - Lokal handeln
X-ORIGINAL-URL:https://lokal-vernetzen.de
X-WR-CALDESC:Veranstaltungen für Digital vernetzen - Lokal handeln
REFRESH-INTERVAL;VALUE=DURATION:PT1H
X-Robots-Tag:noindex
X-PUBLISHED-TTL:PT1H
BEGIN:VTIMEZONE
TZID:Europe/Berlin
BEGIN:DAYLIGHT
TZOFFSETFROM:+0100
TZOFFSETTO:+0200
TZNAME:CEST
DTSTART:20220327T010000
END:DAYLIGHT
BEGIN:STANDARD
TZOFFSETFROM:+0200
TZOFFSETTO:+0100
TZNAME:CET
DTSTART:20221030T010000
END:STANDARD
BEGIN:DAYLIGHT
TZOFFSETFROM:+0100
TZOFFSETTO:+0200
TZNAME:CEST
DTSTART:20230326T010000
END:DAYLIGHT
BEGIN:STANDARD
TZOFFSETFROM:+0200
TZOFFSETTO:+0100
TZNAME:CET
DTSTART:20231029T010000
END:STANDARD
BEGIN:DAYLIGHT
TZOFFSETFROM:+0100
TZOFFSETTO:+0200
TZNAME:CEST
DTSTART:20240331T010000
END:DAYLIGHT
BEGIN:STANDARD
TZOFFSETFROM:+0200
TZOFFSETTO:+0100
TZNAME:CET
DTSTART:20241027T010000
END:STANDARD
END:VTIMEZONE
BEGIN:VEVENT
DTSTART;TZID=Europe/Berlin:20230925T170000
DTEND;TZID=Europe/Berlin:20230925T200000
DTSTAMP:20260422T082143
CREATED:20230919T103424Z
LAST-MODIFIED:20230919T104247Z
UID:10006823-1695661200-1695672000@lokal-vernetzen.de
SUMMARY:Stadtteilrundgang und Nachbarschaftsgrillen
DESCRIPTION:Übersehene Orte – Gut Mannewitz\nNachdem wir den Termin im März und im Juni kurzfristig verschieben mussten\, laden wir nun nochmal ein zum Stadtteilspaziergang Pirna-Sonnenstein. \nVon vielen gesehen\, aber nicht wahrgenommen ist das Gut Mannewitz: Vom Westen her ist es von Weitem gut sichtbar an der Kante des Sonnensteins\, von die Bewohner*innen des Sonnensteins wird es oft übersehen. Dabei birgt es spannende Geschichten! Erfahren Sie interessante und lustige Anekdoten aus der frühen Geschichte des Stadtteils. \nWir treffen uns 17 Uhr an der FeG\, Straße der Jugend 2 und unternehmen einen kleinen Spaziergang zum Gut. \nAnschließend\, um 18 Uhr grillen wir gemeinsam beim Amphitheater unter der Grundschule. Bitte bringt etwas leckeres zum Grillen oder Salate\, Brot etc. mit. \nDas Essen können wir während des Spaziergangs in der FeG aufgewahren. \nTreff:  FeG\, Straße der Jugend 2 \nGrillen: Amphitheater\, an der Dr.-Pienitz-Straße\,  Pirna-Sonnenstein \nBitte melden Sie Ihre Teilnahme hier an: \ninfo@ag-asylsuchende.de
URL:https://lokal-vernetzen.de/single-event/stadtteilrundgang-und-nachbarschaftsgrillen/
LOCATION:Freie evangelische Gemeinde in Pirna-Sonnenstein\, Straße der Jugend 2\, 01796 Pirna
CATEGORIES:Aktionstage,Kultur
ATTACH;FMTTYPE=image/jpeg:https://lokal-vernetzen.de/wp-content/uploads/2023/09/Sonnige-Aussichten.jpg
ORGANIZER;CN="AG Sonnige Aussichten e.V.":MAILTO:info@ag-asylsuchende.de
END:VEVENT
BEGIN:VEVENT
DTSTART;TZID=Europe/Berlin:20230928T170000
DTEND;TZID=Europe/Berlin:20230928T193000
DTSTAMP:20260422T082143
CREATED:20230720T122553Z
LAST-MODIFIED:20230720T124201Z
UID:10006776-1695920400-1695929400@lokal-vernetzen.de
SUMMARY:BRÜCKEN BAUEN: Grundlagen interkultureller Kommunikation
DESCRIPTION:THEMENBEREICHE \nWas gehört dazu\, wenn man Grenzen überwinden und Brücken zum Gegenüber bauen möchte?\nOft kommt es zu Missverständnissen\, weil Hintergrundwissen fehlt – und manchmal sind es erstaunlich kleine\, aber dennoch relevante Dinge\, die uns bei unserem Verhalten bzw. unserem Gegenüber nicht bekannt oder einfach (noch) nicht vertraut sind\, welche über einen positiven oder eben auch nicht gelingenden Umgang miteinander entscheiden können. \nWIR GEHEN AUF IHRE FRAGEN EIN \n\nWorauf kommt es bei der interkulturellen Kommunikation an – worin bestehen die spezifischen Herausforderungen und Möglichkeiten?\nWie verändern sich die Beteiligten durch Begegnung mit anderen Kulturen und welche Chancen liegen für alle darin?\nWie vermeide ich falsche Botschaften und welche Bedeutung hat der nonverbale Faktor?\n\nWENN SIE DIESES SEMINAR BESUCHT HABEN \n\nkönnen Sie Grundlagen und allgemeine Sensibilisierung für das Verstehen kultureller Unterschiede und Tipps für gelingende Interaktionen zwischen Menschen aus verschiedenen Kulturen mit in Ihre Praxis nehmen\nsind sie informiert über eigen- und fremdkulturelle Orientierungssysteme sowie dazu\, was Transkulturalität bedeutet und wie man Verbindung zwischen Menschen unterschiedlichster Herkunft  herstellen kann\nhaben Sie Einblick in Dynamiken bekommen\, die das Aufeinanderprallen wie auch das gegenseitige Annähern von Menschen mit verschiedensten Hintergründen ausmachen und wie Sie diese konstruktiv gestalten können\n\nFAKTEN \n\nTermin: Donnerstag\, 28. September 2023\, 17:00–19:30 Uhr\nOrt: Hauptgeschäftsstelle der VHS-SSOE | Geschwister-Scholl-Straße 2 | 01796 Pirna\ndie Platzanzahl ist begrenzt – Anmeldungen werden in der Reihenfolge ihres Eingangs berücksichtigt\ndas Seminar kann aufgrund der Förderung durch den Freistaat Sachsen kostenfrei angeboten werden\nauf Wunsch erhalten Sie eine Teilnahmebescheinigung\nbei Verhinderung bitten wir um eine rechtzeitige Information über info@academy-isc.de!\n\nAnmeldung: https://seminare.academy-isc.de/buchung/
URL:https://lokal-vernetzen.de/single-event/bruecken-bauen-grundlagen-interkultureller-kommunikation/
LOCATION:VHS Pirna\, Geschwister-Scholl-Str. 2\, 01796 Pirna
CATEGORIES:Kurse
ATTACH;FMTTYPE=image/png:https://lokal-vernetzen.de/wp-content/uploads/2023/07/vhs_KOMPETENZ.METHODEN.ACHTSAMKEIT.KOMMUNIKATION_Praesenzseminare-2023.png
ORGANIZER;CN="academy %E2%80%93 intercultural and specialized communications e. V.":MAILTO:info@academy-isc.de
END:VEVENT
END:VCALENDAR