BEGIN:VCALENDAR
VERSION:2.0
PRODID:-//Digital vernetzen - Lokal handeln - ECPv6.15.20//NONSGML v1.0//EN
CALSCALE:GREGORIAN
METHOD:PUBLISH
X-ORIGINAL-URL:https://lokal-vernetzen.de
X-WR-CALDESC:Veranstaltungen für Digital vernetzen - Lokal handeln
REFRESH-INTERVAL;VALUE=DURATION:PT1H
X-Robots-Tag:noindex
X-PUBLISHED-TTL:PT1H
BEGIN:VTIMEZONE
TZID:Europe/Berlin
BEGIN:DAYLIGHT
TZOFFSETFROM:+0100
TZOFFSETTO:+0200
TZNAME:CEST
DTSTART:20290325T010000
END:DAYLIGHT
BEGIN:STANDARD
TZOFFSETFROM:+0200
TZOFFSETTO:+0100
TZNAME:CET
DTSTART:20291028T010000
END:STANDARD
BEGIN:DAYLIGHT
TZOFFSETFROM:+0100
TZOFFSETTO:+0200
TZNAME:CEST
DTSTART:20300331T010000
END:DAYLIGHT
BEGIN:STANDARD
TZOFFSETFROM:+0200
TZOFFSETTO:+0100
TZNAME:CET
DTSTART:20301027T010000
END:STANDARD
BEGIN:DAYLIGHT
TZOFFSETFROM:+0100
TZOFFSETTO:+0200
TZNAME:CEST
DTSTART:20310330T010000
END:DAYLIGHT
BEGIN:STANDARD
TZOFFSETFROM:+0200
TZOFFSETTO:+0100
TZNAME:CET
DTSTART:20311026T010000
END:STANDARD
BEGIN:DAYLIGHT
TZOFFSETFROM:+0100
TZOFFSETTO:+0200
TZNAME:CEST
DTSTART:20320328T010000
END:DAYLIGHT
BEGIN:STANDARD
TZOFFSETFROM:+0200
TZOFFSETTO:+0100
TZNAME:CET
DTSTART:20321031T010000
END:STANDARD
END:VTIMEZONE
BEGIN:VEVENT
DTSTART;TZID=Europe/Berlin:20301120T160000
DTEND;TZID=Europe/Berlin:20301120T180000
DTSTAMP:20260421T181741
CREATED:20260227T091015Z
LAST-MODIFIED:20260227T091015Z
UID:10010568-1921420800-1921428000@lokal-vernetzen.de
SUMMARY:Fahrradwerkstatt auf dem Sonnenstein - Hilfe bei der Fahrradreparatur
DESCRIPTION:Jeden 2. Mittwoch könnt ihr von 16 – 18:00 gemeinsam mit Ehrenamtlichen eure Fahrräder reparieren. Wir freuen uns über gespendete Fahrräder\, Helme\, Schlösser\, Ersatzteile und Werkzeuge. \nBild: AG Asylsuchende SOE e.V.
URL:https://lokal-vernetzen.de/single-event/fahrradwerkstatt-auf-dem-sonnenstein-hilfe-bei-der-fahrradreparatur/2030-11-20/
LOCATION:“Sonnenfeld”\, Straße der Jugend 2\, Pirna-Sonnenstein
CATEGORIES:Austausch / Vernetzung / Diskussion
ATTACH;FMTTYPE=image/jpeg:https://lokal-vernetzen.de/wp-content/uploads/2024/07/699d72cb13bb9.jpg
ORGANIZER;CN="AG Asylsuchende SOE e.V.":MAILTO:info@ag-asylsuchende.de
END:VEVENT
BEGIN:VEVENT
DTSTART;TZID=Europe/Berlin:20301204T160000
DTEND;TZID=Europe/Berlin:20301204T180000
DTSTAMP:20260421T181741
CREATED:20260227T091015Z
LAST-MODIFIED:20260227T091015Z
UID:10010569-1922630400-1922637600@lokal-vernetzen.de
SUMMARY:Fahrradwerkstatt auf dem Sonnenstein - Hilfe bei der Fahrradreparatur
DESCRIPTION:Jeden 2. Mittwoch könnt ihr von 16 – 18:00 gemeinsam mit Ehrenamtlichen eure Fahrräder reparieren. Wir freuen uns über gespendete Fahrräder\, Helme\, Schlösser\, Ersatzteile und Werkzeuge. \nBild: AG Asylsuchende SOE e.V.
URL:https://lokal-vernetzen.de/single-event/fahrradwerkstatt-auf-dem-sonnenstein-hilfe-bei-der-fahrradreparatur/2030-12-04/
LOCATION:“Sonnenfeld”\, Straße der Jugend 2\, Pirna-Sonnenstein
CATEGORIES:Austausch / Vernetzung / Diskussion
ATTACH;FMTTYPE=image/jpeg:https://lokal-vernetzen.de/wp-content/uploads/2024/07/699d72cb13bb9.jpg
ORGANIZER;CN="AG Asylsuchende SOE e.V.":MAILTO:info@ag-asylsuchende.de
END:VEVENT
BEGIN:VEVENT
DTSTART;TZID=Europe/Berlin:20301218T160000
DTEND;TZID=Europe/Berlin:20301218T180000
DTSTAMP:20260421T181741
CREATED:20260227T091015Z
LAST-MODIFIED:20260227T091015Z
UID:10010570-1923840000-1923847200@lokal-vernetzen.de
SUMMARY:Fahrradwerkstatt auf dem Sonnenstein - Hilfe bei der Fahrradreparatur
DESCRIPTION:Jeden 2. Mittwoch könnt ihr von 16 – 18:00 gemeinsam mit Ehrenamtlichen eure Fahrräder reparieren. Wir freuen uns über gespendete Fahrräder\, Helme\, Schlösser\, Ersatzteile und Werkzeuge. \nBild: AG Asylsuchende SOE e.V.
URL:https://lokal-vernetzen.de/single-event/fahrradwerkstatt-auf-dem-sonnenstein-hilfe-bei-der-fahrradreparatur/2030-12-18/
LOCATION:“Sonnenfeld”\, Straße der Jugend 2\, Pirna-Sonnenstein
CATEGORIES:Austausch / Vernetzung / Diskussion
ATTACH;FMTTYPE=image/jpeg:https://lokal-vernetzen.de/wp-content/uploads/2024/07/699d72cb13bb9.jpg
ORGANIZER;CN="AG Asylsuchende SOE e.V.":MAILTO:info@ag-asylsuchende.de
END:VEVENT
BEGIN:VEVENT
DTSTART;TZID=Europe/Berlin:20310101T160000
DTEND;TZID=Europe/Berlin:20310101T180000
DTSTAMP:20260421T181741
CREATED:20260227T091015Z
LAST-MODIFIED:20260227T091015Z
UID:10010571-1925049600-1925056800@lokal-vernetzen.de
SUMMARY:Fahrradwerkstatt auf dem Sonnenstein - Hilfe bei der Fahrradreparatur
DESCRIPTION:Jeden 2. Mittwoch könnt ihr von 16 – 18:00 gemeinsam mit Ehrenamtlichen eure Fahrräder reparieren. Wir freuen uns über gespendete Fahrräder\, Helme\, Schlösser\, Ersatzteile und Werkzeuge. \nBild: AG Asylsuchende SOE e.V.
URL:https://lokal-vernetzen.de/single-event/fahrradwerkstatt-auf-dem-sonnenstein-hilfe-bei-der-fahrradreparatur/2031-01-01/
LOCATION:“Sonnenfeld”\, Straße der Jugend 2\, Pirna-Sonnenstein
CATEGORIES:Austausch / Vernetzung / Diskussion
ATTACH;FMTTYPE=image/jpeg:https://lokal-vernetzen.de/wp-content/uploads/2024/07/699d72cb13bb9.jpg
ORGANIZER;CN="AG Asylsuchende SOE e.V.":MAILTO:info@ag-asylsuchende.de
END:VEVENT
BEGIN:VEVENT
DTSTART;TZID=Europe/Berlin:20310115T160000
DTEND;TZID=Europe/Berlin:20310115T180000
DTSTAMP:20260421T181741
CREATED:20260227T091015Z
LAST-MODIFIED:20260227T091015Z
UID:10010572-1926259200-1926266400@lokal-vernetzen.de
SUMMARY:Fahrradwerkstatt auf dem Sonnenstein - Hilfe bei der Fahrradreparatur
DESCRIPTION:Jeden 2. Mittwoch könnt ihr von 16 – 18:00 gemeinsam mit Ehrenamtlichen eure Fahrräder reparieren. Wir freuen uns über gespendete Fahrräder\, Helme\, Schlösser\, Ersatzteile und Werkzeuge. \nBild: AG Asylsuchende SOE e.V.
URL:https://lokal-vernetzen.de/single-event/fahrradwerkstatt-auf-dem-sonnenstein-hilfe-bei-der-fahrradreparatur/2031-01-15/
LOCATION:“Sonnenfeld”\, Straße der Jugend 2\, Pirna-Sonnenstein
CATEGORIES:Austausch / Vernetzung / Diskussion
ATTACH;FMTTYPE=image/jpeg:https://lokal-vernetzen.de/wp-content/uploads/2024/07/699d72cb13bb9.jpg
ORGANIZER;CN="AG Asylsuchende SOE e.V.":MAILTO:info@ag-asylsuchende.de
END:VEVENT
BEGIN:VEVENT
DTSTART;TZID=Europe/Berlin:20310129T160000
DTEND;TZID=Europe/Berlin:20310129T180000
DTSTAMP:20260421T181741
CREATED:20260227T091015Z
LAST-MODIFIED:20260227T091015Z
UID:10010573-1927468800-1927476000@lokal-vernetzen.de
SUMMARY:Fahrradwerkstatt auf dem Sonnenstein - Hilfe bei der Fahrradreparatur
DESCRIPTION:Jeden 2. Mittwoch könnt ihr von 16 – 18:00 gemeinsam mit Ehrenamtlichen eure Fahrräder reparieren. Wir freuen uns über gespendete Fahrräder\, Helme\, Schlösser\, Ersatzteile und Werkzeuge. \nBild: AG Asylsuchende SOE e.V.
URL:https://lokal-vernetzen.de/single-event/fahrradwerkstatt-auf-dem-sonnenstein-hilfe-bei-der-fahrradreparatur/2031-01-29/
LOCATION:“Sonnenfeld”\, Straße der Jugend 2\, Pirna-Sonnenstein
CATEGORIES:Austausch / Vernetzung / Diskussion
ATTACH;FMTTYPE=image/jpeg:https://lokal-vernetzen.de/wp-content/uploads/2024/07/699d72cb13bb9.jpg
ORGANIZER;CN="AG Asylsuchende SOE e.V.":MAILTO:info@ag-asylsuchende.de
END:VEVENT
BEGIN:VEVENT
DTSTART;TZID=Europe/Berlin:20310212T160000
DTEND;TZID=Europe/Berlin:20310212T180000
DTSTAMP:20260421T181741
CREATED:20260227T091015Z
LAST-MODIFIED:20260227T091015Z
UID:10010574-1928678400-1928685600@lokal-vernetzen.de
SUMMARY:Fahrradwerkstatt auf dem Sonnenstein - Hilfe bei der Fahrradreparatur
DESCRIPTION:Jeden 2. Mittwoch könnt ihr von 16 – 18:00 gemeinsam mit Ehrenamtlichen eure Fahrräder reparieren. Wir freuen uns über gespendete Fahrräder\, Helme\, Schlösser\, Ersatzteile und Werkzeuge. \nBild: AG Asylsuchende SOE e.V.
URL:https://lokal-vernetzen.de/single-event/fahrradwerkstatt-auf-dem-sonnenstein-hilfe-bei-der-fahrradreparatur/2031-02-12/
LOCATION:“Sonnenfeld”\, Straße der Jugend 2\, Pirna-Sonnenstein
CATEGORIES:Austausch / Vernetzung / Diskussion
ATTACH;FMTTYPE=image/jpeg:https://lokal-vernetzen.de/wp-content/uploads/2024/07/699d72cb13bb9.jpg
ORGANIZER;CN="AG Asylsuchende SOE e.V.":MAILTO:info@ag-asylsuchende.de
END:VEVENT
BEGIN:VEVENT
DTSTART;TZID=Europe/Berlin:20310226T160000
DTEND;TZID=Europe/Berlin:20310226T180000
DTSTAMP:20260421T181741
CREATED:20260227T091015Z
LAST-MODIFIED:20260227T091015Z
UID:10010575-1929888000-1929895200@lokal-vernetzen.de
SUMMARY:Fahrradwerkstatt auf dem Sonnenstein - Hilfe bei der Fahrradreparatur
DESCRIPTION:Jeden 2. Mittwoch könnt ihr von 16 – 18:00 gemeinsam mit Ehrenamtlichen eure Fahrräder reparieren. Wir freuen uns über gespendete Fahrräder\, Helme\, Schlösser\, Ersatzteile und Werkzeuge. \nBild: AG Asylsuchende SOE e.V.
URL:https://lokal-vernetzen.de/single-event/fahrradwerkstatt-auf-dem-sonnenstein-hilfe-bei-der-fahrradreparatur/2031-02-26/
LOCATION:“Sonnenfeld”\, Straße der Jugend 2\, Pirna-Sonnenstein
CATEGORIES:Austausch / Vernetzung / Diskussion
ATTACH;FMTTYPE=image/jpeg:https://lokal-vernetzen.de/wp-content/uploads/2024/07/699d72cb13bb9.jpg
ORGANIZER;CN="AG Asylsuchende SOE e.V.":MAILTO:info@ag-asylsuchende.de
END:VEVENT
END:VCALENDAR