BEGIN:VCALENDAR
VERSION:2.0
PRODID:-//Digital vernetzen - Lokal handeln - ECPv6.15.20//NONSGML v1.0//EN
CALSCALE:GREGORIAN
METHOD:PUBLISH
X-WR-CALNAME:Digital vernetzen - Lokal handeln
X-ORIGINAL-URL:https://lokal-vernetzen.de
X-WR-CALDESC:Veranstaltungen für Digital vernetzen - Lokal handeln
REFRESH-INTERVAL;VALUE=DURATION:PT1H
X-Robots-Tag:noindex
X-PUBLISHED-TTL:PT1H
BEGIN:VTIMEZONE
TZID:Europe/Berlin
BEGIN:DAYLIGHT
TZOFFSETFROM:+0100
TZOFFSETTO:+0200
TZNAME:CEST
DTSTART:20250330T010000
END:DAYLIGHT
BEGIN:STANDARD
TZOFFSETFROM:+0200
TZOFFSETTO:+0100
TZNAME:CET
DTSTART:20251026T010000
END:STANDARD
BEGIN:DAYLIGHT
TZOFFSETFROM:+0100
TZOFFSETTO:+0200
TZNAME:CEST
DTSTART:20260329T010000
END:DAYLIGHT
BEGIN:STANDARD
TZOFFSETFROM:+0200
TZOFFSETTO:+0100
TZNAME:CET
DTSTART:20261025T010000
END:STANDARD
BEGIN:DAYLIGHT
TZOFFSETFROM:+0100
TZOFFSETTO:+0200
TZNAME:CEST
DTSTART:20270328T010000
END:DAYLIGHT
BEGIN:STANDARD
TZOFFSETFROM:+0200
TZOFFSETTO:+0100
TZNAME:CET
DTSTART:20271031T010000
END:STANDARD
END:VTIMEZONE
BEGIN:VEVENT
DTSTART;TZID=Europe/Berlin:20260205T180000
DTEND;TZID=Europe/Berlin:20260205T203000
DTSTAMP:20260420T124225
CREATED:20260109T084231Z
LAST-MODIFIED:20260109T093556Z
UID:10010431-1770314400-1770323400@lokal-vernetzen.de
SUMMARY:3. Pflanzertreffen - Pirna 800
DESCRIPTION:Wenn etwas entstehen soll\, braucht es Leute\, die konkret mit anpacken. \nAm 5. Februar 2026 um 18 Uhr startet in der Aula des Schillergymnasiums (Seminarstr. 3\, Pirna) das 3. Pflanzertreffen von Pirna 800. Sie sind herzlich eingeladen\, sich mit anderen Personen aus Pirna zu vernetzen\, die sich bei der Pflanzung von 800 neuen Bäumen bis zum Jubiläumsjahr 2033 schon einbringen oder es vorhaben. \nWas erwartet Sie? \n\nInteressante und engagierte Einwohner Pirnas kennenlernen\nInformationen über frühere\, aktuelle und zukünftige Baum-Projekte in Pirnas Ortsteilen austauschen\nNeue Ideen entwickeln und vorhandene aufgreifen\, um zusammen unsere Stadt weiterhin lebenswert und nachhaltig zu gestalten\nKonkrete\, fundierte Tipps zur Umsetzung einer Baumpflanzung in Pirna\nEin kleiner Imbiss\n\nUm das Treffen besser vorbereiten zu können\, wird um Anmeldung bis zum 28.01.2026 an info@pirna800.de gebeten. \nDie Teilnahme ist kostenlos.
URL:https://lokal-vernetzen.de/single-event/3-pflanzertreffen-pirna-800/
LOCATION:Friedrich-Schiller-Gymnasium\, Seminarstraße 3\, 01796 Pirna
CATEGORIES:Aktionstage,Austausch / Vernetzung / Diskussion
ATTACH;FMTTYPE=image/jpeg:https://lokal-vernetzen.de/wp-content/uploads/2026/01/grafik.jpg
ORGANIZER;CN="Pirna 800":MAILTO:info@pirna800.de
END:VEVENT
END:VCALENDAR