BEGIN:VCALENDAR
VERSION:2.0
PRODID:-//Digital vernetzen - Lokal handeln - ECPv6.15.20//NONSGML v1.0//EN
CALSCALE:GREGORIAN
METHOD:PUBLISH
X-ORIGINAL-URL:https://lokal-vernetzen.de
X-WR-CALDESC:Veranstaltungen für Digital vernetzen - Lokal handeln
REFRESH-INTERVAL;VALUE=DURATION:PT1H
X-Robots-Tag:noindex
X-PUBLISHED-TTL:PT1H
BEGIN:VTIMEZONE
TZID:Europe/Berlin
BEGIN:DAYLIGHT
TZOFFSETFROM:+0100
TZOFFSETTO:+0200
TZNAME:CEST
DTSTART:20230326T010000
END:DAYLIGHT
BEGIN:STANDARD
TZOFFSETFROM:+0200
TZOFFSETTO:+0100
TZNAME:CET
DTSTART:20231029T010000
END:STANDARD
BEGIN:DAYLIGHT
TZOFFSETFROM:+0100
TZOFFSETTO:+0200
TZNAME:CEST
DTSTART:20240331T010000
END:DAYLIGHT
BEGIN:STANDARD
TZOFFSETFROM:+0200
TZOFFSETTO:+0100
TZNAME:CET
DTSTART:20241027T010000
END:STANDARD
BEGIN:DAYLIGHT
TZOFFSETFROM:+0100
TZOFFSETTO:+0200
TZNAME:CEST
DTSTART:20250330T010000
END:DAYLIGHT
BEGIN:STANDARD
TZOFFSETFROM:+0200
TZOFFSETTO:+0100
TZNAME:CET
DTSTART:20251026T010000
END:STANDARD
END:VTIMEZONE
BEGIN:VEVENT
DTSTART;TZID=Europe/Berlin:20241130T090000
DTEND;TZID=Europe/Berlin:20241130T113000
DTSTAMP:20260425T121926
CREATED:20241021T123712Z
LAST-MODIFIED:20241021T123712Z
UID:10009136-1732957200-1732966200@lokal-vernetzen.de
SUMMARY:Praxistag der Jungen Naturwächter: Kopfweiden-Pflege
DESCRIPTION:Praxistag der Jungen Naturwächter: Kopfweiden-Pflege \nGemeinsam begeben wir uns auf einen Naturschutzeinsatz und wollen Weiden zurückschneiden\, sodass wieder schöne\, gesunde Kopfweiden entstehen bzw. erhalten bleiben. Bei der Veranstaltung erfahrt ihr\, was überhaupt eine Kopfweide ist\, wie man sie pflegt und warum sie für den Naturschutz wichtig ist. Gerne könnt ihr am Ende auch abgeschnittene Zweige mit nach Hause nehmen. Auch Eltern sind herzlich eingeladen! \nDie Veranstaltung findet als Kooperation zwischen der Naturschutzstation Osterzgebirge e.V.\, dem Landschaftspflegeverband Sächsische Schweiz-Osterzgebirge sowie dem Umweltzentrum Freital statt. \nAnmeldungen HIER.
URL:https://lokal-vernetzen.de/single-event/praxistag-der-jungen-naturwaechter-kopfweiden-pflege/
LOCATION:Freital Kleinnaundorf Meßweg (ÖPNV-Haltestelle)
CATEGORIES:an der frischen Luft,Kinder und Jugendliche
ATTACH;FMTTYPE=image/jpeg:https://lokal-vernetzen.de/wp-content/uploads/2024/10/67052998671b7.jpg
ORGANIZER;CN="Umweltzentrum Freital e.V.":MAILTO:repaircafe@fueralle.org
END:VEVENT
END:VCALENDAR