BEGIN:VCALENDAR
VERSION:2.0
PRODID:-//Digital vernetzen - Lokal handeln - ECPv6.15.20//NONSGML v1.0//EN
CALSCALE:GREGORIAN
METHOD:PUBLISH
X-ORIGINAL-URL:https://lokal-vernetzen.de
X-WR-CALDESC:Veranstaltungen für Digital vernetzen - Lokal handeln
REFRESH-INTERVAL;VALUE=DURATION:PT1H
X-Robots-Tag:noindex
X-PUBLISHED-TTL:PT1H
BEGIN:VTIMEZONE
TZID:Europe/Berlin
BEGIN:DAYLIGHT
TZOFFSETFROM:+0100
TZOFFSETTO:+0200
TZNAME:CEST
DTSTART:20230326T010000
END:DAYLIGHT
BEGIN:STANDARD
TZOFFSETFROM:+0200
TZOFFSETTO:+0100
TZNAME:CET
DTSTART:20231029T010000
END:STANDARD
BEGIN:DAYLIGHT
TZOFFSETFROM:+0100
TZOFFSETTO:+0200
TZNAME:CEST
DTSTART:20240331T010000
END:DAYLIGHT
BEGIN:STANDARD
TZOFFSETFROM:+0200
TZOFFSETTO:+0100
TZNAME:CET
DTSTART:20241027T010000
END:STANDARD
BEGIN:DAYLIGHT
TZOFFSETFROM:+0100
TZOFFSETTO:+0200
TZNAME:CEST
DTSTART:20250330T010000
END:DAYLIGHT
BEGIN:STANDARD
TZOFFSETFROM:+0200
TZOFFSETTO:+0100
TZNAME:CET
DTSTART:20251026T010000
END:STANDARD
END:VTIMEZONE
BEGIN:VEVENT
DTSTART;TZID=Europe/Berlin:20241007T080000
DTEND;TZID=Europe/Berlin:20241007T170000
DTSTAMP:20260420T122355
CREATED:20240812T122022Z
LAST-MODIFIED:20240812T122022Z
UID:10008346-1728288000-1728320400@lokal-vernetzen.de
SUMMARY:Herbstferienprojekt "1919\, 1933\, 2024 - was hat das mit mir zu tun?"
DESCRIPTION:Herbstferienprojekt „1919\, 1933\, 2024 – was hat das mit mir zu tun?“ \nDu bist zwischen 14 und 20 Jahre alt und hast Lust dich mit der NS-Zeit und der aktuellen politischen Lage auseinandersetzen? Du willst aktiv werden gegen rechte Hetze und menschenverachtende Einstellungen? Oder du hast eigentlich gar keine Ahnung\, was da gerade läuft und willst mehr dazu erfahren?\nIn der ersten Herbstferien-Woche (7. – 11.10.24) fahren wir auf die Burg Hohnstein und erleben gemeinsam fünf abwechslungsreiche Tage. Mit Film und Fotografie begeben wir uns auf eine gemeinsame Reise der Demokratie.\nDu brauchst dafür kein Vorwissen! Das Angebot ist kostenfrei und beinhaltet vier Übernachtungen mit Vollverpflegung.\nAnmeldung unter: projekt@akubiz.de
URL:https://lokal-vernetzen.de/single-event/herbstferienprojekt-1919-1933-2024-was-hat-das-mit-mir-zu-tun/2024-10-07/
LOCATION:Alternatives Kultur- und Bildungszentrum (AKuBiZ)\, Schössergasse 3\, 01796 Pirna
CATEGORIES:Austausch / Vernetzung / Diskussion,Kinder und Jugendliche
ATTACH;FMTTYPE=image/jpeg:https://lokal-vernetzen.de/wp-content/uploads/2024/08/66b9c58200d91-scaled.jpg
ORGANIZER;CN="AKuBiZ e.V.":MAILTO:kontakt@akubiz.de
END:VEVENT
BEGIN:VEVENT
DTSTART;TZID=Europe/Berlin:20241008T080000
DTEND;TZID=Europe/Berlin:20241008T170000
DTSTAMP:20260420T122355
CREATED:20240812T122022Z
LAST-MODIFIED:20240812T122022Z
UID:10008347-1728374400-1728406800@lokal-vernetzen.de
SUMMARY:Herbstferienprojekt "1919\, 1933\, 2024 - was hat das mit mir zu tun?"
DESCRIPTION:Herbstferienprojekt „1919\, 1933\, 2024 – was hat das mit mir zu tun?“ \nDu bist zwischen 14 und 20 Jahre alt und hast Lust dich mit der NS-Zeit und der aktuellen politischen Lage auseinandersetzen? Du willst aktiv werden gegen rechte Hetze und menschenverachtende Einstellungen? Oder du hast eigentlich gar keine Ahnung\, was da gerade läuft und willst mehr dazu erfahren?\nIn der ersten Herbstferien-Woche (7. – 11.10.24) fahren wir auf die Burg Hohnstein und erleben gemeinsam fünf abwechslungsreiche Tage. Mit Film und Fotografie begeben wir uns auf eine gemeinsame Reise der Demokratie.\nDu brauchst dafür kein Vorwissen! Das Angebot ist kostenfrei und beinhaltet vier Übernachtungen mit Vollverpflegung.\nAnmeldung unter: projekt@akubiz.de
URL:https://lokal-vernetzen.de/single-event/herbstferienprojekt-1919-1933-2024-was-hat-das-mit-mir-zu-tun/2024-10-08/
LOCATION:Alternatives Kultur- und Bildungszentrum (AKuBiZ)\, Schössergasse 3\, 01796 Pirna
CATEGORIES:Austausch / Vernetzung / Diskussion,Kinder und Jugendliche
ATTACH;FMTTYPE=image/jpeg:https://lokal-vernetzen.de/wp-content/uploads/2024/08/66b9c58200d91-scaled.jpg
ORGANIZER;CN="AKuBiZ e.V.":MAILTO:kontakt@akubiz.de
END:VEVENT
BEGIN:VEVENT
DTSTART;TZID=Europe/Berlin:20241009T080000
DTEND;TZID=Europe/Berlin:20241009T170000
DTSTAMP:20260420T122355
CREATED:20240812T122022Z
LAST-MODIFIED:20240812T122022Z
UID:10008348-1728460800-1728493200@lokal-vernetzen.de
SUMMARY:Herbstferienprojekt "1919\, 1933\, 2024 - was hat das mit mir zu tun?"
DESCRIPTION:Herbstferienprojekt „1919\, 1933\, 2024 – was hat das mit mir zu tun?“ \nDu bist zwischen 14 und 20 Jahre alt und hast Lust dich mit der NS-Zeit und der aktuellen politischen Lage auseinandersetzen? Du willst aktiv werden gegen rechte Hetze und menschenverachtende Einstellungen? Oder du hast eigentlich gar keine Ahnung\, was da gerade läuft und willst mehr dazu erfahren?\nIn der ersten Herbstferien-Woche (7. – 11.10.24) fahren wir auf die Burg Hohnstein und erleben gemeinsam fünf abwechslungsreiche Tage. Mit Film und Fotografie begeben wir uns auf eine gemeinsame Reise der Demokratie.\nDu brauchst dafür kein Vorwissen! Das Angebot ist kostenfrei und beinhaltet vier Übernachtungen mit Vollverpflegung.\nAnmeldung unter: projekt@akubiz.de
URL:https://lokal-vernetzen.de/single-event/herbstferienprojekt-1919-1933-2024-was-hat-das-mit-mir-zu-tun/2024-10-09/
LOCATION:Alternatives Kultur- und Bildungszentrum (AKuBiZ)\, Schössergasse 3\, 01796 Pirna
CATEGORIES:Austausch / Vernetzung / Diskussion,Kinder und Jugendliche
ATTACH;FMTTYPE=image/jpeg:https://lokal-vernetzen.de/wp-content/uploads/2024/08/66b9c58200d91-scaled.jpg
ORGANIZER;CN="AKuBiZ e.V.":MAILTO:kontakt@akubiz.de
END:VEVENT
BEGIN:VEVENT
DTSTART;TZID=Europe/Berlin:20241010T080000
DTEND;TZID=Europe/Berlin:20241010T170000
DTSTAMP:20260420T122355
CREATED:20240812T122022Z
LAST-MODIFIED:20240812T122022Z
UID:10008349-1728547200-1728579600@lokal-vernetzen.de
SUMMARY:Herbstferienprojekt "1919\, 1933\, 2024 - was hat das mit mir zu tun?"
DESCRIPTION:Herbstferienprojekt „1919\, 1933\, 2024 – was hat das mit mir zu tun?“ \nDu bist zwischen 14 und 20 Jahre alt und hast Lust dich mit der NS-Zeit und der aktuellen politischen Lage auseinandersetzen? Du willst aktiv werden gegen rechte Hetze und menschenverachtende Einstellungen? Oder du hast eigentlich gar keine Ahnung\, was da gerade läuft und willst mehr dazu erfahren?\nIn der ersten Herbstferien-Woche (7. – 11.10.24) fahren wir auf die Burg Hohnstein und erleben gemeinsam fünf abwechslungsreiche Tage. Mit Film und Fotografie begeben wir uns auf eine gemeinsame Reise der Demokratie.\nDu brauchst dafür kein Vorwissen! Das Angebot ist kostenfrei und beinhaltet vier Übernachtungen mit Vollverpflegung.\nAnmeldung unter: projekt@akubiz.de
URL:https://lokal-vernetzen.de/single-event/herbstferienprojekt-1919-1933-2024-was-hat-das-mit-mir-zu-tun/2024-10-10/
LOCATION:Alternatives Kultur- und Bildungszentrum (AKuBiZ)\, Schössergasse 3\, 01796 Pirna
CATEGORIES:Austausch / Vernetzung / Diskussion,Kinder und Jugendliche
ATTACH;FMTTYPE=image/jpeg:https://lokal-vernetzen.de/wp-content/uploads/2024/08/66b9c58200d91-scaled.jpg
ORGANIZER;CN="AKuBiZ e.V.":MAILTO:kontakt@akubiz.de
END:VEVENT
BEGIN:VEVENT
DTSTART;TZID=Europe/Berlin:20241011T080000
DTEND;TZID=Europe/Berlin:20241011T170000
DTSTAMP:20260420T122355
CREATED:20240812T122022Z
LAST-MODIFIED:20240812T122022Z
UID:10008350-1728633600-1728666000@lokal-vernetzen.de
SUMMARY:Herbstferienprojekt "1919\, 1933\, 2024 - was hat das mit mir zu tun?"
DESCRIPTION:Herbstferienprojekt „1919\, 1933\, 2024 – was hat das mit mir zu tun?“ \nDu bist zwischen 14 und 20 Jahre alt und hast Lust dich mit der NS-Zeit und der aktuellen politischen Lage auseinandersetzen? Du willst aktiv werden gegen rechte Hetze und menschenverachtende Einstellungen? Oder du hast eigentlich gar keine Ahnung\, was da gerade läuft und willst mehr dazu erfahren?\nIn der ersten Herbstferien-Woche (7. – 11.10.24) fahren wir auf die Burg Hohnstein und erleben gemeinsam fünf abwechslungsreiche Tage. Mit Film und Fotografie begeben wir uns auf eine gemeinsame Reise der Demokratie.\nDu brauchst dafür kein Vorwissen! Das Angebot ist kostenfrei und beinhaltet vier Übernachtungen mit Vollverpflegung.\nAnmeldung unter: projekt@akubiz.de
URL:https://lokal-vernetzen.de/single-event/herbstferienprojekt-1919-1933-2024-was-hat-das-mit-mir-zu-tun/2024-10-11/
LOCATION:Alternatives Kultur- und Bildungszentrum (AKuBiZ)\, Schössergasse 3\, 01796 Pirna
CATEGORIES:Austausch / Vernetzung / Diskussion,Kinder und Jugendliche
ATTACH;FMTTYPE=image/jpeg:https://lokal-vernetzen.de/wp-content/uploads/2024/08/66b9c58200d91-scaled.jpg
ORGANIZER;CN="AKuBiZ e.V.":MAILTO:kontakt@akubiz.de
END:VEVENT
END:VCALENDAR