BEGIN:VCALENDAR
VERSION:2.0
PRODID:-//Digital vernetzen - Lokal handeln - ECPv6.15.20//NONSGML v1.0//EN
CALSCALE:GREGORIAN
METHOD:PUBLISH
X-ORIGINAL-URL:https://lokal-vernetzen.de
X-WR-CALDESC:Veranstaltungen für Digital vernetzen - Lokal handeln
REFRESH-INTERVAL;VALUE=DURATION:PT1H
X-Robots-Tag:noindex
X-PUBLISHED-TTL:PT1H
BEGIN:VTIMEZONE
TZID:Europe/Berlin
BEGIN:DAYLIGHT
TZOFFSETFROM:+0100
TZOFFSETTO:+0200
TZNAME:CEST
DTSTART:20250330T010000
END:DAYLIGHT
BEGIN:STANDARD
TZOFFSETFROM:+0200
TZOFFSETTO:+0100
TZNAME:CET
DTSTART:20251026T010000
END:STANDARD
BEGIN:DAYLIGHT
TZOFFSETFROM:+0100
TZOFFSETTO:+0200
TZNAME:CEST
DTSTART:20260329T010000
END:DAYLIGHT
BEGIN:STANDARD
TZOFFSETFROM:+0200
TZOFFSETTO:+0100
TZNAME:CET
DTSTART:20261025T010000
END:STANDARD
BEGIN:DAYLIGHT
TZOFFSETFROM:+0100
TZOFFSETTO:+0200
TZNAME:CEST
DTSTART:20270328T010000
END:DAYLIGHT
BEGIN:STANDARD
TZOFFSETFROM:+0200
TZOFFSETTO:+0100
TZNAME:CET
DTSTART:20271031T010000
END:STANDARD
END:VTIMEZONE
BEGIN:VEVENT
DTSTART;TZID=Europe/Berlin:20260314T090000
DTEND;TZID=Europe/Berlin:20260314T173000
DTSTAMP:20260420T124037
CREATED:20260227T094506Z
LAST-MODIFIED:20260227T094506Z
UID:10010577-1773478800-1773509400@lokal-vernetzen.de
SUMMARY:FrauenTage! ...am Anfang war das Wort - Schreiben und Bewegen
DESCRIPTION:Im März feiern wir zum zweiten Mal die FrauenTage! \nAn den Wochenenden veranstalten Frauen für Frauen und für alle\, die sich dafür interessieren:\nWorkshops\, Gespräche\, Vorstellungen…gemeinsames Essen. \nBleibt neugierig und probiert euch aus! \n9 – 9:45\nMit Bewegung\, Musik und Leichtigkeit in den Tag\nHelena Fernandino \n9:45 – 10:45\nFrühstück \n11 – 14 | Workshop\nAm Anfang war das Wort – mit Schreiben\, Bewegung und Gestaltung spielerisch neue Ausdrucksformen entdecken\nKollektiv WARTEN / Heymannbaude \n14:30\nKaffee & Kuchen \n15:30 | Auftakt Projekt:  In der Mitte – mittendrin\nWas passiert\, wenn Frauen den öffentlichen Raum neu denken – mit Körpern\, Bewegungen und Bildern?\nIn der Mitte – mittendrin lädt zum gemeinsamen Experiment ein: Wir erforschen Öffentlichkeit\, Präsenz und Ausdruck und entwickeln daraus eine kollektive Pop-up-Performance. \nDas Auftaktgespräch ist ein offener Raum für Begegnung\, Neugier und erste Ideen.\nAlle Frauen sind willkommen – mit oder ohne Vorerfahrung. \nAlle Veranstaltungen auf Spendenbasis – aus Wertschätzung: Eure Spenden unterstützen die Beteiligten und die Weiterentwicklung unserer Aktivitäten \nBild: Kulturbaude und Landkunst e.V.
URL:https://lokal-vernetzen.de/single-event/frauentage-am-anfang-war-das-wort-schreiben-und-bewegen/
LOCATION:Heymannbaude\, Schulweg 43\, 01824 Gohrisch/Kleinhennersdorf
CATEGORIES:Aktionstage,Austausch / Vernetzung / Diskussion,Feier,Kultur
ATTACH;FMTTYPE=image/jpeg:https://lokal-vernetzen.de/wp-content/uploads/2026/02/IMG_0954.jpg
ORGANIZER;CN="Heymannbaude":MAILTO:info@heymannbaude.org
END:VEVENT
END:VCALENDAR