BEGIN:VCALENDAR
VERSION:2.0
PRODID:-//Digital vernetzen - Lokal handeln - ECPv6.15.20//NONSGML v1.0//EN
CALSCALE:GREGORIAN
METHOD:PUBLISH
X-ORIGINAL-URL:https://lokal-vernetzen.de
X-WR-CALDESC:Veranstaltungen für Digital vernetzen - Lokal handeln
REFRESH-INTERVAL;VALUE=DURATION:PT1H
X-Robots-Tag:noindex
X-PUBLISHED-TTL:PT1H
BEGIN:VTIMEZONE
TZID:Europe/Berlin
BEGIN:DAYLIGHT
TZOFFSETFROM:+0100
TZOFFSETTO:+0200
TZNAME:CEST
DTSTART:20230326T010000
END:DAYLIGHT
BEGIN:STANDARD
TZOFFSETFROM:+0200
TZOFFSETTO:+0100
TZNAME:CET
DTSTART:20231029T010000
END:STANDARD
BEGIN:DAYLIGHT
TZOFFSETFROM:+0100
TZOFFSETTO:+0200
TZNAME:CEST
DTSTART:20240331T010000
END:DAYLIGHT
BEGIN:STANDARD
TZOFFSETFROM:+0200
TZOFFSETTO:+0100
TZNAME:CET
DTSTART:20241027T010000
END:STANDARD
BEGIN:DAYLIGHT
TZOFFSETFROM:+0100
TZOFFSETTO:+0200
TZNAME:CEST
DTSTART:20250330T010000
END:DAYLIGHT
BEGIN:STANDARD
TZOFFSETFROM:+0200
TZOFFSETTO:+0100
TZNAME:CET
DTSTART:20251026T010000
END:STANDARD
END:VTIMEZONE
BEGIN:VEVENT
DTSTART;TZID=Europe/Berlin:20240206T190000
DTEND;TZID=Europe/Berlin:20240206T210000
DTSTAMP:20260422T011130
CREATED:20240123T122925Z
LAST-MODIFIED:20240123T122925Z
UID:10006844-1707246000-1707253200@lokal-vernetzen.de
SUMMARY:1. Pflanzertreffen Pirna 800 - für gestandene Pflanzer und die\, die es gern werden wollen
DESCRIPTION:Kommen Sie über die Pflanzung von 800 Bäumen bis 2033 in Pirna bei einem kleinen Imbiss mit Getränken ins Gespräch.\nHier können Sie sich mit Menschen austauschen\, die in Pirna schon Bäume im Rahmen der Aktion Pirna 800 gepflanzt haben. Sie sind eingeladen\, von Ihren Erfahrungen bei Baumpflanzungen zu berichten und neue Ideen für die weitere Entwicklung der Pflanzaktion Pirna 800 – 800 neue Bäume für 800 Jahre Pirna zu teilen. So entsteht ein gemeinsames Engagement\, das zu einer lebenswerten Stadt für uns und unsere Folgegenerationen führt.\nAuf dem Sonnenstein gab es bis vor wenigen Jahren regelmäßig dendrologische Spaziergänge in Kooperation mit dem ATZE e.V. In geführten Touren oder individuell mit 4 Heften konnten Interessierte ausgewählte Bäume zwischen den Hochhäusern entdecken. Also der ideale Stadtteil für das 1. Pflanzertreffen von Pirna 800. \nFoto: Helge Goldhahn
URL:https://lokal-vernetzen.de/single-event/1-pflanzertreffen-pirna-800-fuer-gestandene-pflanzer-und-die-die-es-gern-werden-wollen/
LOCATION:Soziokulturelles Zentrum Sonnenstein\, Varkaufsring 1b\, 01796 Pirna
CATEGORIES:Aktionstage,an der frischen Luft,Austausch / Vernetzung / Diskussion
ATTACH;FMTTYPE=image/jpeg:https://lokal-vernetzen.de/wp-content/uploads/2024/01/65aa3f4c56b32.jpg
ORGANIZER;CN="Helge Goldhahn":MAILTO:info@pirna800.de
END:VEVENT
BEGIN:VEVENT
DTSTART;TZID=Europe/Berlin:20240210T190000
DTEND;TZID=Europe/Berlin:20240210T190000
DTSTAMP:20260422T011130
CREATED:20240110T145247Z
LAST-MODIFIED:20240110T145247Z
UID:10006843-1707591600-1707591600@lokal-vernetzen.de
SUMMARY:Autorenlesung: „Que(E)rflug - von der Lebenswandlung eines schwulen Vaters “
DESCRIPTION:Die Rahmenhandlung trägt autobiografische Bezüge und ist ergänzt um literarisch aufbereitete Erfahrungen anderer homosexueller Väter.\n\nUnsere Autor wird aus seinem Werke \,\,Quer(E)rflug“ vorlesen\, die die Vielfalt und die unterschiedlichen Erfahrungen innerhalb der queeren Gemeinschaft beleuchten.\n\nWir glauben an die transformative Kraft von Literatur\, um Verständnis und Empathie zu fördern. Diese Lesung wird dazu beitragen\, unsere Herzen und Köpfe für neue Geschichten und Sichtweisen zu öffnen.\n\nDie Veranstaltung wird nicht nur von literarischem Reichtum geprägt sein\, sondern auch Raum für Diskussionen und Gespräche bieten. Es wird eine Gelegenheit sein\, sich mit anderen Literaturbegeisterten und queeren Menschen auszutauschen.\n\nBitte bestätigt eure Teilnahme bis 03.02.2024 an info@csd-pirna.de\n\nWir freuen uns darauf\, diesen Abend der Literatur und queeren Kultur mit euch zu teilen.\n\nIm Anhang findet Ihr noch das Plakat dazu. Die Mail mit dem Plakat darf gern überall bei euch geteilt werden.
URL:https://lokal-vernetzen.de/single-event/autorenlesung-queerflug-von-der-lebenswandlung-eines-schwulen-vaters/
LOCATION:Q43 Queertreff Pirna\, Lange Str. 43\, 01796 Pirna
CATEGORIES:Kultur
ATTACH;FMTTYPE=image/png:https://lokal-vernetzen.de/wp-content/uploads/2024/01/csd_Lesung-10.02.2024.png
END:VEVENT
BEGIN:VEVENT
DTSTART;TZID=Europe/Berlin:20240224T180000
DTEND;TZID=Europe/Berlin:20240224T180000
DTSTAMP:20260422T011130
CREATED:20240216T130952Z
LAST-MODIFIED:20240216T131054Z
UID:10006898-1708797600-1708797600@lokal-vernetzen.de
SUMMARY:Disco für alle! *** Faschings-Special ***
DESCRIPTION:Musik ist da\, Tanzen kann jede*r (Kann Spuren von Schlager enthalten).\nWir freuen uns auf Alt und Jung\, Familien\, Lebenslustige und alle\, die sonst viel zu selten Gelegenheit haben\, die Tanzfläche zu rocken. Für Essen und Trinken ist gesorgt. Der Ort ist barrierefrei.\nOrganisiert und durchgeführt von ColumbaPalumbus e.V.\nEintritt: 2 €
URL:https://lokal-vernetzen.de/single-event/disco-fuer-alle-faschings-special/
LOCATION:Uniwerk e.V.\, Obere Burgstraße 6b\, Pirna\, 01796\, Germany
CATEGORIES:Feier,Sächsische Schweiz
ATTACH;FMTTYPE=image/jpeg:https://lokal-vernetzen.de/wp-content/uploads/2024/02/OpenClipart-Vectors_1280-uniwerk-fasching.jpg
ORGANIZER;CN="ColumbaPalumbus e.V":MAILTO:info@columba-palumbus.de
END:VEVENT
END:VCALENDAR