BEGIN:VCALENDAR
VERSION:2.0
PRODID:-//Digital vernetzen - Lokal handeln - ECPv6.15.20//NONSGML v1.0//EN
CALSCALE:GREGORIAN
METHOD:PUBLISH
X-WR-CALNAME:Digital vernetzen - Lokal handeln
X-ORIGINAL-URL:https://lokal-vernetzen.de
X-WR-CALDESC:Veranstaltungen für Digital vernetzen - Lokal handeln
REFRESH-INTERVAL;VALUE=DURATION:PT1H
X-Robots-Tag:noindex
X-PUBLISHED-TTL:PT1H
BEGIN:VTIMEZONE
TZID:Europe/Berlin
BEGIN:DAYLIGHT
TZOFFSETFROM:+0100
TZOFFSETTO:+0200
TZNAME:CEST
DTSTART:20230326T010000
END:DAYLIGHT
BEGIN:STANDARD
TZOFFSETFROM:+0200
TZOFFSETTO:+0100
TZNAME:CET
DTSTART:20231029T010000
END:STANDARD
BEGIN:DAYLIGHT
TZOFFSETFROM:+0100
TZOFFSETTO:+0200
TZNAME:CEST
DTSTART:20240331T010000
END:DAYLIGHT
BEGIN:STANDARD
TZOFFSETFROM:+0200
TZOFFSETTO:+0100
TZNAME:CET
DTSTART:20241027T010000
END:STANDARD
BEGIN:DAYLIGHT
TZOFFSETFROM:+0100
TZOFFSETTO:+0200
TZNAME:CEST
DTSTART:20250330T010000
END:DAYLIGHT
BEGIN:STANDARD
TZOFFSETFROM:+0200
TZOFFSETTO:+0100
TZNAME:CET
DTSTART:20251026T010000
END:STANDARD
END:VTIMEZONE
BEGIN:VEVENT
DTSTART;TZID=Europe/Berlin:20240418T100000
DTEND;TZID=Europe/Berlin:20240418T113000
DTSTAMP:20260420T145801
CREATED:20240408T090632Z
LAST-MODIFIED:20241218T101302Z
UID:10007536-1713434400-1713439800@lokal-vernetzen.de
SUMMARY:Eltern-Kind-Gruppe Oasenzeit
DESCRIPTION:Eltern-Kind-Gruppe Oasenzeit \nSo schön wie die erste Zeit als Eltern ist\, so herausfordernd ist sie oft gleichzeitig. Als Eltern drehen wir uns meist um unsere Kinder\, Haushalt\, Familie… viele Bedürfnisse treffen im Familienalltag aufeinander und wir gehen (ungewollt) über unsere Grenzen. \nGemeinsam schaffen wir uns eine „Oasenauszeit“ vom Alltag. Dabei ermöglichen wir zunächst mit kleinen spielerischen Ritualen einen Rahmen\, in dem unsere Kinder Anregungen erfahren und lassen sie gut ankommen. \nOasenzeit kann dann für Sie bedeuten… \n\nRaum und kleine Angebote zum Entspannen nutzen\nAustausch mit anderen Eltern mit einem kurzen Input zu Beginn\nDie Stärken einer Gruppe erleben und daraus Kraft schöpfen\nDen Raum für deine Themen und Fragen zum Eltern-Sein nutzen\nIdeen\, Anregungen\, nach Bedarf Fachinput und vor allem Freude mitnehmen…..\n\nSie haben Lust bekommen\, mal bei uns vorbeizuschauen? Dann freuen wir uns sehr auf Sie und Ihr Kind. Melden Sie sich unter der Telefonnummer 03501 57127-20 in unserer Beratungsstelle an und nehmen Sie ganz unverbindlich an einem Schnuppertermin teil. \nDas Angebot ist kostenfrei. \nDonnerstag\, 10:00-11:30 Uhr\nWir bitten um Anmeldung unter 03501-571272\, Ansprechpartnerin: Magdalena Motzek\, Dipl. Sozialpädagogin\, Systemische Beraterin (DGSF)
URL:https://lokal-vernetzen.de/single-event/eltern-kind-gruppe-oasenzeit/2024-04-18/
LOCATION:DRK-Kreisverband Pirna e.V.\, Lange Straße 38a\, Pirna\, Sachsen\, 01796
CATEGORIES:Austausch / Vernetzung / Diskussion,Kinder und Jugendliche
ATTACH;FMTTYPE=image/jpeg:https://lokal-vernetzen.de/wp-content/uploads/2024/04/csm_Eltern-Kind-Gruppe_Oasenzeit_EFB_Pirna_62aa15e6ab.jpg
ORGANIZER;CN="DRK":MAILTO:beratungsstelle@drkpirna.de
END:VEVENT
BEGIN:VEVENT
DTSTART;TZID=Europe/Berlin:20240418T201500
DTEND;TZID=Europe/Berlin:20240418T215000
DTSTAMP:20260420T145801
CREATED:20240408T074752Z
LAST-MODIFIED:20240408T081017Z
UID:10007271-1713471300-1713477000@lokal-vernetzen.de
SUMMARY:Garagenvolk (Dokumentarfilm)
DESCRIPTION:Garagenvolk (Dokumentarfilm) \nIm unwirtlichen russischen Norden\, zwischen Schnee und Beton\, erstrecken sich bis ins Unendliche reichende Garagenfelder. Die geheimen Refugien des russischen Mannes: Projektionsflächen großer Träume\, kleine Paradiese.\n„Was Sie gemacht haben\, habe ich so noch nie gesehen. Ihr Film hat etwas Universelles\, zutiefst Menschliches. Ich habe den Eindruck\, in die Seele Russlands geschaut zu haben.“ (Werner Herzog)\nRegie: Natalija Yefimkina\nD 2020\, 95 Min.\, Farbe\, OmU\, FSK: 12 – Prädikat „besonders wertvoll“\nEintritt: 8€ \ 5€ \n(Bild: Uniwerk Pirna)
URL:https://lokal-vernetzen.de/single-event/garagenvolk-dokumentarfilm/
LOCATION:Uniwerk e.V.\, Obere Burgstraße 6b\, Pirna\, 01796\, Germany
CATEGORIES:Film
ATTACH;FMTTYPE=image/jpeg:https://lokal-vernetzen.de/wp-content/uploads/2024/04/garagenvolk_still_2_c_tamtam_film_axel_schneppat.jpg
ORGANIZER;CN="Uniwerk e.V.":MAILTO:info@uniwerk.de
END:VEVENT
END:VCALENDAR