BEGIN:VCALENDAR
VERSION:2.0
PRODID:-//Digital vernetzen - Lokal handeln - ECPv6.15.20//NONSGML v1.0//EN
CALSCALE:GREGORIAN
METHOD:PUBLISH
X-WR-CALNAME:Digital vernetzen - Lokal handeln
X-ORIGINAL-URL:https://lokal-vernetzen.de
X-WR-CALDESC:Veranstaltungen für Digital vernetzen - Lokal handeln
REFRESH-INTERVAL;VALUE=DURATION:PT1H
X-Robots-Tag:noindex
X-PUBLISHED-TTL:PT1H
BEGIN:VTIMEZONE
TZID:Europe/Berlin
BEGIN:DAYLIGHT
TZOFFSETFROM:+0100
TZOFFSETTO:+0200
TZNAME:CEST
DTSTART:20230326T010000
END:DAYLIGHT
BEGIN:STANDARD
TZOFFSETFROM:+0200
TZOFFSETTO:+0100
TZNAME:CET
DTSTART:20231029T010000
END:STANDARD
BEGIN:DAYLIGHT
TZOFFSETFROM:+0100
TZOFFSETTO:+0200
TZNAME:CEST
DTSTART:20240331T010000
END:DAYLIGHT
BEGIN:STANDARD
TZOFFSETFROM:+0200
TZOFFSETTO:+0100
TZNAME:CET
DTSTART:20241027T010000
END:STANDARD
BEGIN:DAYLIGHT
TZOFFSETFROM:+0100
TZOFFSETTO:+0200
TZNAME:CEST
DTSTART:20250330T010000
END:DAYLIGHT
BEGIN:STANDARD
TZOFFSETFROM:+0200
TZOFFSETTO:+0100
TZNAME:CET
DTSTART:20251026T010000
END:STANDARD
END:VTIMEZONE
BEGIN:VEVENT
DTSTART;TZID=Europe/Berlin:20240407T160000
DTEND;TZID=Europe/Berlin:20240407T180000
DTSTAMP:20260421T115722
CREATED:20240320T123512Z
LAST-MODIFIED:20240320T123512Z
UID:8669-1712505600-1712512800@lokal-vernetzen.de
SUMMARY:Ausstellungseröffnung "Über Land" - Karen Graf
DESCRIPTION:Ausstellungseröffnung „Über Land“ – Karen Graf \nKaren Graf ist gebürtige Dresdnerin und stellt vom 07. April bis 30. Juni 2024 in der Galerie & Museum Heimatstuben Schellerhau ihre Werke unter dem Titel „Über Land“ aus. Zur Ausstellungseröffnung ist die Künstlerin für Austausch und Anregungen vor Ort. Im Künstlergespräch mit musikalischer Umrahmung gibt sie Einblicke in ihre Arbeiten und steht für Fragen interessierter Besucher:innen zur Verfügung. \nEintritt frei\, Spenden willkommen. \n(Bild: www.schellerhau.de)
URL:https://lokal-vernetzen.de/single-event/ausstellungseroeffnung-ueber-land-karen-graf/
LOCATION:Galerie und Museum Heimastuben Schellerhau\, Hauptstr. 87\, Altenberg/ OT Schellerhau\, Sachsen\, 01773\, Germany
CATEGORIES:Ausstellung,Kultur
ATTACH;FMTTYPE=image/jpeg:https://lokal-vernetzen.de/wp-content/uploads/2024/03/UserFiles-Karen_Graf-623_881I-.jpg
ORGANIZER;CN="Galerie und Museum Heimatstuben Schellerhau":MAILTO:kontakt@galerie-schellerhau.de
END:VEVENT
END:VCALENDAR