BEGIN:VCALENDAR
VERSION:2.0
PRODID:-//Digital vernetzen - Lokal handeln - ECPv6.15.20//NONSGML v1.0//EN
CALSCALE:GREGORIAN
METHOD:PUBLISH
X-WR-CALNAME:Digital vernetzen - Lokal handeln
X-ORIGINAL-URL:https://lokal-vernetzen.de
X-WR-CALDESC:Veranstaltungen für Digital vernetzen - Lokal handeln
REFRESH-INTERVAL;VALUE=DURATION:PT1H
X-Robots-Tag:noindex
X-PUBLISHED-TTL:PT1H
BEGIN:VTIMEZONE
TZID:Europe/Berlin
BEGIN:DAYLIGHT
TZOFFSETFROM:+0100
TZOFFSETTO:+0200
TZNAME:CEST
DTSTART:20230326T010000
END:DAYLIGHT
BEGIN:STANDARD
TZOFFSETFROM:+0200
TZOFFSETTO:+0100
TZNAME:CET
DTSTART:20231029T010000
END:STANDARD
BEGIN:DAYLIGHT
TZOFFSETFROM:+0100
TZOFFSETTO:+0200
TZNAME:CEST
DTSTART:20240331T010000
END:DAYLIGHT
BEGIN:STANDARD
TZOFFSETFROM:+0200
TZOFFSETTO:+0100
TZNAME:CET
DTSTART:20241027T010000
END:STANDARD
BEGIN:DAYLIGHT
TZOFFSETFROM:+0100
TZOFFSETTO:+0200
TZNAME:CEST
DTSTART:20250330T010000
END:DAYLIGHT
BEGIN:STANDARD
TZOFFSETFROM:+0200
TZOFFSETTO:+0100
TZNAME:CET
DTSTART:20251026T010000
END:STANDARD
END:VTIMEZONE
BEGIN:VEVENT
DTSTART;TZID=Europe/Berlin:20240425T180000
DTEND;TZID=Europe/Berlin:20240425T193000
DTSTAMP:20260420T193056
CREATED:20240314T132718Z
LAST-MODIFIED:20240314T132718Z
UID:8636-1714068000-1714073400@lokal-vernetzen.de
SUMMARY:Chancen und Tools für die Digitalisierung im Verein
DESCRIPTION:Chancen und Tools für die Digitalisierung im Verein \n\n\nViele Vereine denken beim Begriff Digitalisierung meist an die Website oder Social Media. Dabei ist es viel mehr. Viele Prozesse\, wie interne Kommunikation\, Mitgliederversammlung und Ehrenamt können digitalisiert werden. Im Vortrag wird es darum gehen\, wie solche Prozesse digital ablaufen\, welche Tools man nutzen kann und welche Vor- und Nachteile das bringt. Denn zum Schluss nutzt das alles nur etwas\, wenn es dann auch angewendet wird. Einen Einblick in das Thema Fundraising-Planung gibt der Fundraising-Experte und Herausgeber des Fundraising-Magazins Matthias Daberstiel. \nReferent Matthias Daberstiel\nKategorien: Digitale Kompetenzen \nAnmeldung hier.
URL:https://lokal-vernetzen.de/single-event/chancen-und-tools-fuer-die-digitalisierung-im-verein/
LOCATION:Online
CATEGORIES:Kurse
ATTACH;FMTTYPE=image/png:https://lokal-vernetzen.de/wp-content/uploads/2023/08/weiterbildung_ehrenamt_2023_08_01_P18_Bild4-2.png
ORGANIZER;CN="Aktion Zivilcourage e.V.":MAILTO:post@aktion-zivilcourage.de
END:VEVENT
END:VCALENDAR