BEGIN:VCALENDAR
VERSION:2.0
PRODID:-//Digital vernetzen - Lokal handeln - ECPv6.15.20//NONSGML v1.0//EN
CALSCALE:GREGORIAN
METHOD:PUBLISH
X-WR-CALNAME:Digital vernetzen - Lokal handeln
X-ORIGINAL-URL:https://lokal-vernetzen.de
X-WR-CALDESC:Veranstaltungen für Digital vernetzen - Lokal handeln
REFRESH-INTERVAL;VALUE=DURATION:PT1H
X-Robots-Tag:noindex
X-PUBLISHED-TTL:PT1H
BEGIN:VTIMEZONE
TZID:Europe/Berlin
BEGIN:DAYLIGHT
TZOFFSETFROM:+0100
TZOFFSETTO:+0200
TZNAME:CEST
DTSTART:20220327T010000
END:DAYLIGHT
BEGIN:STANDARD
TZOFFSETFROM:+0200
TZOFFSETTO:+0100
TZNAME:CET
DTSTART:20221030T010000
END:STANDARD
BEGIN:DAYLIGHT
TZOFFSETFROM:+0100
TZOFFSETTO:+0200
TZNAME:CEST
DTSTART:20230326T010000
END:DAYLIGHT
BEGIN:STANDARD
TZOFFSETFROM:+0200
TZOFFSETTO:+0100
TZNAME:CET
DTSTART:20231029T010000
END:STANDARD
BEGIN:DAYLIGHT
TZOFFSETFROM:+0100
TZOFFSETTO:+0200
TZNAME:CEST
DTSTART:20240331T010000
END:DAYLIGHT
BEGIN:STANDARD
TZOFFSETFROM:+0200
TZOFFSETTO:+0100
TZNAME:CET
DTSTART:20241027T010000
END:STANDARD
END:VTIMEZONE
BEGIN:VEVENT
DTSTART;TZID=Europe/Berlin:20230826T170000
DTEND;TZID=Europe/Berlin:20230826T235900
DTSTAMP:20260422T223201
CREATED:20230419T085650Z
LAST-MODIFIED:20230419T085810Z
UID:7623-1693069200-1693094340@lokal-vernetzen.de
SUMMARY:Cityparade 2.5 - Respekt auf alles W(a)egen - Pro Jugend wird 25 Jahre!
DESCRIPTION:Pro Jugend e.V. wird 25 Jahre alt!\nSeid dabei wenn Dippoldiswalde bebt 🙂 \nAblauf \n17 bis 19 Uhr: Kinderdisko \n19 bis 20:30 Uhr: Festumzug \n20:30 bis 24 Uhr: Afterparty / Fatsche
URL:https://lokal-vernetzen.de/single-event/cityparade-2-5-respekt-auf-alles-waegen-pro-jugend-wird-25-jahre/
LOCATION:Pro Jugend e.V.\, Dr.-Friedrichs-Straße 27\, 01744 Dippoldiswalde
CATEGORIES:Aktionstage,an der frischen Luft,Feier,Kinder und Jugendliche
ATTACH;FMTTYPE=image/jpeg:https://lokal-vernetzen.de/wp-content/uploads/2022/01/projugendev.jpg
ORGANIZER;CN="ProJugend e.V.":MAILTO:kontakt@projugendev.de
END:VEVENT
END:VCALENDAR