BEGIN:VCALENDAR
VERSION:2.0
PRODID:-//Digital vernetzen - Lokal handeln - ECPv6.15.20//NONSGML v1.0//EN
CALSCALE:GREGORIAN
METHOD:PUBLISH
X-WR-CALNAME:Digital vernetzen - Lokal handeln
X-ORIGINAL-URL:https://lokal-vernetzen.de
X-WR-CALDESC:Veranstaltungen für Digital vernetzen - Lokal handeln
REFRESH-INTERVAL;VALUE=DURATION:PT1H
X-Robots-Tag:noindex
X-PUBLISHED-TTL:PT1H
BEGIN:VTIMEZONE
TZID:Europe/Berlin
BEGIN:DAYLIGHT
TZOFFSETFROM:+0100
TZOFFSETTO:+0200
TZNAME:CEST
DTSTART:20220327T010000
END:DAYLIGHT
BEGIN:STANDARD
TZOFFSETFROM:+0200
TZOFFSETTO:+0100
TZNAME:CET
DTSTART:20221030T010000
END:STANDARD
BEGIN:DAYLIGHT
TZOFFSETFROM:+0100
TZOFFSETTO:+0200
TZNAME:CEST
DTSTART:20230326T010000
END:DAYLIGHT
BEGIN:STANDARD
TZOFFSETFROM:+0200
TZOFFSETTO:+0100
TZNAME:CET
DTSTART:20231029T010000
END:STANDARD
BEGIN:DAYLIGHT
TZOFFSETFROM:+0100
TZOFFSETTO:+0200
TZNAME:CEST
DTSTART:20240331T010000
END:DAYLIGHT
BEGIN:STANDARD
TZOFFSETFROM:+0200
TZOFFSETTO:+0100
TZNAME:CET
DTSTART:20241027T010000
END:STANDARD
END:VTIMEZONE
BEGIN:VEVENT
DTSTART;TZID=Europe/Berlin:20230526T090000
DTEND;TZID=Europe/Berlin:20230526T090000
DTSTAMP:20260419T211104
CREATED:20230123T152445Z
LAST-MODIFIED:20230123T152532Z
UID:10005776-1685091600-1685091600@lokal-vernetzen.de
SUMMARY:Digitale Chancen - vhs unterwegs
DESCRIPTION:Kurs: PC und Smartphone\nvhs unterwegs in Stolpen\nDieses Kurzformat informiert kompakt über nützliche Tipps und bietet die Möglichkeit\, sich über digitale Themen wie Nutzungsmöglichkeiten und Datenschutz zu informieren.\n\n09:00 bis 10:30 Uhr Ratgeber PC\n10:45 bis 12:15 Uhr Ratgeber Smartphone\n\nvhs-ssoe – Kurse in Stolpen \n\nFoto von Anna Shvets: https://www.pexels.com/de-de/foto/rot-frau-smartphone-surfen-5231306/
URL:https://lokal-vernetzen.de/single-event/digitale-chancen-vhs-unterwegs/2023-05-26/
LOCATION:Gogelmoschhaus\, Schafbergblick 1\, 01833 Stolpen
CATEGORIES:Kurse
ATTACH;FMTTYPE=image/jpeg:https://lokal-vernetzen.de/wp-content/uploads/2021/09/Frau-mit-Smartphone_pexels-scaled.jpg
ORGANIZER;CN="vhs S%C3%A4chsische Schweiz-Osterzgebirge e. V.":MAILTO:info@vhs-ssoe.de
END:VEVENT
END:VCALENDAR