BEGIN:VCALENDAR
VERSION:2.0
PRODID:-//Digital vernetzen - Lokal handeln - ECPv6.15.20//NONSGML v1.0//EN
CALSCALE:GREGORIAN
METHOD:PUBLISH
X-WR-CALNAME:Digital vernetzen - Lokal handeln
X-ORIGINAL-URL:https://lokal-vernetzen.de
X-WR-CALDESC:Veranstaltungen für Digital vernetzen - Lokal handeln
REFRESH-INTERVAL;VALUE=DURATION:PT1H
X-Robots-Tag:noindex
X-PUBLISHED-TTL:PT1H
BEGIN:VTIMEZONE
TZID:Europe/Berlin
BEGIN:DAYLIGHT
TZOFFSETFROM:+0100
TZOFFSETTO:+0200
TZNAME:CEST
DTSTART:20250330T010000
END:DAYLIGHT
BEGIN:STANDARD
TZOFFSETFROM:+0200
TZOFFSETTO:+0100
TZNAME:CET
DTSTART:20251026T010000
END:STANDARD
BEGIN:DAYLIGHT
TZOFFSETFROM:+0100
TZOFFSETTO:+0200
TZNAME:CEST
DTSTART:20260329T010000
END:DAYLIGHT
BEGIN:STANDARD
TZOFFSETFROM:+0200
TZOFFSETTO:+0100
TZNAME:CET
DTSTART:20261025T010000
END:STANDARD
BEGIN:DAYLIGHT
TZOFFSETFROM:+0100
TZOFFSETTO:+0200
TZNAME:CEST
DTSTART:20270328T010000
END:DAYLIGHT
BEGIN:STANDARD
TZOFFSETFROM:+0200
TZOFFSETTO:+0100
TZNAME:CET
DTSTART:20271031T010000
END:STANDARD
END:VTIMEZONE
BEGIN:VEVENT
DTSTART;TZID=Europe/Berlin:20260308T090000
DTEND;TZID=Europe/Berlin:20260308T180000
DTSTAMP:20260421T072432
CREATED:20260227T093222Z
LAST-MODIFIED:20260227T094655Z
UID:10236-1772960400-1772992800@lokal-vernetzen.de
SUMMARY:FrauenTage! ...verspielte Freiheit! Clownerie und Leichtigkeit
DESCRIPTION:Im März feiern wir zum zweiten Mal die FrauenTage! \nAn den Wochenenden veranstalten Frauen für Frauen und für alle\, die sich dafür interessieren:\nWorkshops\, Gespräche\, Vorstellungen…gemeinsames Essen. \nBleibt neugierig und probiert euch aus! \n9 – 9:45\nMit Bewegung\, Musik und Leichtigkeit in den Tag\nHelena Fernandino \n9:45 – 10:45\nFrühstück \n11 – 14 | Workshop\nVerspielte Freiheit | Clownerie mit Spuren von Leichtigkeit und Lebensfreude\nYaelle Dorison \n14:30\nKaffee & Kuchen \n16:00 | Vorstellung\nLiebe\, Sex und Zärtlichkeit… wie läuft das eigentlich?  eine Clownin stellt die Fragen…\nMit Yaelle Dorison und Julia Richter \nAlle Veranstaltungen auf Spendenbasis – aus Wertschätzung: Eure Spenden unterstützen die Beteiligten und die Weiterentwicklung unserer Aktivitäten \nFoto: Kulturbaude und Landkunst e.V.
URL:https://lokal-vernetzen.de/single-event/frauentage/
LOCATION:Heymannbaude\, Schulweg 43\, 01824 Gohrisch/Kleinhennersdorf
CATEGORIES:Aktionstage,Austausch / Vernetzung / Diskussion,Kultur,Vortrag
ATTACH;FMTTYPE=image/jpeg:https://lokal-vernetzen.de/wp-content/uploads/2026/02/IMG_0954.jpg
ORGANIZER;CN="Heymannbaude":MAILTO:info@heymannbaude.org
END:VEVENT
END:VCALENDAR