BEGIN:VCALENDAR
VERSION:2.0
PRODID:-//Digital vernetzen - Lokal handeln - ECPv6.15.20//NONSGML v1.0//EN
CALSCALE:GREGORIAN
METHOD:PUBLISH
X-WR-CALNAME:Digital vernetzen - Lokal handeln
X-ORIGINAL-URL:https://lokal-vernetzen.de
X-WR-CALDESC:Veranstaltungen für Digital vernetzen - Lokal handeln
REFRESH-INTERVAL;VALUE=DURATION:PT1H
X-Robots-Tag:noindex
X-PUBLISHED-TTL:PT1H
BEGIN:VTIMEZONE
TZID:Europe/Berlin
BEGIN:DAYLIGHT
TZOFFSETFROM:+0100
TZOFFSETTO:+0200
TZNAME:CEST
DTSTART:20220327T010000
END:DAYLIGHT
BEGIN:STANDARD
TZOFFSETFROM:+0200
TZOFFSETTO:+0100
TZNAME:CET
DTSTART:20221030T010000
END:STANDARD
BEGIN:DAYLIGHT
TZOFFSETFROM:+0100
TZOFFSETTO:+0200
TZNAME:CEST
DTSTART:20230326T010000
END:DAYLIGHT
BEGIN:STANDARD
TZOFFSETFROM:+0200
TZOFFSETTO:+0100
TZNAME:CET
DTSTART:20231029T010000
END:STANDARD
BEGIN:DAYLIGHT
TZOFFSETFROM:+0100
TZOFFSETTO:+0200
TZNAME:CEST
DTSTART:20240331T010000
END:DAYLIGHT
BEGIN:STANDARD
TZOFFSETFROM:+0200
TZOFFSETTO:+0100
TZNAME:CET
DTSTART:20241027T010000
END:STANDARD
END:VTIMEZONE
BEGIN:VEVENT
DTSTART;TZID=Europe/Berlin:20230828T183000
DTEND;TZID=Europe/Berlin:20230828T200000
DTSTAMP:20260420T080016
CREATED:20230807T150207Z
LAST-MODIFIED:20230807T150207Z
UID:10006811-1693247400-1693252800@lokal-vernetzen.de
SUMMARY:Hatha-Yoga Kurs mit 10 Terminen
DESCRIPTION:Yoga ist eine uralte indische Lehre und Lebensphilosophie\, ein bewährter Pfad zum Finden von Bewusstseinsstärke\, innerer Ordnung und Stabilität. Hatha-Yoga kräftigt zudem den Körper\, macht ihn geschmeidig und hält ihn gesund. Dehnungs-\, Entspannungs- und Atemübungen sowie einfache Körperhaltungen (Asanas) dienen dem Wohlbefinden und fördern die körperliche\, geistige und seelische Vitalität.\nDie Kurse sind für Anfänger\, aber auch für bereits länger Praktizierende geeignet. \n\n\n\n\nmitzubringende Materialien\nHandtuch\, Decke\, warme Socken und bequeme Kleidung \n\n\n\nAnmeldung: hier\n\nZuzana Bendikova  Yoga-Lehrerin \n\n\n\n\nKurstermine\n\n\n\n#\nDatum\nUhrzeit\n\n\n\n\n1.\nMo.\, 21.08.2023\n18:30–20:00 Uhr\n\n\n2.\nMo.\, 28.08.2023\n18:30–20:00 Uhr\n\n\n3.\nMo.\, 04.09.2023\n18:30–20:00 Uhr\n\n\n4.\nMo.\, 11.09.2023\n18:30–20:00 Uhr\n\n\n5.\nMo.\, 18.09.2023\n18:30–20:00 Uhr\n\n\n6.\nMo.\, 25.09.2023\n18:30–20:00 Uhr\n\n\n7.\nMo.\, 16.10.2023\n18:30–20:00 Uhr\n\n\n8.\nMo.\, 23.10.2023\n18:30–20:00 Uhr\n\n\n9.\nMo.\, 06.11.2023\n18:30–20:00 Uhr\n\n\n10.\nMo.\, 13.11.2023\n18:30–20:00 Uhr\n\n\n\n\n\n\n\n\n\n\n\nPhoto by Valeria Ushakova: https://www.pexels.com/photo/woman-doing-yoga-inside-a-room-3094215/
URL:https://lokal-vernetzen.de/single-event/hatha-yoga-kurs-mit-10-terminen/2023-08-28/
LOCATION:Gogelmoschhaus\, Schafbergblick 1\, 01833 Stolpen
CATEGORIES:Kurse,Sport
ATTACH;FMTTYPE=image/jpeg:https://lokal-vernetzen.de/wp-content/uploads/2023/03/pexels-valeria-ushakova-3094215.jpg
ORGANIZER;CN="vhs S%C3%A4chsische Schweiz-Osterzgebirge e. V.":MAILTO:info@vhs-ssoe.de
END:VEVENT
END:VCALENDAR