BEGIN:VCALENDAR
VERSION:2.0
PRODID:-//Digital vernetzen - Lokal handeln - ECPv6.15.20//NONSGML v1.0//EN
CALSCALE:GREGORIAN
METHOD:PUBLISH
X-WR-CALNAME:Digital vernetzen - Lokal handeln
X-ORIGINAL-URL:https://lokal-vernetzen.de
X-WR-CALDESC:Veranstaltungen für Digital vernetzen - Lokal handeln
REFRESH-INTERVAL;VALUE=DURATION:PT1H
X-Robots-Tag:noindex
X-PUBLISHED-TTL:PT1H
BEGIN:VTIMEZONE
TZID:Europe/Berlin
BEGIN:DAYLIGHT
TZOFFSETFROM:+0100
TZOFFSETTO:+0200
TZNAME:CEST
DTSTART:20250330T010000
END:DAYLIGHT
BEGIN:STANDARD
TZOFFSETFROM:+0200
TZOFFSETTO:+0100
TZNAME:CET
DTSTART:20251026T010000
END:STANDARD
BEGIN:DAYLIGHT
TZOFFSETFROM:+0100
TZOFFSETTO:+0200
TZNAME:CEST
DTSTART:20260329T010000
END:DAYLIGHT
BEGIN:STANDARD
TZOFFSETFROM:+0200
TZOFFSETTO:+0100
TZNAME:CET
DTSTART:20261025T010000
END:STANDARD
BEGIN:DAYLIGHT
TZOFFSETFROM:+0100
TZOFFSETTO:+0200
TZNAME:CEST
DTSTART:20270328T010000
END:DAYLIGHT
BEGIN:STANDARD
TZOFFSETFROM:+0200
TZOFFSETTO:+0100
TZNAME:CET
DTSTART:20271031T010000
END:STANDARD
END:VTIMEZONE
BEGIN:VEVENT
DTSTART;TZID=Europe/Berlin:20260802T140000
DTEND;TZID=Europe/Berlin:20260802T160000
DTSTAMP:20260420T175344
CREATED:20260302T130209Z
LAST-MODIFIED:20260302T130209Z
UID:10251-1785679200-1785686400@lokal-vernetzen.de
SUMMARY:Hof-Tour – Sommerferien-Special: Von Fjordpferden\, Hoftieren und Wildbiene Wonka
DESCRIPTION:Unsere Hof-Tour wird zum Natur-Rätselabenteuer! Gemeinsam erkunden wir die Umgebung rund um das Landgut vom Hof über bunte Wiesen und den Entdeckerteich bis in den Bienenwald. An spannenden Stationen warten kleine Aufgaben: Tierspuren zuordnen\, Natur-Rätsel knacken und Lebensräume entdecken. Wie leben Wald- und Wiesentiere? Spielerisch finden wir es heraus. Im Bienenwald halten wir Ausschau nach Wildbiene Wonka und erfahren\, warum sie und ihre Artgenossen so unglaublich wichtig sind. Unterwegs begegnen wir außerdem unseren Fjordpferden\, den neugierigen Thüringer Waldziegen und den farbenfrohen Schwedischen Blumenhühnern und erleben\, wie eng Tiere und Natur miteinander verbunden sind. Eine 2-stündige Naturerlebnis-Tour zum Mitmachen\, Entdecken und Staunen für Kinder und Familien. \nStrecke: ca. 2–3 km\, kinderwagentauglich\nKind: 4\,- € | Erwachsener: 8\,- € | Familienticket (2 Erw. + bis zu 2 Kinder): 15\,- €\nAnmeldung telefonisch unter 0170-7739069 (Anna-Karina Kemper) oder unter hoftour@lgks.eu\nWeitere Informationen unter: www.lgks.eu \nBild: www.lgks.eu
URL:https://lokal-vernetzen.de/single-event/hof-tour-sommerferien-special-von-fjordpferden-hoftieren-und-wildbiene-wonka/
LOCATION:Landgut Kemper & Schlomski\, Großröhrsdorfer Straße 3\, Liebstadt\, 01825
CATEGORIES:Aktionstage,an der frischen Luft,Austausch / Vernetzung / Diskussion,Kinder und Jugendliche
ATTACH;FMTTYPE=image/jpeg:https://lokal-vernetzen.de/wp-content/uploads/2026/03/69a586f4f2f37.jpg
ORGANIZER;CN="Landgut Kemper & Schlomski":MAILTO:info@lgks.eu
END:VEVENT
END:VCALENDAR