BEGIN:VCALENDAR
VERSION:2.0
PRODID:-//Digital vernetzen - Lokal handeln - ECPv6.15.20//NONSGML v1.0//EN
CALSCALE:GREGORIAN
METHOD:PUBLISH
X-WR-CALNAME:Digital vernetzen - Lokal handeln
X-ORIGINAL-URL:https://lokal-vernetzen.de
X-WR-CALDESC:Veranstaltungen für Digital vernetzen - Lokal handeln
REFRESH-INTERVAL;VALUE=DURATION:PT1H
X-Robots-Tag:noindex
X-PUBLISHED-TTL:PT1H
BEGIN:VTIMEZONE
TZID:Europe/Berlin
BEGIN:DAYLIGHT
TZOFFSETFROM:+0100
TZOFFSETTO:+0200
TZNAME:CEST
DTSTART:20240331T010000
END:DAYLIGHT
BEGIN:STANDARD
TZOFFSETFROM:+0200
TZOFFSETTO:+0100
TZNAME:CET
DTSTART:20241027T010000
END:STANDARD
BEGIN:DAYLIGHT
TZOFFSETFROM:+0100
TZOFFSETTO:+0200
TZNAME:CEST
DTSTART:20250330T010000
END:DAYLIGHT
BEGIN:STANDARD
TZOFFSETFROM:+0200
TZOFFSETTO:+0100
TZNAME:CET
DTSTART:20251026T010000
END:STANDARD
BEGIN:DAYLIGHT
TZOFFSETFROM:+0100
TZOFFSETTO:+0200
TZNAME:CEST
DTSTART:20260329T010000
END:DAYLIGHT
BEGIN:STANDARD
TZOFFSETFROM:+0200
TZOFFSETTO:+0100
TZNAME:CET
DTSTART:20261025T010000
END:STANDARD
END:VTIMEZONE
BEGIN:VEVENT
DTSTART;TZID=Europe/Berlin:20250927T190000
DTEND;TZID=Europe/Berlin:20250927T203000
DTSTAMP:20260420T181412
CREATED:20250826T125508Z
LAST-MODIFIED:20250827T095204Z
UID:9872-1758999600-1759005000@lokal-vernetzen.de
SUMMARY:Interkulturelle Woche: 147. Galeriekonzert: Aufgefunden – Streifzüge durch die musikalische Welt des 17. und 18. Jahrhunderts
DESCRIPTION:Sebastian Knebel (Cembalo) und Nelly Sturm (Blockflöten/Fagott) begeben sich auf die Suche\, ziehen bereits Vergessenes wieder hervor\, um es vom Staub zu befreien und neu zusammenzufügen. Ein zentraler Wesenskern von Musik des 17. und 18. Jahrhunderts ist ihre Beeinflussung durch andere Kulturen: Vor allem der Transfer italienischer Gesanglichkeit und französisch-tänzerischer Eleganz prägte das Schaffen Matthew Lockes und Henry Purcells (England)\, oder Georg Philipp Telemanns und Christoph Schaffraths (Deutschland)\, deren Sonaten\, Suiten und Fantasien zum Konzert erklingen. \nEintritt: 16 € / ermäßigt: 14 € \n  \nBild: Interkulturelle Woche
URL:https://lokal-vernetzen.de/single-event/interkulturelle-woche-147-galeriekonzert-aufgefunden-streifzuege-durch-die-musikalische-welt-des-17-und-18-jahrhunderts/
LOCATION:StadtMuseum Pirna\, Klosterhof 2\, 01796 Pirna
CATEGORIES:Aktionstage,Kultur
ATTACH;FMTTYPE=image/jpeg:https://lokal-vernetzen.de/wp-content/uploads/2025/08/IKW-Pirna-2025-Kachel-1-werber.jpg
END:VEVENT
END:VCALENDAR