BEGIN:VCALENDAR
VERSION:2.0
PRODID:-//Digital vernetzen - Lokal handeln - ECPv6.15.20//NONSGML v1.0//EN
CALSCALE:GREGORIAN
METHOD:PUBLISH
X-WR-CALNAME:Digital vernetzen - Lokal handeln
X-ORIGINAL-URL:https://lokal-vernetzen.de
X-WR-CALDESC:Veranstaltungen für Digital vernetzen - Lokal handeln
REFRESH-INTERVAL;VALUE=DURATION:PT1H
X-Robots-Tag:noindex
X-PUBLISHED-TTL:PT1H
BEGIN:VTIMEZONE
TZID:Europe/Berlin
BEGIN:DAYLIGHT
TZOFFSETFROM:+0100
TZOFFSETTO:+0200
TZNAME:CEST
DTSTART:20240331T010000
END:DAYLIGHT
BEGIN:STANDARD
TZOFFSETFROM:+0200
TZOFFSETTO:+0100
TZNAME:CET
DTSTART:20241027T010000
END:STANDARD
BEGIN:DAYLIGHT
TZOFFSETFROM:+0100
TZOFFSETTO:+0200
TZNAME:CEST
DTSTART:20250330T010000
END:DAYLIGHT
BEGIN:STANDARD
TZOFFSETFROM:+0200
TZOFFSETTO:+0100
TZNAME:CET
DTSTART:20251026T010000
END:STANDARD
BEGIN:DAYLIGHT
TZOFFSETFROM:+0100
TZOFFSETTO:+0200
TZNAME:CEST
DTSTART:20260329T010000
END:DAYLIGHT
BEGIN:STANDARD
TZOFFSETFROM:+0200
TZOFFSETTO:+0100
TZNAME:CET
DTSTART:20261025T010000
END:STANDARD
END:VTIMEZONE
BEGIN:VEVENT
DTSTART;TZID=Europe/Berlin:20250928T103000
DTEND;TZID=Europe/Berlin:20250928T123000
DTSTAMP:20260420T162123
CREATED:20250826T130109Z
LAST-MODIFIED:20250827T095156Z
UID:9874-1759055400-1759062600@lokal-vernetzen.de
SUMMARY:Interkulturelle Woche: Erntedankfest Pirna 2025 „Fülle und Dank“
DESCRIPTION:Nach dem Erntedankgottesdienst in der Marienkirche wird am Sonntag gegen 11 Uhr an der Erntekrone zu einer Andacht und fröhlichem Tanz eingeladen. Um 14.30 Uhr zeigt das Tanzensemble der TU Dresden „Thea Maass“ Folkloretänze zur Erntezeit. Zwischendrin können alle Pirnaer und Gäste auf dem Marktplatz mittanzen. \nKontakt: Gabriele.Feyler@gmail.com\, Tel. 0177 1757671 \nBild: Interkulturelle Woche
URL:https://lokal-vernetzen.de/single-event/interkulturelle-woche-erntedankfest-pirna-2025-fuelle-und-dank-2/
LOCATION:Marktplatz Pirna\, Am Markt 1/2\, Pirna\, 01796
CATEGORIES:Aktionstage,an der frischen Luft,Austausch / Vernetzung / Diskussion,Kultur
ATTACH;FMTTYPE=image/jpeg:https://lokal-vernetzen.de/wp-content/uploads/2025/08/IKW-Pirna-2025-Kachel-1-werber.jpg
END:VEVENT
END:VCALENDAR