BEGIN:VCALENDAR
VERSION:2.0
PRODID:-//Digital vernetzen - Lokal handeln - ECPv6.15.20//NONSGML v1.0//EN
CALSCALE:GREGORIAN
METHOD:PUBLISH
X-WR-CALNAME:Digital vernetzen - Lokal handeln
X-ORIGINAL-URL:https://lokal-vernetzen.de
X-WR-CALDESC:Veranstaltungen für Digital vernetzen - Lokal handeln
REFRESH-INTERVAL;VALUE=DURATION:PT1H
X-Robots-Tag:noindex
X-PUBLISHED-TTL:PT1H
BEGIN:VTIMEZONE
TZID:Europe/Berlin
BEGIN:DAYLIGHT
TZOFFSETFROM:+0100
TZOFFSETTO:+0200
TZNAME:CEST
DTSTART:20220327T010000
END:DAYLIGHT
BEGIN:STANDARD
TZOFFSETFROM:+0200
TZOFFSETTO:+0100
TZNAME:CET
DTSTART:20221030T010000
END:STANDARD
BEGIN:DAYLIGHT
TZOFFSETFROM:+0100
TZOFFSETTO:+0200
TZNAME:CEST
DTSTART:20230326T010000
END:DAYLIGHT
BEGIN:STANDARD
TZOFFSETFROM:+0200
TZOFFSETTO:+0100
TZNAME:CET
DTSTART:20231029T010000
END:STANDARD
BEGIN:DAYLIGHT
TZOFFSETFROM:+0100
TZOFFSETTO:+0200
TZNAME:CEST
DTSTART:20240331T010000
END:DAYLIGHT
BEGIN:STANDARD
TZOFFSETFROM:+0200
TZOFFSETTO:+0100
TZNAME:CET
DTSTART:20241027T010000
END:STANDARD
END:VTIMEZONE
BEGIN:VEVENT
DTSTART;TZID=Europe/Berlin:20230709T130000
DTEND;TZID=Europe/Berlin:20230709T160000
DTSTAMP:20260424T114939
CREATED:20230523T084845Z
LAST-MODIFIED:20230523T092157Z
UID:7868-1688907600-1688918400@lokal-vernetzen.de
SUMMARY:Nachbarschaftsfest in Cínovec \, CZ\, bei Zinnwald
DESCRIPTION:Lebendige\, deutsch-tschechische Begegnung vor der Maria Himmelfahrtskirche in Cínovec\nSchon fast traditionell findet auch dieses Jahr das kleine\, feine Nachbarschaftsfest in Cínovec an diesem Sommernachmittag statt. Egal ob Jung oder Alt\, aus der Ferne oder dem Haus gegenüber… Alle sind herzlich eingeladen zu dieser lebendigen\, deutsch-tschechischen Begegnung an der Kirche in Cínovec. Bringt euren Lieblingskuchen mit und verkostet ihn mit dem Nachbarn – für Kaffee ist gesorgt. Und was gibt’s noch zu erleben? \n\nkleines Konzert mit den tschechischen Musikern von „Liedern ohne Grenzen“\nSprachanimation D – CZ\nSchatzsuche für Groß und Klein\nFriedhofsführung auf dem alten\, historisch interessanten Friedhof an der Cínovecer Kirche\n\nDas Fest findet ihm Rahmen des deutsch-tschechischen HeuHoj-Camps statt. \nhttps://www.naturschutzstation-osterzgebirge.de/grenzuebergreifend/heuhoj-camp/ \n 
URL:https://lokal-vernetzen.de/single-event/nachbarschaftsfest-in-cinovec-cz-bei-zinnwald/
LOCATION:Chinovec\, Hřbitov\, Cínovec\, Dubí\,\, 415 01\, Czech Republic
CATEGORIES:an der frischen Luft,Austausch / Vernetzung / Diskussion,Feier,Kultur
ATTACH;FMTTYPE=image/png:https://lokal-vernetzen.de/wp-content/uploads/2023/05/Nachbarschaftsfest.png
ORGANIZER;CN="Naturschutzstation Osterzgebirge e.V.":MAILTO:info@naturschutzstation-osterzgebirge.de
END:VEVENT
END:VCALENDAR