BEGIN:VCALENDAR
VERSION:2.0
PRODID:-//Digital vernetzen - Lokal handeln - ECPv6.15.20//NONSGML v1.0//EN
CALSCALE:GREGORIAN
METHOD:PUBLISH
X-WR-CALNAME:Digital vernetzen - Lokal handeln
X-ORIGINAL-URL:https://lokal-vernetzen.de
X-WR-CALDESC:Veranstaltungen für Digital vernetzen - Lokal handeln
REFRESH-INTERVAL;VALUE=DURATION:PT1H
X-Robots-Tag:noindex
X-PUBLISHED-TTL:PT1H
BEGIN:VTIMEZONE
TZID:Europe/Berlin
BEGIN:DAYLIGHT
TZOFFSETFROM:+0100
TZOFFSETTO:+0200
TZNAME:CEST
DTSTART:20220327T010000
END:DAYLIGHT
BEGIN:STANDARD
TZOFFSETFROM:+0200
TZOFFSETTO:+0100
TZNAME:CET
DTSTART:20221030T010000
END:STANDARD
BEGIN:DAYLIGHT
TZOFFSETFROM:+0100
TZOFFSETTO:+0200
TZNAME:CEST
DTSTART:20230326T010000
END:DAYLIGHT
BEGIN:STANDARD
TZOFFSETFROM:+0200
TZOFFSETTO:+0100
TZNAME:CET
DTSTART:20231029T010000
END:STANDARD
BEGIN:DAYLIGHT
TZOFFSETFROM:+0100
TZOFFSETTO:+0200
TZNAME:CEST
DTSTART:20240331T010000
END:DAYLIGHT
BEGIN:STANDARD
TZOFFSETFROM:+0200
TZOFFSETTO:+0100
TZNAME:CET
DTSTART:20241027T010000
END:STANDARD
END:VTIMEZONE
BEGIN:VEVENT
DTSTART;TZID=Europe/Berlin:20230908T150000
DTEND;TZID=Europe/Berlin:20230908T150000
DTSTAMP:20260423T130947
CREATED:20230209T093654Z
LAST-MODIFIED:20230209T093832Z
UID:7163-1694185200-1694185200@lokal-vernetzen.de
SUMMARY:Pilzexkursion: Pilze sammeln und bestimmen
DESCRIPTION:Pilze sammeln und bestimmen\n„Die Pilze sprießen jetzt hoffentlich…?“\, fragt der geneigte Pilzsammler und blickt suchend auf den Waldboden. Ausschwärmen\, sammeln und dann bestimmen – Referentin Frau Wawrok unterstützt Sie mit ihrem Fachwissen bei dieser Exkursion der Naturschutzstation Osterzgebirge. \nOrt: Treffpunkt: Parkplatz Hohe Straße (von Berggießhübel Richtung Hellendorf\, Aussicht auf Bad Gottleuba) – genauere Angaben bei Anmeldung \nDie Teilnahme ist kostenlos\, Platzkapazitäten sind begrenzt\, daher ist eine Anmeldung erforderlich unter info@naturschutzstation-osterzgebirge.de \nFoto: Naturschutzstation Osterzgebirge e.V.
URL:https://lokal-vernetzen.de/single-event/pilzexkursion-2/
CATEGORIES:an der frischen Luft,Kurse
ATTACH;FMTTYPE=image/jpeg:https://lokal-vernetzen.de/wp-content/uploads/2023/02/20210912_111424-Pilz.jpg
END:VEVENT
END:VCALENDAR