BEGIN:VCALENDAR
VERSION:2.0
PRODID:-//Digital vernetzen - Lokal handeln - ECPv6.15.20//NONSGML v1.0//EN
CALSCALE:GREGORIAN
METHOD:PUBLISH
X-WR-CALNAME:Digital vernetzen - Lokal handeln
X-ORIGINAL-URL:https://lokal-vernetzen.de
X-WR-CALDESC:Veranstaltungen für Digital vernetzen - Lokal handeln
REFRESH-INTERVAL;VALUE=DURATION:PT1H
X-Robots-Tag:noindex
X-PUBLISHED-TTL:PT1H
BEGIN:VTIMEZONE
TZID:Europe/Berlin
BEGIN:DAYLIGHT
TZOFFSETFROM:+0100
TZOFFSETTO:+0200
TZNAME:CEST
DTSTART:20230326T010000
END:DAYLIGHT
BEGIN:STANDARD
TZOFFSETFROM:+0200
TZOFFSETTO:+0100
TZNAME:CET
DTSTART:20231029T010000
END:STANDARD
BEGIN:DAYLIGHT
TZOFFSETFROM:+0100
TZOFFSETTO:+0200
TZNAME:CEST
DTSTART:20240331T010000
END:DAYLIGHT
BEGIN:STANDARD
TZOFFSETFROM:+0200
TZOFFSETTO:+0100
TZNAME:CET
DTSTART:20241027T010000
END:STANDARD
BEGIN:DAYLIGHT
TZOFFSETFROM:+0100
TZOFFSETTO:+0200
TZNAME:CEST
DTSTART:20250330T010000
END:DAYLIGHT
BEGIN:STANDARD
TZOFFSETFROM:+0200
TZOFFSETTO:+0100
TZNAME:CET
DTSTART:20251026T010000
END:STANDARD
END:VTIMEZONE
BEGIN:VEVENT
DTSTART;TZID=Europe/Berlin:20241130T100000
DTEND;TZID=Europe/Berlin:20241130T150000
DTSTAMP:20260422T150238
CREATED:20240910T135903Z
LAST-MODIFIED:20240910T135903Z
UID:9041-1732960800-1732978800@lokal-vernetzen.de
SUMMARY:Praxistag der Jungen Naturwächter: Igel\, Eichhörnchen und Feuersalamander
DESCRIPTION:Praxistag der Jungen Naturwächter: Igel\, Eichhörnchen und Feuersalamander\n  \nAm 30. November erwartet euch ein spannender Praxistag der Jungen Naturwächter zum Thema „Igel\, Eichhörnchen und Feuersalamander“! Gemeinsam erkunden wir den Wald und erfahren\, wie Tiere und Pflanzen den Winter überstehen – von Winterruhe und Winterschlaf bis hin zur Winterstarre. Als Highlight bauen wir Winterquartiere für Tiere\, wie Reisighaufen und andere Unterschlüpfe\, um ihnen zu helfen\, gut durch die kalte Jahreszeit zu kommen. Sei dabei und entdecke\, wie die Natur sich auf den Winter vorbereitet! \nDer Praxistag ist für alle offen und die Veranstaltung ist kostenfrei. \nAnmeldungen unter: barnewitz@naturschutzstation-osterzgebirge.de oder 0162 – 6336480
URL:https://lokal-vernetzen.de/single-event/praxistag-der-jungen-naturwaechter-igel-eichhoernchen-und-feuersalamander/
LOCATION:Permahof Hohburkersdorf\, Brückenstraße 27\, Hohnstein\, 01848
CATEGORIES:Aktionstage,an der frischen Luft,Kinder und Jugendliche
ATTACH;FMTTYPE=image/jpeg:https://lokal-vernetzen.de/wp-content/uploads/2024/09/66dd952ce0337-scaled.jpg
ORGANIZER;CN="Naturschutzstation Osterzgebirge e.V.":MAILTO:info@naturschutzstation-osterzgebirge.de
END:VEVENT
END:VCALENDAR