BEGIN:VCALENDAR
VERSION:2.0
PRODID:-//Digital vernetzen - Lokal handeln - ECPv6.15.20//NONSGML v1.0//EN
CALSCALE:GREGORIAN
METHOD:PUBLISH
X-WR-CALNAME:Digital vernetzen - Lokal handeln
X-ORIGINAL-URL:https://lokal-vernetzen.de
X-WR-CALDESC:Veranstaltungen für Digital vernetzen - Lokal handeln
REFRESH-INTERVAL;VALUE=DURATION:PT1H
X-Robots-Tag:noindex
X-PUBLISHED-TTL:PT1H
BEGIN:VTIMEZONE
TZID:Europe/Berlin
BEGIN:DAYLIGHT
TZOFFSETFROM:+0100
TZOFFSETTO:+0200
TZNAME:CEST
DTSTART:20240331T010000
END:DAYLIGHT
BEGIN:STANDARD
TZOFFSETFROM:+0200
TZOFFSETTO:+0100
TZNAME:CET
DTSTART:20241027T010000
END:STANDARD
BEGIN:DAYLIGHT
TZOFFSETFROM:+0100
TZOFFSETTO:+0200
TZNAME:CEST
DTSTART:20250330T010000
END:DAYLIGHT
BEGIN:STANDARD
TZOFFSETFROM:+0200
TZOFFSETTO:+0100
TZNAME:CET
DTSTART:20251026T010000
END:STANDARD
BEGIN:DAYLIGHT
TZOFFSETFROM:+0100
TZOFFSETTO:+0200
TZNAME:CEST
DTSTART:20260329T010000
END:DAYLIGHT
BEGIN:STANDARD
TZOFFSETFROM:+0200
TZOFFSETTO:+0100
TZNAME:CET
DTSTART:20261025T010000
END:STANDARD
END:VTIMEZONE
BEGIN:VEVENT
DTSTART;TZID=Europe/Berlin:20250906T200000
DTEND;TZID=Europe/Berlin:20250906T220000
DTSTAMP:20260420T110352
CREATED:20250825T082059Z
LAST-MODIFIED:20250825T082331Z
UID:9793-1757188800-1757196000@lokal-vernetzen.de
SUMMARY:Konzert: Riders Connection
DESCRIPTION:06.09.\, 20:00 Uhr\nRiders Connection\nReggae – aus Berlin. Der Sound des Quartetts ist zusammengetupft aus Folk\, Pop\, Soul und Beatboxing. Wie eine warme\, herzliche Umarmung. Wie heißt es doch? Wir kommen als Konzertbesucher und wir gehen als Freunde. \nAufgrund hoher erwarteter Besucherzahlen bitten wir bitten um Reservierung unter info@uniwerk.de.\nTicketkauf nur an der Abendkasse und nur Barzahlung. \nEintritt: 20 EUR | ermäßigt 10 EUR\nhttps://uniwerk.de/2023/12/28/riders-connection/ \nBild: Philipp Ressel
URL:https://lokal-vernetzen.de/single-event/riders-connection/
LOCATION:Uniwerk e.V.\, Obere Burgstraße 6b\, Pirna\, 01796\, Germany
CATEGORIES:Feier,Kultur
ATTACH;FMTTYPE=image/webp:https://lokal-vernetzen.de/wp-content/uploads/2025/08/Riders-Connection-708x398-c-Philipp-Ressel.webp
ORGANIZER;CN="Uniwerk e.V.":MAILTO:info@uniwerk.de
END:VEVENT
END:VCALENDAR