BEGIN:VCALENDAR
VERSION:2.0
PRODID:-//Digital vernetzen - Lokal handeln - ECPv6.15.20//NONSGML v1.0//EN
CALSCALE:GREGORIAN
METHOD:PUBLISH
X-WR-CALNAME:Digital vernetzen - Lokal handeln
X-ORIGINAL-URL:https://lokal-vernetzen.de
X-WR-CALDESC:Veranstaltungen für Digital vernetzen - Lokal handeln
REFRESH-INTERVAL;VALUE=DURATION:PT1H
X-Robots-Tag:noindex
X-PUBLISHED-TTL:PT1H
BEGIN:VTIMEZONE
TZID:Europe/Berlin
BEGIN:DAYLIGHT
TZOFFSETFROM:+0100
TZOFFSETTO:+0200
TZNAME:CEST
DTSTART:20240331T010000
END:DAYLIGHT
BEGIN:STANDARD
TZOFFSETFROM:+0200
TZOFFSETTO:+0100
TZNAME:CET
DTSTART:20241027T010000
END:STANDARD
BEGIN:DAYLIGHT
TZOFFSETFROM:+0100
TZOFFSETTO:+0200
TZNAME:CEST
DTSTART:20250330T010000
END:DAYLIGHT
BEGIN:STANDARD
TZOFFSETFROM:+0200
TZOFFSETTO:+0100
TZNAME:CET
DTSTART:20251026T010000
END:STANDARD
BEGIN:DAYLIGHT
TZOFFSETFROM:+0100
TZOFFSETTO:+0200
TZNAME:CEST
DTSTART:20260329T010000
END:DAYLIGHT
BEGIN:STANDARD
TZOFFSETFROM:+0200
TZOFFSETTO:+0100
TZNAME:CET
DTSTART:20261025T010000
END:STANDARD
END:VTIMEZONE
BEGIN:VEVENT
DTSTART;TZID=Europe/Berlin:20250614T100000
DTEND;TZID=Europe/Berlin:20250614T140000
DTSTAMP:20260422T035721
CREATED:20250423T104933Z
LAST-MODIFIED:20250423T104933Z
UID:9585-1749895200-1749909600@lokal-vernetzen.de
SUMMARY:Sensenkurs
DESCRIPTION:Sensenkurs \nNaturnahes\, insektenfreundliches Mähen? Kein Problem\, wenn man mit einer Sense umzugehen weiß. Diese traditionelle Wiesenmahd-Art erfordert etwas Übung und die richtigen Anwendungstipps. Wer diese schon immer einmal erfahren wollte\, ist herzlich eingeladen! Die Teilnahme ist kostenfrei. Referent: Jörg Lehnert\nDa nur 10 Personen teilnehmen können\, ist eine Anmeldung erforderlich – bitte direkt unter 0173 / 3800675. \nBild: Naturschutzstation Osterzgebirge e. V.
URL:https://lokal-vernetzen.de/single-event/sensenkurs-2/
LOCATION:Oelsener Höhe\, 01816 Bad Gottleuba-Berggießhübel
CATEGORIES:Aktionstage,an der frischen Luft,Kurse
ATTACH;FMTTYPE=image/jpeg:https://lokal-vernetzen.de/wp-content/uploads/2025/04/68089ba30887c.jpg
ORGANIZER;CN="Naturschutzstation Osterzgebirge e.V.":MAILTO:info@naturschutzstation-osterzgebirge.de
END:VEVENT
END:VCALENDAR