BEGIN:VCALENDAR
VERSION:2.0
PRODID:-//Digital vernetzen - Lokal handeln - ECPv6.15.20//NONSGML v1.0//EN
CALSCALE:GREGORIAN
METHOD:PUBLISH
X-WR-CALNAME:Digital vernetzen - Lokal handeln
X-ORIGINAL-URL:https://lokal-vernetzen.de
X-WR-CALDESC:Veranstaltungen für Digital vernetzen - Lokal handeln
REFRESH-INTERVAL;VALUE=DURATION:PT1H
X-Robots-Tag:noindex
X-PUBLISHED-TTL:PT1H
BEGIN:VTIMEZONE
TZID:Europe/Berlin
BEGIN:DAYLIGHT
TZOFFSETFROM:+0100
TZOFFSETTO:+0200
TZNAME:CEST
DTSTART:20220327T010000
END:DAYLIGHT
BEGIN:STANDARD
TZOFFSETFROM:+0200
TZOFFSETTO:+0100
TZNAME:CET
DTSTART:20221030T010000
END:STANDARD
BEGIN:DAYLIGHT
TZOFFSETFROM:+0100
TZOFFSETTO:+0200
TZNAME:CEST
DTSTART:20230326T010000
END:DAYLIGHT
BEGIN:STANDARD
TZOFFSETFROM:+0200
TZOFFSETTO:+0100
TZNAME:CET
DTSTART:20231029T010000
END:STANDARD
BEGIN:DAYLIGHT
TZOFFSETFROM:+0100
TZOFFSETTO:+0200
TZNAME:CEST
DTSTART:20240331T010000
END:DAYLIGHT
BEGIN:STANDARD
TZOFFSETFROM:+0200
TZOFFSETTO:+0100
TZNAME:CET
DTSTART:20241027T010000
END:STANDARD
END:VTIMEZONE
BEGIN:VEVENT
DTSTART;TZID=Europe/Berlin:20230923T160000
DTEND;TZID=Europe/Berlin:20230923T230000
DTSTAMP:20260420T044723
CREATED:20230109T094530Z
LAST-MODIFIED:20230109T094530Z
UID:6993-1695484800-1695510000@lokal-vernetzen.de
SUMMARY:Stolpen liest - Lesenacht Stolpen
DESCRIPTION:In der Kneipe\, im Ratssaal oder im Haarstudio – Stolpenerinnen und Stolpener lesen für alle Bürgerinnen und Bürger und natürlich auch für Gäste\, woher auch immer. Abschlussveranstaltung wird im Burghotel sein mit dem Lesetheater und anschließend sind alle eingeladen zu „Stolpen tanzt“.
URL:https://lokal-vernetzen.de/single-event/stolpen-liest-lesenacht-stolpen/
CATEGORIES:Aktionstage,Kultur
ATTACH;FMTTYPE=image/png:https://lokal-vernetzen.de/wp-content/uploads/2023/01/stolpen_liest_logo_quadr.png
END:VEVENT
END:VCALENDAR