BEGIN:VCALENDAR
VERSION:2.0
PRODID:-//Digital vernetzen - Lokal handeln - ECPv6.15.20//NONSGML v1.0//EN
CALSCALE:GREGORIAN
METHOD:PUBLISH
X-WR-CALNAME:Digital vernetzen - Lokal handeln
X-ORIGINAL-URL:https://lokal-vernetzen.de
X-WR-CALDESC:Veranstaltungen für Digital vernetzen - Lokal handeln
REFRESH-INTERVAL;VALUE=DURATION:PT1H
X-Robots-Tag:noindex
X-PUBLISHED-TTL:PT1H
BEGIN:VTIMEZONE
TZID:Europe/Berlin
BEGIN:DAYLIGHT
TZOFFSETFROM:+0100
TZOFFSETTO:+0200
TZNAME:CEST
DTSTART:20240331T010000
END:DAYLIGHT
BEGIN:STANDARD
TZOFFSETFROM:+0200
TZOFFSETTO:+0100
TZNAME:CET
DTSTART:20241027T010000
END:STANDARD
BEGIN:DAYLIGHT
TZOFFSETFROM:+0100
TZOFFSETTO:+0200
TZNAME:CEST
DTSTART:20250330T010000
END:DAYLIGHT
BEGIN:STANDARD
TZOFFSETFROM:+0200
TZOFFSETTO:+0100
TZNAME:CET
DTSTART:20251026T010000
END:STANDARD
BEGIN:DAYLIGHT
TZOFFSETFROM:+0100
TZOFFSETTO:+0200
TZNAME:CEST
DTSTART:20260329T010000
END:DAYLIGHT
BEGIN:STANDARD
TZOFFSETFROM:+0200
TZOFFSETTO:+0100
TZNAME:CET
DTSTART:20261025T010000
END:STANDARD
END:VTIMEZONE
BEGIN:VEVENT
DTSTART;TZID=Europe/Berlin:20250906T080000
DTEND;TZID=Europe/Berlin:20250907T170000
DTSTAMP:20260424T012057
CREATED:20250825T110218Z
LAST-MODIFIED:20250825T110218Z
UID:9811-1757145600-1757264400@lokal-vernetzen.de
SUMMARY:Theaterfestival Zaunkönig
DESCRIPTION:Theaterfestival Zaunkönig\nWir freuen uns auf die 3. Auflage in der Heymannbaude! Diese wird wieder zur Bühne für verschiedenstes Theater\, bunte Musik und in echt zu bestaunende Kunst…\n\nAm 6.+7. September locken Euch nach Kleinhennersdorf\, in die spätsommerlichen Berge und harzigen Wälder: Concerto Belotto + Erik Brünner\, die FeuerwehrKapelle Kleinhennersdorf\, das Theater Cie. Freaks und Fremde\, das Ensemble Incroyable\, das FigurenTheater Julia Raab\, die dollste Band Firlefanz und Grete\, das Schaukastentheater Pappschattira\, das Theater Schreiber & Post\, ein Clown Lu und Peter Till mit seinem LuftDruckOrchester! \nUnser großartiges Programm mit vielen neuen und auch schon bekannten Künstlern und Künstlerinnen findet ihr hier und Tickets gibt es ab sofort in der Baude\, dann an der FestivalKasse oder jetzt schon bei SaxTicket und Reservix! \nFlyer: Heymannbaude
URL:https://lokal-vernetzen.de/single-event/theaterfestival-zaunkoenig-2/
LOCATION:Heymannbaude\, Schulweg 43\, 01824 Gohrisch/Kleinhennersdorf
CATEGORIES:Aktionstage,Austausch / Vernetzung / Diskussion,Feier,Kultur
ATTACH;FMTTYPE=image/jpeg:https://lokal-vernetzen.de/wp-content/uploads/2025/08/Ankuendigung-mit-Baude-digital.jpeg
ORGANIZER;CN="Heymannbaude":MAILTO:info@heymannbaude.org
END:VEVENT
END:VCALENDAR