BEGIN:VCALENDAR
VERSION:2.0
PRODID:-//Digital vernetzen - Lokal handeln - ECPv6.15.20//NONSGML v1.0//EN
CALSCALE:GREGORIAN
METHOD:PUBLISH
X-ORIGINAL-URL:https://lokal-vernetzen.de
X-WR-CALDESC:Veranstaltungen für Digital vernetzen - Lokal handeln
REFRESH-INTERVAL;VALUE=DURATION:PT1H
X-Robots-Tag:noindex
X-PUBLISHED-TTL:PT1H
BEGIN:VTIMEZONE
TZID:Europe/Berlin
BEGIN:DAYLIGHT
TZOFFSETFROM:+0100
TZOFFSETTO:+0200
TZNAME:CEST
DTSTART:20220327T010000
END:DAYLIGHT
BEGIN:STANDARD
TZOFFSETFROM:+0200
TZOFFSETTO:+0100
TZNAME:CET
DTSTART:20221030T010000
END:STANDARD
BEGIN:DAYLIGHT
TZOFFSETFROM:+0100
TZOFFSETTO:+0200
TZNAME:CEST
DTSTART:20230326T010000
END:DAYLIGHT
BEGIN:STANDARD
TZOFFSETFROM:+0200
TZOFFSETTO:+0100
TZNAME:CET
DTSTART:20231029T010000
END:STANDARD
BEGIN:DAYLIGHT
TZOFFSETFROM:+0100
TZOFFSETTO:+0200
TZNAME:CEST
DTSTART:20240331T010000
END:DAYLIGHT
BEGIN:STANDARD
TZOFFSETFROM:+0200
TZOFFSETTO:+0100
TZNAME:CET
DTSTART:20241027T010000
END:STANDARD
BEGIN:DAYLIGHT
TZOFFSETFROM:+0100
TZOFFSETTO:+0200
TZNAME:CEST
DTSTART:20250330T010000
END:DAYLIGHT
BEGIN:STANDARD
TZOFFSETFROM:+0200
TZOFFSETTO:+0100
TZNAME:CET
DTSTART:20251026T010000
END:STANDARD
END:VTIMEZONE
BEGIN:VEVENT
DTSTART;TZID=Europe/Berlin:20241028T170000
DTEND;TZID=Europe/Berlin:20241028T190000
DTSTAMP:20260419T191025
CREATED:20241021T140625Z
LAST-MODIFIED:20241021T140625Z
UID:10009140-1730134800-1730142000@lokal-vernetzen.de
SUMMARY:Gründungstreffen Selbsthilfegruppe "Morbus Bechterew"
DESCRIPTION:Mitstreiter mit „Morbus Bechterew“ zur Gruppengründung am 28.10.2024 in Freital gesucht!\n„Morbus Bechterew“ (ankylosierende Spondylitis) zählt zu den chronisch entzündlich- rheumatischen Erkrankungen\, deren Symptome vielfältig sind. Sie betrifft vor allem die Wirbelsäule.\n• Es treten zum Beispiel Entzündungen an Gelenken und Sehnenansätzen sowie Augenentzündungen auf.\n• Vor allem in der zweiten Nachthälfte und am Morgen kommen häufig Schmerzen in der Lendenwirbelsäule und Morgensteifigkeit hinzu.\n• Etwa jeder 10. Betroffene klagt über entzündliche Darmerkrankungen.\n• Im schlimmsten Fall tritt eine vollständige Einsteifung der Wirbelsäule auf.\n• Durchschnittlich dauert es sieben Jahre vom Auftreten erster Symptome bis zur Diagnose.\nCa. 450.000 Menschen sind deutschlandweit an Morbus Bechterew (ankylosierende Spondylitis) erkrankt. \nSind auch Sie eine/r der Betroffenen und wohnen im Großraum Freital? \nDann kommen Sie am 28. Oktober 2024 ab 17:00 Uhr in die Räume des DVMB LV Sachsen\, Richard-Wagner-Platz 6\, 01705 Freital und gründen mit uns eine neue Selbsthilfegruppe für Morbus Bechterew Betroffene in Ihrer Region.\nDiese Gruppe soll das Angebot der Gruppen Altenberg\, Dresden und Pirna ergänzen und Ihnen eine zusätzliche Austauschmöglichkeit bieten. Ziel ist es\, dass sich Betroffene und Angehörige rund um die Region Freital zu regelmäßigen Erfahrungsaustauschen oder sportlichen Aktivitäten treffen können und sich zu Themen rund um die Erkrankung austauschen können.\nNähere Inhalte und Termine wollen wir mit Ihnen zum Gründungstreffen abstimmen.\nSie haben noch Fragen? Dann melden Sie sich gern unter\nvors@dvmb-sn.de oder 017624482811\nInstagram: dvmb_lv_sn Facebook: DVMB Landesverband Sachsen
URL:https://lokal-vernetzen.de/single-event/gruendungstreffen-selbsthilfegruppe-morbus-bechterew/
LOCATION:DVMB LV Sachsen e.V.\, 01705 Freital\, Richard-Wagner-Platz 6 (1.OG)\, Richard-Wagner-Platz 6\, Freital
CATEGORIES:Austausch / Vernetzung / Diskussion
ATTACH;FMTTYPE=application/pdf:https://lokal-vernetzen.de/wp-content/uploads/2024/10/PM-Neue-Gruppe-Freital.pdf
ORGANIZER;CN="Dvmb Landesverband Sachsen e.V":MAILTO:Jugend@dvmb-sn.de
END:VEVENT
BEGIN:VEVENT
DTSTART;TZID=Europe/Berlin:20240129T200000
DTEND;TZID=Europe/Berlin:20240129T200000
DTSTAMP:20260419T191025
CREATED:20230411T134942Z
LAST-MODIFIED:20230411T134942Z
UID:10006291-1706558400-1706558400@lokal-vernetzen.de
SUMMARY:Digitaler Stammtisch junger Betroffener mit Morbus Bechterew- monatlich
DESCRIPTION:Jeden letzten Montag ab 20 Uhr im Monat treffen sich junge Betroffene mit der chronisch entzündlichen Erkrankung Morbus Bechterew per Zoom\, um sich über verschiedene Themen rund um die Erkrankung oder zu Tipps/Impulsen zur Krankheitsbewältigung auszutauschen.\nNäheres auch auf www.dvmb-sn.de oder www.jugend-bechterew.de.\nFür Fragen stehen wir Ihnen gern unter Jugend@dvmb-sn.de zur Verfügung.
URL:https://lokal-vernetzen.de/single-event/digitaler-stammtisch-junger-betroffener-mit-morbus-bechterew-monatlich/2024-01-29/
LOCATION:Online
CATEGORIES:Austausch / Vernetzung / Diskussion
ATTACH;FMTTYPE=image/jpeg:https://lokal-vernetzen.de/wp-content/uploads/2023/04/dvmb_logo.jpg
ORGANIZER;CN="Dvmb Landesverband Sachsen e.V":MAILTO:Jugend@dvmb-sn.de
END:VEVENT
BEGIN:VEVENT
DTSTART;TZID=Europe/Berlin:20231225T200000
DTEND;TZID=Europe/Berlin:20231225T200000
DTSTAMP:20260419T191025
CREATED:20230411T134942Z
LAST-MODIFIED:20230411T134942Z
UID:10006290-1703534400-1703534400@lokal-vernetzen.de
SUMMARY:Digitaler Stammtisch junger Betroffener mit Morbus Bechterew- monatlich
DESCRIPTION:Jeden letzten Montag ab 20 Uhr im Monat treffen sich junge Betroffene mit der chronisch entzündlichen Erkrankung Morbus Bechterew per Zoom\, um sich über verschiedene Themen rund um die Erkrankung oder zu Tipps/Impulsen zur Krankheitsbewältigung auszutauschen.\nNäheres auch auf www.dvmb-sn.de oder www.jugend-bechterew.de.\nFür Fragen stehen wir Ihnen gern unter Jugend@dvmb-sn.de zur Verfügung.
URL:https://lokal-vernetzen.de/single-event/digitaler-stammtisch-junger-betroffener-mit-morbus-bechterew-monatlich/2023-12-25/
LOCATION:Online
CATEGORIES:Austausch / Vernetzung / Diskussion
ATTACH;FMTTYPE=image/jpeg:https://lokal-vernetzen.de/wp-content/uploads/2023/04/dvmb_logo.jpg
ORGANIZER;CN="Dvmb Landesverband Sachsen e.V":MAILTO:Jugend@dvmb-sn.de
END:VEVENT
BEGIN:VEVENT
DTSTART;TZID=Europe/Berlin:20231127T200000
DTEND;TZID=Europe/Berlin:20231127T200000
DTSTAMP:20260419T191025
CREATED:20230411T134942Z
LAST-MODIFIED:20230411T134942Z
UID:10006289-1701115200-1701115200@lokal-vernetzen.de
SUMMARY:Digitaler Stammtisch junger Betroffener mit Morbus Bechterew- monatlich
DESCRIPTION:Jeden letzten Montag ab 20 Uhr im Monat treffen sich junge Betroffene mit der chronisch entzündlichen Erkrankung Morbus Bechterew per Zoom\, um sich über verschiedene Themen rund um die Erkrankung oder zu Tipps/Impulsen zur Krankheitsbewältigung auszutauschen.\nNäheres auch auf www.dvmb-sn.de oder www.jugend-bechterew.de.\nFür Fragen stehen wir Ihnen gern unter Jugend@dvmb-sn.de zur Verfügung.
URL:https://lokal-vernetzen.de/single-event/digitaler-stammtisch-junger-betroffener-mit-morbus-bechterew-monatlich/2023-11-27/
LOCATION:Online
CATEGORIES:Austausch / Vernetzung / Diskussion
ATTACH;FMTTYPE=image/jpeg:https://lokal-vernetzen.de/wp-content/uploads/2023/04/dvmb_logo.jpg
ORGANIZER;CN="Dvmb Landesverband Sachsen e.V":MAILTO:Jugend@dvmb-sn.de
END:VEVENT
BEGIN:VEVENT
DTSTART;TZID=Europe/Berlin:20231030T200000
DTEND;TZID=Europe/Berlin:20231030T200000
DTSTAMP:20260419T191025
CREATED:20230928T082148Z
LAST-MODIFIED:20230928T082829Z
UID:10006827-1698696000-1698696000@lokal-vernetzen.de
SUMMARY:Stammtisch der Jugend der Deutschen Vereinigung Morbus Bechterew
DESCRIPTION:Der Stammtisch findet online statt\, jeden letzten Montag im Monat ab 20 Uhr. \nEs sind dabei folgende Themen geplant: \n30.10:                 „Medikamente der Bechterew Therapie und das Immunsystem- verträgt sich das auf Dauer?“   \nGeplanter Gast: Dr. med. Rebecca Hasseli-Fräbel-Stellvertretende Leiterin der Sektion für Rheumatologie und Klinische Immunologie Universitätsklinikum Münster Medizinische Klinik D \n  \n27.11.                 „Was gibt es Neues zur Morbus Bechterew-App“-  \nAktuelles zum Stand der App und zur Studie direkt von den beiden Entwicklern Maxime le Maire und Tobias Heusinger \n  \nZoom-Link: \nDen Zoom Link schickt Ihnen auf Anfrage Frau Schmalisch:  vors@dvmb-sn.de \nBei technischen Fragen oder Problemen bitte an jugend@dvmb-sn.de oder 017624482811 wenden. \n  \nWir haben neu auch einen Instagram Kanal „dvmb_lv_sn“\, wo wir unsere Veranstaltungen auch ankündigen. Bzw. hier auf der Webseite steht auch immer alles. https://www.dvmb-sn.de/informieren/veranstaltungen/ \n 
URL:https://lokal-vernetzen.de/single-event/stammtische-der-jugend-der-deutschen-vereinigung-morbus-bechterew/2023-10-30/
LOCATION:Online
CATEGORIES:Austausch / Vernetzung / Diskussion
ATTACH;FMTTYPE=image/jpeg:https://lokal-vernetzen.de/wp-content/uploads/2023/04/dvmb_logo.jpg
ORGANIZER;CN="Dvmb Landesverband Sachsen e.V":MAILTO:Jugend@dvmb-sn.de
END:VEVENT
BEGIN:VEVENT
DTSTART;TZID=Europe/Berlin:20231030T200000
DTEND;TZID=Europe/Berlin:20231030T200000
DTSTAMP:20260419T191025
CREATED:20230411T134942Z
LAST-MODIFIED:20230411T134942Z
UID:10006288-1698696000-1698696000@lokal-vernetzen.de
SUMMARY:Digitaler Stammtisch junger Betroffener mit Morbus Bechterew- monatlich
DESCRIPTION:Jeden letzten Montag ab 20 Uhr im Monat treffen sich junge Betroffene mit der chronisch entzündlichen Erkrankung Morbus Bechterew per Zoom\, um sich über verschiedene Themen rund um die Erkrankung oder zu Tipps/Impulsen zur Krankheitsbewältigung auszutauschen.\nNäheres auch auf www.dvmb-sn.de oder www.jugend-bechterew.de.\nFür Fragen stehen wir Ihnen gern unter Jugend@dvmb-sn.de zur Verfügung.
URL:https://lokal-vernetzen.de/single-event/digitaler-stammtisch-junger-betroffener-mit-morbus-bechterew-monatlich/2023-10-30/
LOCATION:Online
CATEGORIES:Austausch / Vernetzung / Diskussion
ATTACH;FMTTYPE=image/jpeg:https://lokal-vernetzen.de/wp-content/uploads/2023/04/dvmb_logo.jpg
ORGANIZER;CN="Dvmb Landesverband Sachsen e.V":MAILTO:Jugend@dvmb-sn.de
END:VEVENT
BEGIN:VEVENT
DTSTART;TZID=Europe/Berlin:20230925T200000
DTEND;TZID=Europe/Berlin:20230925T200000
DTSTAMP:20260419T191025
CREATED:20230411T134942Z
LAST-MODIFIED:20230411T134942Z
UID:10006287-1695672000-1695672000@lokal-vernetzen.de
SUMMARY:Digitaler Stammtisch junger Betroffener mit Morbus Bechterew- monatlich
DESCRIPTION:Jeden letzten Montag ab 20 Uhr im Monat treffen sich junge Betroffene mit der chronisch entzündlichen Erkrankung Morbus Bechterew per Zoom\, um sich über verschiedene Themen rund um die Erkrankung oder zu Tipps/Impulsen zur Krankheitsbewältigung auszutauschen.\nNäheres auch auf www.dvmb-sn.de oder www.jugend-bechterew.de.\nFür Fragen stehen wir Ihnen gern unter Jugend@dvmb-sn.de zur Verfügung.
URL:https://lokal-vernetzen.de/single-event/digitaler-stammtisch-junger-betroffener-mit-morbus-bechterew-monatlich/2023-09-25/
LOCATION:Online
CATEGORIES:Austausch / Vernetzung / Diskussion
ATTACH;FMTTYPE=image/jpeg:https://lokal-vernetzen.de/wp-content/uploads/2023/04/dvmb_logo.jpg
ORGANIZER;CN="Dvmb Landesverband Sachsen e.V":MAILTO:Jugend@dvmb-sn.de
END:VEVENT
BEGIN:VEVENT
DTSTART;TZID=Europe/Berlin:20230828T200000
DTEND;TZID=Europe/Berlin:20230828T200000
DTSTAMP:20260419T191025
CREATED:20230411T134942Z
LAST-MODIFIED:20230411T134942Z
UID:10006286-1693252800-1693252800@lokal-vernetzen.de
SUMMARY:Digitaler Stammtisch junger Betroffener mit Morbus Bechterew- monatlich
DESCRIPTION:Jeden letzten Montag ab 20 Uhr im Monat treffen sich junge Betroffene mit der chronisch entzündlichen Erkrankung Morbus Bechterew per Zoom\, um sich über verschiedene Themen rund um die Erkrankung oder zu Tipps/Impulsen zur Krankheitsbewältigung auszutauschen.\nNäheres auch auf www.dvmb-sn.de oder www.jugend-bechterew.de.\nFür Fragen stehen wir Ihnen gern unter Jugend@dvmb-sn.de zur Verfügung.
URL:https://lokal-vernetzen.de/single-event/digitaler-stammtisch-junger-betroffener-mit-morbus-bechterew-monatlich/2023-08-28/
LOCATION:Online
CATEGORIES:Austausch / Vernetzung / Diskussion
ATTACH;FMTTYPE=image/jpeg:https://lokal-vernetzen.de/wp-content/uploads/2023/04/dvmb_logo.jpg
ORGANIZER;CN="Dvmb Landesverband Sachsen e.V":MAILTO:Jugend@dvmb-sn.de
END:VEVENT
BEGIN:VEVENT
DTSTART;TZID=Europe/Berlin:20230731T200000
DTEND;TZID=Europe/Berlin:20230731T200000
DTSTAMP:20260419T191025
CREATED:20230411T134942Z
LAST-MODIFIED:20230411T134942Z
UID:10006285-1690833600-1690833600@lokal-vernetzen.de
SUMMARY:Digitaler Stammtisch junger Betroffener mit Morbus Bechterew- monatlich
DESCRIPTION:Jeden letzten Montag ab 20 Uhr im Monat treffen sich junge Betroffene mit der chronisch entzündlichen Erkrankung Morbus Bechterew per Zoom\, um sich über verschiedene Themen rund um die Erkrankung oder zu Tipps/Impulsen zur Krankheitsbewältigung auszutauschen.\nNäheres auch auf www.dvmb-sn.de oder www.jugend-bechterew.de.\nFür Fragen stehen wir Ihnen gern unter Jugend@dvmb-sn.de zur Verfügung.
URL:https://lokal-vernetzen.de/single-event/digitaler-stammtisch-junger-betroffener-mit-morbus-bechterew-monatlich/2023-07-31/
LOCATION:Online
CATEGORIES:Austausch / Vernetzung / Diskussion
ATTACH;FMTTYPE=image/jpeg:https://lokal-vernetzen.de/wp-content/uploads/2023/04/dvmb_logo.jpg
ORGANIZER;CN="Dvmb Landesverband Sachsen e.V":MAILTO:Jugend@dvmb-sn.de
END:VEVENT
BEGIN:VEVENT
DTSTART;TZID=Europe/Berlin:20230626T200000
DTEND;TZID=Europe/Berlin:20230626T200000
DTSTAMP:20260419T191025
CREATED:20230411T134942Z
LAST-MODIFIED:20230411T134942Z
UID:10006284-1687809600-1687809600@lokal-vernetzen.de
SUMMARY:Digitaler Stammtisch junger Betroffener mit Morbus Bechterew- monatlich
DESCRIPTION:Jeden letzten Montag ab 20 Uhr im Monat treffen sich junge Betroffene mit der chronisch entzündlichen Erkrankung Morbus Bechterew per Zoom\, um sich über verschiedene Themen rund um die Erkrankung oder zu Tipps/Impulsen zur Krankheitsbewältigung auszutauschen.\nNäheres auch auf www.dvmb-sn.de oder www.jugend-bechterew.de.\nFür Fragen stehen wir Ihnen gern unter Jugend@dvmb-sn.de zur Verfügung.
URL:https://lokal-vernetzen.de/single-event/digitaler-stammtisch-junger-betroffener-mit-morbus-bechterew-monatlich/2023-06-26/
LOCATION:Online
CATEGORIES:Austausch / Vernetzung / Diskussion
ATTACH;FMTTYPE=image/jpeg:https://lokal-vernetzen.de/wp-content/uploads/2023/04/dvmb_logo.jpg
ORGANIZER;CN="Dvmb Landesverband Sachsen e.V":MAILTO:Jugend@dvmb-sn.de
END:VEVENT
BEGIN:VEVENT
DTSTART;TZID=Europe/Berlin:20230529T200000
DTEND;TZID=Europe/Berlin:20230529T200000
DTSTAMP:20260419T191025
CREATED:20230411T134942Z
LAST-MODIFIED:20230411T134942Z
UID:10006283-1685390400-1685390400@lokal-vernetzen.de
SUMMARY:Digitaler Stammtisch junger Betroffener mit Morbus Bechterew- monatlich
DESCRIPTION:Jeden letzten Montag ab 20 Uhr im Monat treffen sich junge Betroffene mit der chronisch entzündlichen Erkrankung Morbus Bechterew per Zoom\, um sich über verschiedene Themen rund um die Erkrankung oder zu Tipps/Impulsen zur Krankheitsbewältigung auszutauschen.\nNäheres auch auf www.dvmb-sn.de oder www.jugend-bechterew.de.\nFür Fragen stehen wir Ihnen gern unter Jugend@dvmb-sn.de zur Verfügung.
URL:https://lokal-vernetzen.de/single-event/digitaler-stammtisch-junger-betroffener-mit-morbus-bechterew-monatlich/2023-05-29/
LOCATION:Online
CATEGORIES:Austausch / Vernetzung / Diskussion
ATTACH;FMTTYPE=image/jpeg:https://lokal-vernetzen.de/wp-content/uploads/2023/04/dvmb_logo.jpg
ORGANIZER;CN="Dvmb Landesverband Sachsen e.V":MAILTO:Jugend@dvmb-sn.de
END:VEVENT
BEGIN:VEVENT
DTSTART;TZID=Europe/Berlin:20230424T200000
DTEND;TZID=Europe/Berlin:20230424T200000
DTSTAMP:20260419T191025
CREATED:20230411T134942Z
LAST-MODIFIED:20230411T134942Z
UID:10006282-1682366400-1682366400@lokal-vernetzen.de
SUMMARY:Digitaler Stammtisch junger Betroffener mit Morbus Bechterew- monatlich
DESCRIPTION:Jeden letzten Montag ab 20 Uhr im Monat treffen sich junge Betroffene mit der chronisch entzündlichen Erkrankung Morbus Bechterew per Zoom\, um sich über verschiedene Themen rund um die Erkrankung oder zu Tipps/Impulsen zur Krankheitsbewältigung auszutauschen.\nNäheres auch auf www.dvmb-sn.de oder www.jugend-bechterew.de.\nFür Fragen stehen wir Ihnen gern unter Jugend@dvmb-sn.de zur Verfügung.
URL:https://lokal-vernetzen.de/single-event/digitaler-stammtisch-junger-betroffener-mit-morbus-bechterew-monatlich/2023-04-24/
LOCATION:Online
CATEGORIES:Austausch / Vernetzung / Diskussion
ATTACH;FMTTYPE=image/jpeg:https://lokal-vernetzen.de/wp-content/uploads/2023/04/dvmb_logo.jpg
ORGANIZER;CN="Dvmb Landesverband Sachsen e.V":MAILTO:Jugend@dvmb-sn.de
END:VEVENT
END:VCALENDAR