BEGIN:VCALENDAR
VERSION:2.0
PRODID:-//Digital vernetzen - Lokal handeln - ECPv6.15.20//NONSGML v1.0//EN
CALSCALE:GREGORIAN
METHOD:PUBLISH
X-WR-CALNAME:Digital vernetzen - Lokal handeln
X-ORIGINAL-URL:https://lokal-vernetzen.de
X-WR-CALDESC:Veranstaltungen für Digital vernetzen - Lokal handeln
REFRESH-INTERVAL;VALUE=DURATION:PT1H
X-Robots-Tag:noindex
X-PUBLISHED-TTL:PT1H
BEGIN:VTIMEZONE
TZID:Europe/Berlin
BEGIN:DAYLIGHT
TZOFFSETFROM:+0100
TZOFFSETTO:+0200
TZNAME:CEST
DTSTART:20230326T010000
END:DAYLIGHT
BEGIN:STANDARD
TZOFFSETFROM:+0200
TZOFFSETTO:+0100
TZNAME:CET
DTSTART:20231029T010000
END:STANDARD
BEGIN:DAYLIGHT
TZOFFSETFROM:+0100
TZOFFSETTO:+0200
TZNAME:CEST
DTSTART:20240331T010000
END:DAYLIGHT
BEGIN:STANDARD
TZOFFSETFROM:+0200
TZOFFSETTO:+0100
TZNAME:CET
DTSTART:20241027T010000
END:STANDARD
BEGIN:DAYLIGHT
TZOFFSETFROM:+0100
TZOFFSETTO:+0200
TZNAME:CEST
DTSTART:20250330T010000
END:DAYLIGHT
BEGIN:STANDARD
TZOFFSETFROM:+0200
TZOFFSETTO:+0100
TZNAME:CET
DTSTART:20251026T010000
END:STANDARD
BEGIN:DAYLIGHT
TZOFFSETFROM:+0100
TZOFFSETTO:+0200
TZNAME:CEST
DTSTART:20260329T010000
END:DAYLIGHT
BEGIN:STANDARD
TZOFFSETFROM:+0200
TZOFFSETTO:+0100
TZNAME:CET
DTSTART:20261025T010000
END:STANDARD
END:VTIMEZONE
BEGIN:VEVENT
DTSTART;TZID=Europe/Berlin:20251217T190000
DTEND;TZID=Europe/Berlin:20251217T204500
DTSTAMP:20260421T205844
CREATED:20240702T090216Z
LAST-MODIFIED:20241022T074453Z
UID:10009152-1765998000-1766004300@lokal-vernetzen.de
SUMMARY:Baumstammtisch
DESCRIPTION:Baumstammtisch \nHerzliche Einladung an alle\, die sich bei den regelmäßigen Treffen mit der kontinuierlichen Weiterentwicklung der Pflanzaktion Pirna 800 für eine baumstarke\, lebenswerte Stadt einbringen wollen. \nBei der Aktion Pirna 800 sind Einzelpersonen\, Unternehmen\, Vereine und andere Akteure im öffentlichen und privaten Bereich aufgerufen\, bis 2033 – wenn Pirna 800 Jahre alt wird – 800 Bäume im Stadtgebiet zu pflanzen und damit ein gutes Wohnklima für uns und zukünftige Generationen zu sichern.
URL:https://lokal-vernetzen.de/single-event/baumstammtisch/2025-12-17/
LOCATION:ZBBB Pirna\, Steinplatz 21\, 01796 Pirna
CATEGORIES:Aktionstage,an der frischen Luft,Osterzgebirge,Sächsische Schweiz
ATTACH;FMTTYPE=image/jpeg:https://lokal-vernetzen.de/wp-content/uploads/2024/07/665967c5cafcd.jpg
ORGANIZER;CN="Helge Goldhahn":MAILTO:info@pirna800.de
END:VEVENT
BEGIN:VEVENT
DTSTART;TZID=Europe/Berlin:20251126T190000
DTEND;TZID=Europe/Berlin:20251126T204500
DTSTAMP:20260421T205844
CREATED:20240702T090216Z
LAST-MODIFIED:20241022T074453Z
UID:10009151-1764183600-1764189900@lokal-vernetzen.de
SUMMARY:Baumstammtisch
DESCRIPTION:Baumstammtisch \nHerzliche Einladung an alle\, die sich bei den regelmäßigen Treffen mit der kontinuierlichen Weiterentwicklung der Pflanzaktion Pirna 800 für eine baumstarke\, lebenswerte Stadt einbringen wollen. \nBei der Aktion Pirna 800 sind Einzelpersonen\, Unternehmen\, Vereine und andere Akteure im öffentlichen und privaten Bereich aufgerufen\, bis 2033 – wenn Pirna 800 Jahre alt wird – 800 Bäume im Stadtgebiet zu pflanzen und damit ein gutes Wohnklima für uns und zukünftige Generationen zu sichern.
URL:https://lokal-vernetzen.de/single-event/baumstammtisch/2025-11-26/
LOCATION:ZBBB Pirna\, Steinplatz 21\, 01796 Pirna
CATEGORIES:Aktionstage,an der frischen Luft,Osterzgebirge,Sächsische Schweiz
ATTACH;FMTTYPE=image/jpeg:https://lokal-vernetzen.de/wp-content/uploads/2024/07/665967c5cafcd.jpg
ORGANIZER;CN="Helge Goldhahn":MAILTO:info@pirna800.de
END:VEVENT
BEGIN:VEVENT
DTSTART;TZID=Europe/Berlin:20251015T190000
DTEND;TZID=Europe/Berlin:20251015T204500
DTSTAMP:20260421T205844
CREATED:20240702T090216Z
LAST-MODIFIED:20241022T074453Z
UID:10009150-1760554800-1760561100@lokal-vernetzen.de
SUMMARY:Baumstammtisch
DESCRIPTION:Baumstammtisch \nHerzliche Einladung an alle\, die sich bei den regelmäßigen Treffen mit der kontinuierlichen Weiterentwicklung der Pflanzaktion Pirna 800 für eine baumstarke\, lebenswerte Stadt einbringen wollen. \nBei der Aktion Pirna 800 sind Einzelpersonen\, Unternehmen\, Vereine und andere Akteure im öffentlichen und privaten Bereich aufgerufen\, bis 2033 – wenn Pirna 800 Jahre alt wird – 800 Bäume im Stadtgebiet zu pflanzen und damit ein gutes Wohnklima für uns und zukünftige Generationen zu sichern.
URL:https://lokal-vernetzen.de/single-event/baumstammtisch/2025-10-15/
LOCATION:ZBBB Pirna\, Steinplatz 21\, 01796 Pirna
CATEGORIES:Aktionstage,an der frischen Luft,Osterzgebirge,Sächsische Schweiz
ATTACH;FMTTYPE=image/jpeg:https://lokal-vernetzen.de/wp-content/uploads/2024/07/665967c5cafcd.jpg
ORGANIZER;CN="Helge Goldhahn":MAILTO:info@pirna800.de
END:VEVENT
BEGIN:VEVENT
DTSTART;TZID=Europe/Berlin:20250917T190000
DTEND;TZID=Europe/Berlin:20250917T204500
DTSTAMP:20260421T205844
CREATED:20240702T090216Z
LAST-MODIFIED:20241022T074453Z
UID:10009149-1758135600-1758141900@lokal-vernetzen.de
SUMMARY:Baumstammtisch
DESCRIPTION:Baumstammtisch \nHerzliche Einladung an alle\, die sich bei den regelmäßigen Treffen mit der kontinuierlichen Weiterentwicklung der Pflanzaktion Pirna 800 für eine baumstarke\, lebenswerte Stadt einbringen wollen. \nBei der Aktion Pirna 800 sind Einzelpersonen\, Unternehmen\, Vereine und andere Akteure im öffentlichen und privaten Bereich aufgerufen\, bis 2033 – wenn Pirna 800 Jahre alt wird – 800 Bäume im Stadtgebiet zu pflanzen und damit ein gutes Wohnklima für uns und zukünftige Generationen zu sichern.
URL:https://lokal-vernetzen.de/single-event/baumstammtisch/2025-09-17/
LOCATION:ZBBB Pirna\, Steinplatz 21\, 01796 Pirna
CATEGORIES:Aktionstage,an der frischen Luft,Osterzgebirge,Sächsische Schweiz
ATTACH;FMTTYPE=image/jpeg:https://lokal-vernetzen.de/wp-content/uploads/2024/07/665967c5cafcd.jpg
ORGANIZER;CN="Helge Goldhahn":MAILTO:info@pirna800.de
END:VEVENT
BEGIN:VEVENT
DTSTART;TZID=Europe/Berlin:20250820T190000
DTEND;TZID=Europe/Berlin:20250820T204500
DTSTAMP:20260421T205844
CREATED:20240702T090216Z
LAST-MODIFIED:20241022T074453Z
UID:10009148-1755716400-1755722700@lokal-vernetzen.de
SUMMARY:Baumstammtisch
DESCRIPTION:Baumstammtisch \nHerzliche Einladung an alle\, die sich bei den regelmäßigen Treffen mit der kontinuierlichen Weiterentwicklung der Pflanzaktion Pirna 800 für eine baumstarke\, lebenswerte Stadt einbringen wollen. \nBei der Aktion Pirna 800 sind Einzelpersonen\, Unternehmen\, Vereine und andere Akteure im öffentlichen und privaten Bereich aufgerufen\, bis 2033 – wenn Pirna 800 Jahre alt wird – 800 Bäume im Stadtgebiet zu pflanzen und damit ein gutes Wohnklima für uns und zukünftige Generationen zu sichern.
URL:https://lokal-vernetzen.de/single-event/baumstammtisch/2025-08-20/
LOCATION:ZBBB Pirna\, Steinplatz 21\, 01796 Pirna
CATEGORIES:Aktionstage,an der frischen Luft,Osterzgebirge,Sächsische Schweiz
ATTACH;FMTTYPE=image/jpeg:https://lokal-vernetzen.de/wp-content/uploads/2024/07/665967c5cafcd.jpg
ORGANIZER;CN="Helge Goldhahn":MAILTO:info@pirna800.de
END:VEVENT
BEGIN:VEVENT
DTSTART;TZID=Europe/Berlin:20250716T190000
DTEND;TZID=Europe/Berlin:20250716T204500
DTSTAMP:20260421T205844
CREATED:20240702T090216Z
LAST-MODIFIED:20241022T074453Z
UID:10009147-1752692400-1752698700@lokal-vernetzen.de
SUMMARY:Baumstammtisch
DESCRIPTION:Baumstammtisch \nHerzliche Einladung an alle\, die sich bei den regelmäßigen Treffen mit der kontinuierlichen Weiterentwicklung der Pflanzaktion Pirna 800 für eine baumstarke\, lebenswerte Stadt einbringen wollen. \nBei der Aktion Pirna 800 sind Einzelpersonen\, Unternehmen\, Vereine und andere Akteure im öffentlichen und privaten Bereich aufgerufen\, bis 2033 – wenn Pirna 800 Jahre alt wird – 800 Bäume im Stadtgebiet zu pflanzen und damit ein gutes Wohnklima für uns und zukünftige Generationen zu sichern.
URL:https://lokal-vernetzen.de/single-event/baumstammtisch/2025-07-16/
LOCATION:ZBBB Pirna\, Steinplatz 21\, 01796 Pirna
CATEGORIES:Aktionstage,an der frischen Luft,Osterzgebirge,Sächsische Schweiz
ATTACH;FMTTYPE=image/jpeg:https://lokal-vernetzen.de/wp-content/uploads/2024/07/665967c5cafcd.jpg
ORGANIZER;CN="Helge Goldhahn":MAILTO:info@pirna800.de
END:VEVENT
BEGIN:VEVENT
DTSTART;TZID=Europe/Berlin:20250618T190000
DTEND;TZID=Europe/Berlin:20250618T204500
DTSTAMP:20260421T205844
CREATED:20240702T090216Z
LAST-MODIFIED:20241022T074453Z
UID:10009146-1750273200-1750279500@lokal-vernetzen.de
SUMMARY:Baumstammtisch
DESCRIPTION:Baumstammtisch \nHerzliche Einladung an alle\, die sich bei den regelmäßigen Treffen mit der kontinuierlichen Weiterentwicklung der Pflanzaktion Pirna 800 für eine baumstarke\, lebenswerte Stadt einbringen wollen. \nBei der Aktion Pirna 800 sind Einzelpersonen\, Unternehmen\, Vereine und andere Akteure im öffentlichen und privaten Bereich aufgerufen\, bis 2033 – wenn Pirna 800 Jahre alt wird – 800 Bäume im Stadtgebiet zu pflanzen und damit ein gutes Wohnklima für uns und zukünftige Generationen zu sichern.
URL:https://lokal-vernetzen.de/single-event/baumstammtisch/2025-06-18/
LOCATION:ZBBB Pirna\, Steinplatz 21\, 01796 Pirna
CATEGORIES:Aktionstage,an der frischen Luft,Osterzgebirge,Sächsische Schweiz
ATTACH;FMTTYPE=image/jpeg:https://lokal-vernetzen.de/wp-content/uploads/2024/07/665967c5cafcd.jpg
ORGANIZER;CN="Helge Goldhahn":MAILTO:info@pirna800.de
END:VEVENT
BEGIN:VEVENT
DTSTART;TZID=Europe/Berlin:20250521T190000
DTEND;TZID=Europe/Berlin:20250521T204500
DTSTAMP:20260421T205844
CREATED:20240702T090216Z
LAST-MODIFIED:20241022T074453Z
UID:10009145-1747854000-1747860300@lokal-vernetzen.de
SUMMARY:Baumstammtisch
DESCRIPTION:Baumstammtisch \nHerzliche Einladung an alle\, die sich bei den regelmäßigen Treffen mit der kontinuierlichen Weiterentwicklung der Pflanzaktion Pirna 800 für eine baumstarke\, lebenswerte Stadt einbringen wollen. \nBei der Aktion Pirna 800 sind Einzelpersonen\, Unternehmen\, Vereine und andere Akteure im öffentlichen und privaten Bereich aufgerufen\, bis 2033 – wenn Pirna 800 Jahre alt wird – 800 Bäume im Stadtgebiet zu pflanzen und damit ein gutes Wohnklima für uns und zukünftige Generationen zu sichern.
URL:https://lokal-vernetzen.de/single-event/baumstammtisch/2025-05-21/
LOCATION:ZBBB Pirna\, Steinplatz 21\, 01796 Pirna
CATEGORIES:Aktionstage,an der frischen Luft,Osterzgebirge,Sächsische Schweiz
ATTACH;FMTTYPE=image/jpeg:https://lokal-vernetzen.de/wp-content/uploads/2024/07/665967c5cafcd.jpg
ORGANIZER;CN="Helge Goldhahn":MAILTO:info@pirna800.de
END:VEVENT
BEGIN:VEVENT
DTSTART;TZID=Europe/Berlin:20250416T190000
DTEND;TZID=Europe/Berlin:20250416T204500
DTSTAMP:20260421T205844
CREATED:20240702T090216Z
LAST-MODIFIED:20241022T074453Z
UID:10009144-1744830000-1744836300@lokal-vernetzen.de
SUMMARY:Baumstammtisch
DESCRIPTION:Baumstammtisch \nHerzliche Einladung an alle\, die sich bei den regelmäßigen Treffen mit der kontinuierlichen Weiterentwicklung der Pflanzaktion Pirna 800 für eine baumstarke\, lebenswerte Stadt einbringen wollen. \nBei der Aktion Pirna 800 sind Einzelpersonen\, Unternehmen\, Vereine und andere Akteure im öffentlichen und privaten Bereich aufgerufen\, bis 2033 – wenn Pirna 800 Jahre alt wird – 800 Bäume im Stadtgebiet zu pflanzen und damit ein gutes Wohnklima für uns und zukünftige Generationen zu sichern.
URL:https://lokal-vernetzen.de/single-event/baumstammtisch/2025-04-16/
LOCATION:ZBBB Pirna\, Steinplatz 21\, 01796 Pirna
CATEGORIES:Aktionstage,an der frischen Luft,Osterzgebirge,Sächsische Schweiz
ATTACH;FMTTYPE=image/jpeg:https://lokal-vernetzen.de/wp-content/uploads/2024/07/665967c5cafcd.jpg
ORGANIZER;CN="Helge Goldhahn":MAILTO:info@pirna800.de
END:VEVENT
BEGIN:VEVENT
DTSTART;TZID=Europe/Berlin:20250319T190000
DTEND;TZID=Europe/Berlin:20250319T204500
DTSTAMP:20260421T205844
CREATED:20240702T090216Z
LAST-MODIFIED:20241022T074453Z
UID:10009143-1742410800-1742417100@lokal-vernetzen.de
SUMMARY:Baumstammtisch
DESCRIPTION:Baumstammtisch \nHerzliche Einladung an alle\, die sich bei den regelmäßigen Treffen mit der kontinuierlichen Weiterentwicklung der Pflanzaktion Pirna 800 für eine baumstarke\, lebenswerte Stadt einbringen wollen. \nBei der Aktion Pirna 800 sind Einzelpersonen\, Unternehmen\, Vereine und andere Akteure im öffentlichen und privaten Bereich aufgerufen\, bis 2033 – wenn Pirna 800 Jahre alt wird – 800 Bäume im Stadtgebiet zu pflanzen und damit ein gutes Wohnklima für uns und zukünftige Generationen zu sichern.
URL:https://lokal-vernetzen.de/single-event/baumstammtisch/2025-03-19/
LOCATION:ZBBB Pirna\, Steinplatz 21\, 01796 Pirna
CATEGORIES:Aktionstage,an der frischen Luft,Osterzgebirge,Sächsische Schweiz
ATTACH;FMTTYPE=image/jpeg:https://lokal-vernetzen.de/wp-content/uploads/2024/07/665967c5cafcd.jpg
ORGANIZER;CN="Helge Goldhahn":MAILTO:info@pirna800.de
END:VEVENT
BEGIN:VEVENT
DTSTART;TZID=Europe/Berlin:20250219T190000
DTEND;TZID=Europe/Berlin:20250219T204500
DTSTAMP:20260421T205844
CREATED:20240702T090216Z
LAST-MODIFIED:20241022T074453Z
UID:10009142-1739991600-1739997900@lokal-vernetzen.de
SUMMARY:Baumstammtisch
DESCRIPTION:Baumstammtisch \nHerzliche Einladung an alle\, die sich bei den regelmäßigen Treffen mit der kontinuierlichen Weiterentwicklung der Pflanzaktion Pirna 800 für eine baumstarke\, lebenswerte Stadt einbringen wollen. \nBei der Aktion Pirna 800 sind Einzelpersonen\, Unternehmen\, Vereine und andere Akteure im öffentlichen und privaten Bereich aufgerufen\, bis 2033 – wenn Pirna 800 Jahre alt wird – 800 Bäume im Stadtgebiet zu pflanzen und damit ein gutes Wohnklima für uns und zukünftige Generationen zu sichern.
URL:https://lokal-vernetzen.de/single-event/baumstammtisch/2025-02-19/
LOCATION:ZBBB Pirna\, Steinplatz 21\, 01796 Pirna
CATEGORIES:Aktionstage,an der frischen Luft,Osterzgebirge,Sächsische Schweiz
ATTACH;FMTTYPE=image/jpeg:https://lokal-vernetzen.de/wp-content/uploads/2024/07/665967c5cafcd.jpg
ORGANIZER;CN="Helge Goldhahn":MAILTO:info@pirna800.de
END:VEVENT
BEGIN:VEVENT
DTSTART;TZID=Europe/Berlin:20250115T190000
DTEND;TZID=Europe/Berlin:20250115T204500
DTSTAMP:20260421T205844
CREATED:20240702T090216Z
LAST-MODIFIED:20241022T074453Z
UID:10009141-1736967600-1736973900@lokal-vernetzen.de
SUMMARY:Baumstammtisch
DESCRIPTION:Baumstammtisch \nHerzliche Einladung an alle\, die sich bei den regelmäßigen Treffen mit der kontinuierlichen Weiterentwicklung der Pflanzaktion Pirna 800 für eine baumstarke\, lebenswerte Stadt einbringen wollen. \nBei der Aktion Pirna 800 sind Einzelpersonen\, Unternehmen\, Vereine und andere Akteure im öffentlichen und privaten Bereich aufgerufen\, bis 2033 – wenn Pirna 800 Jahre alt wird – 800 Bäume im Stadtgebiet zu pflanzen und damit ein gutes Wohnklima für uns und zukünftige Generationen zu sichern.
URL:https://lokal-vernetzen.de/single-event/baumstammtisch/2025-01-15/
LOCATION:ZBBB Pirna\, Steinplatz 21\, 01796 Pirna
CATEGORIES:Aktionstage,an der frischen Luft,Osterzgebirge,Sächsische Schweiz
ATTACH;FMTTYPE=image/jpeg:https://lokal-vernetzen.de/wp-content/uploads/2024/07/665967c5cafcd.jpg
ORGANIZER;CN="Helge Goldhahn":MAILTO:info@pirna800.de
END:VEVENT
BEGIN:VEVENT
DTSTART;TZID=Europe/Berlin:20241218T190000
DTEND;TZID=Europe/Berlin:20241218T204500
DTSTAMP:20260421T205844
CREATED:20240702T090216Z
LAST-MODIFIED:20241022T074453Z
UID:10008338-1734548400-1734554700@lokal-vernetzen.de
SUMMARY:Baumstammtisch
DESCRIPTION:Baumstammtisch \nHerzliche Einladung an alle\, die sich bei den regelmäßigen Treffen mit der kontinuierlichen Weiterentwicklung der Pflanzaktion Pirna 800 für eine baumstarke\, lebenswerte Stadt einbringen wollen. \nBei der Aktion Pirna 800 sind Einzelpersonen\, Unternehmen\, Vereine und andere Akteure im öffentlichen und privaten Bereich aufgerufen\, bis 2033 – wenn Pirna 800 Jahre alt wird – 800 Bäume im Stadtgebiet zu pflanzen und damit ein gutes Wohnklima für uns und zukünftige Generationen zu sichern.
URL:https://lokal-vernetzen.de/single-event/baumstammtisch/2024-12-18/
LOCATION:ZBBB Pirna\, Steinplatz 21\, 01796 Pirna
CATEGORIES:Aktionstage,an der frischen Luft,Osterzgebirge,Sächsische Schweiz
ATTACH;FMTTYPE=image/jpeg:https://lokal-vernetzen.de/wp-content/uploads/2024/07/665967c5cafcd.jpg
ORGANIZER;CN="Helge Goldhahn":MAILTO:info@pirna800.de
END:VEVENT
BEGIN:VEVENT
DTSTART;TZID=Europe/Berlin:20241120T190000
DTEND;TZID=Europe/Berlin:20241120T204500
DTSTAMP:20260421T205844
CREATED:20240702T090216Z
LAST-MODIFIED:20241022T074453Z
UID:10008337-1732129200-1732135500@lokal-vernetzen.de
SUMMARY:Baumstammtisch
DESCRIPTION:Baumstammtisch \nHerzliche Einladung an alle\, die sich bei den regelmäßigen Treffen mit der kontinuierlichen Weiterentwicklung der Pflanzaktion Pirna 800 für eine baumstarke\, lebenswerte Stadt einbringen wollen. \nBei der Aktion Pirna 800 sind Einzelpersonen\, Unternehmen\, Vereine und andere Akteure im öffentlichen und privaten Bereich aufgerufen\, bis 2033 – wenn Pirna 800 Jahre alt wird – 800 Bäume im Stadtgebiet zu pflanzen und damit ein gutes Wohnklima für uns und zukünftige Generationen zu sichern.
URL:https://lokal-vernetzen.de/single-event/baumstammtisch/2024-11-20/
LOCATION:ZBBB Pirna\, Steinplatz 21\, 01796 Pirna
CATEGORIES:Aktionstage,an der frischen Luft,Osterzgebirge,Sächsische Schweiz
ATTACH;FMTTYPE=image/jpeg:https://lokal-vernetzen.de/wp-content/uploads/2024/07/665967c5cafcd.jpg
ORGANIZER;CN="Helge Goldhahn":MAILTO:info@pirna800.de
END:VEVENT
BEGIN:VEVENT
DTSTART;TZID=Europe/Berlin:20241016T190000
DTEND;TZID=Europe/Berlin:20241016T204500
DTSTAMP:20260421T205844
CREATED:20240702T090216Z
LAST-MODIFIED:20241022T074453Z
UID:10008336-1729105200-1729111500@lokal-vernetzen.de
SUMMARY:Baumstammtisch
DESCRIPTION:Baumstammtisch \nHerzliche Einladung an alle\, die sich bei den regelmäßigen Treffen mit der kontinuierlichen Weiterentwicklung der Pflanzaktion Pirna 800 für eine baumstarke\, lebenswerte Stadt einbringen wollen. \nBei der Aktion Pirna 800 sind Einzelpersonen\, Unternehmen\, Vereine und andere Akteure im öffentlichen und privaten Bereich aufgerufen\, bis 2033 – wenn Pirna 800 Jahre alt wird – 800 Bäume im Stadtgebiet zu pflanzen und damit ein gutes Wohnklima für uns und zukünftige Generationen zu sichern.
URL:https://lokal-vernetzen.de/single-event/baumstammtisch/2024-10-16/
LOCATION:ZBBB Pirna\, Steinplatz 21\, 01796 Pirna
CATEGORIES:Aktionstage,an der frischen Luft,Osterzgebirge,Sächsische Schweiz
ATTACH;FMTTYPE=image/jpeg:https://lokal-vernetzen.de/wp-content/uploads/2024/07/665967c5cafcd.jpg
ORGANIZER;CN="Helge Goldhahn":MAILTO:info@pirna800.de
END:VEVENT
BEGIN:VEVENT
DTSTART;TZID=Europe/Berlin:20240918T190000
DTEND;TZID=Europe/Berlin:20240918T204500
DTSTAMP:20260421T205844
CREATED:20240702T090216Z
LAST-MODIFIED:20241022T074453Z
UID:10008335-1726686000-1726692300@lokal-vernetzen.de
SUMMARY:Baumstammtisch
DESCRIPTION:Baumstammtisch \nHerzliche Einladung an alle\, die sich bei den regelmäßigen Treffen mit der kontinuierlichen Weiterentwicklung der Pflanzaktion Pirna 800 für eine baumstarke\, lebenswerte Stadt einbringen wollen. \nBei der Aktion Pirna 800 sind Einzelpersonen\, Unternehmen\, Vereine und andere Akteure im öffentlichen und privaten Bereich aufgerufen\, bis 2033 – wenn Pirna 800 Jahre alt wird – 800 Bäume im Stadtgebiet zu pflanzen und damit ein gutes Wohnklima für uns und zukünftige Generationen zu sichern.
URL:https://lokal-vernetzen.de/single-event/baumstammtisch/2024-09-18/
LOCATION:ZBBB Pirna\, Steinplatz 21\, 01796 Pirna
CATEGORIES:Aktionstage,an der frischen Luft,Osterzgebirge,Sächsische Schweiz
ATTACH;FMTTYPE=image/jpeg:https://lokal-vernetzen.de/wp-content/uploads/2024/07/665967c5cafcd.jpg
ORGANIZER;CN="Helge Goldhahn":MAILTO:info@pirna800.de
END:VEVENT
BEGIN:VEVENT
DTSTART;TZID=Europe/Berlin:20240821T190000
DTEND;TZID=Europe/Berlin:20240821T204500
DTSTAMP:20260421T205844
CREATED:20240702T090216Z
LAST-MODIFIED:20241022T074453Z
UID:10008334-1724266800-1724273100@lokal-vernetzen.de
SUMMARY:Baumstammtisch
DESCRIPTION:Baumstammtisch \nHerzliche Einladung an alle\, die sich bei den regelmäßigen Treffen mit der kontinuierlichen Weiterentwicklung der Pflanzaktion Pirna 800 für eine baumstarke\, lebenswerte Stadt einbringen wollen. \nBei der Aktion Pirna 800 sind Einzelpersonen\, Unternehmen\, Vereine und andere Akteure im öffentlichen und privaten Bereich aufgerufen\, bis 2033 – wenn Pirna 800 Jahre alt wird – 800 Bäume im Stadtgebiet zu pflanzen und damit ein gutes Wohnklima für uns und zukünftige Generationen zu sichern.
URL:https://lokal-vernetzen.de/single-event/baumstammtisch/2024-08-21/
LOCATION:ZBBB Pirna\, Steinplatz 21\, 01796 Pirna
CATEGORIES:Aktionstage,an der frischen Luft,Osterzgebirge,Sächsische Schweiz
ATTACH;FMTTYPE=image/jpeg:https://lokal-vernetzen.de/wp-content/uploads/2024/07/665967c5cafcd.jpg
ORGANIZER;CN="Helge Goldhahn":MAILTO:info@pirna800.de
END:VEVENT
BEGIN:VEVENT
DTSTART;TZID=Europe/Berlin:20240717T190000
DTEND;TZID=Europe/Berlin:20240717T204500
DTSTAMP:20260421T205844
CREATED:20240702T090216Z
LAST-MODIFIED:20241022T074453Z
UID:10008333-1721242800-1721249100@lokal-vernetzen.de
SUMMARY:Baumstammtisch
DESCRIPTION:Baumstammtisch \nHerzliche Einladung an alle\, die sich bei den regelmäßigen Treffen mit der kontinuierlichen Weiterentwicklung der Pflanzaktion Pirna 800 für eine baumstarke\, lebenswerte Stadt einbringen wollen. \nBei der Aktion Pirna 800 sind Einzelpersonen\, Unternehmen\, Vereine und andere Akteure im öffentlichen und privaten Bereich aufgerufen\, bis 2033 – wenn Pirna 800 Jahre alt wird – 800 Bäume im Stadtgebiet zu pflanzen und damit ein gutes Wohnklima für uns und zukünftige Generationen zu sichern.
URL:https://lokal-vernetzen.de/single-event/baumstammtisch/2024-07-17/
LOCATION:ZBBB Pirna\, Steinplatz 21\, 01796 Pirna
CATEGORIES:Aktionstage,an der frischen Luft,Osterzgebirge,Sächsische Schweiz
ATTACH;FMTTYPE=image/jpeg:https://lokal-vernetzen.de/wp-content/uploads/2024/07/665967c5cafcd.jpg
ORGANIZER;CN="Helge Goldhahn":MAILTO:info@pirna800.de
END:VEVENT
BEGIN:VEVENT
DTSTART;TZID=Europe/Berlin:20240206T190000
DTEND;TZID=Europe/Berlin:20240206T210000
DTSTAMP:20260421T205844
CREATED:20240123T122925Z
LAST-MODIFIED:20240123T122925Z
UID:10006844-1707246000-1707253200@lokal-vernetzen.de
SUMMARY:1. Pflanzertreffen Pirna 800 - für gestandene Pflanzer und die\, die es gern werden wollen
DESCRIPTION:Kommen Sie über die Pflanzung von 800 Bäumen bis 2033 in Pirna bei einem kleinen Imbiss mit Getränken ins Gespräch.\nHier können Sie sich mit Menschen austauschen\, die in Pirna schon Bäume im Rahmen der Aktion Pirna 800 gepflanzt haben. Sie sind eingeladen\, von Ihren Erfahrungen bei Baumpflanzungen zu berichten und neue Ideen für die weitere Entwicklung der Pflanzaktion Pirna 800 – 800 neue Bäume für 800 Jahre Pirna zu teilen. So entsteht ein gemeinsames Engagement\, das zu einer lebenswerten Stadt für uns und unsere Folgegenerationen führt.\nAuf dem Sonnenstein gab es bis vor wenigen Jahren regelmäßig dendrologische Spaziergänge in Kooperation mit dem ATZE e.V. In geführten Touren oder individuell mit 4 Heften konnten Interessierte ausgewählte Bäume zwischen den Hochhäusern entdecken. Also der ideale Stadtteil für das 1. Pflanzertreffen von Pirna 800. \nFoto: Helge Goldhahn
URL:https://lokal-vernetzen.de/single-event/1-pflanzertreffen-pirna-800-fuer-gestandene-pflanzer-und-die-die-es-gern-werden-wollen/
LOCATION:Soziokulturelles Zentrum Sonnenstein\, Varkaufsring 1b\, 01796 Pirna
CATEGORIES:Aktionstage,an der frischen Luft,Austausch / Vernetzung / Diskussion
ATTACH;FMTTYPE=image/jpeg:https://lokal-vernetzen.de/wp-content/uploads/2024/01/65aa3f4c56b32.jpg
ORGANIZER;CN="Helge Goldhahn":MAILTO:info@pirna800.de
END:VEVENT
END:VCALENDAR