BEGIN:VCALENDAR
VERSION:2.0
PRODID:-//Digital vernetzen - Lokal handeln - ECPv6.15.20//NONSGML v1.0//EN
CALSCALE:GREGORIAN
METHOD:PUBLISH
X-WR-CALNAME:Digital vernetzen - Lokal handeln
X-ORIGINAL-URL:https://lokal-vernetzen.de
X-WR-CALDESC:Veranstaltungen für Digital vernetzen - Lokal handeln
REFRESH-INTERVAL;VALUE=DURATION:PT1H
X-Robots-Tag:noindex
X-PUBLISHED-TTL:PT1H
BEGIN:VTIMEZONE
TZID:Europe/Berlin
BEGIN:DAYLIGHT
TZOFFSETFROM:+0100
TZOFFSETTO:+0200
TZNAME:CEST
DTSTART:20230326T010000
END:DAYLIGHT
BEGIN:STANDARD
TZOFFSETFROM:+0200
TZOFFSETTO:+0100
TZNAME:CET
DTSTART:20231029T010000
END:STANDARD
BEGIN:DAYLIGHT
TZOFFSETFROM:+0100
TZOFFSETTO:+0200
TZNAME:CEST
DTSTART:20240331T010000
END:DAYLIGHT
BEGIN:STANDARD
TZOFFSETFROM:+0200
TZOFFSETTO:+0100
TZNAME:CET
DTSTART:20241027T010000
END:STANDARD
BEGIN:DAYLIGHT
TZOFFSETFROM:+0100
TZOFFSETTO:+0200
TZNAME:CEST
DTSTART:20250330T010000
END:DAYLIGHT
BEGIN:STANDARD
TZOFFSETFROM:+0200
TZOFFSETTO:+0100
TZNAME:CET
DTSTART:20251026T010000
END:STANDARD
END:VTIMEZONE
BEGIN:VEVENT
DTSTART;TZID=Europe/Berlin:20240527T173000
DTEND;TZID=Europe/Berlin:20240527T173000
DTSTAMP:20260419T153013
CREATED:20240522T073629Z
LAST-MODIFIED:20240522T074038Z
UID:10007808-1716831000-1716831000@lokal-vernetzen.de
SUMMARY:Frauen im Stadtrat - die weibliche Seite von Pirna
DESCRIPTION:Am 9. Juni wählt Pirna den Stadtrat\nKandidatinnen von demokratischen Partein und Wählervereinigungen kommen zusammen\, um sich und ihre Ideen vorzustellen und unterscheidliche Schwerpunkte der jeweiligen Wahlprogramme zu diskutieren. Natürlich geht es auch darum\, sich gegenseitig zu stärken für kommende Herausforderungen. Dabei soll kein Wort gegen Männer oder Männlichkeit fallen\, aber viele ermutigende Worte für mehr Frauen in Verantwortung und für mehr Weiblichkeit. Die Initiative freut sich auf viel weibliches und männliches unterstützendes Publikum.
URL:https://lokal-vernetzen.de/single-event/frauen-im-stadtrat-die-weibliche-seite-von-pirna/
LOCATION:Marktplatz Pirna\, Am Markt 1/2\, Pirna\, 01796
CATEGORIES:Aktionstage,an der frischen Luft,Austausch / Vernetzung / Diskussion,Sächsische Schweiz
ATTACH;FMTTYPE=image/jpeg:https://lokal-vernetzen.de/wp-content/uploads/2024/05/PHOTO-2024-05-14-22-53-40.jpg
END:VEVENT
END:VCALENDAR